Workbook

Sheet สรุปข้อมูลบุคลากร
A1: ข้อมูลการตั้งปณิธานความดีของบุคลากร สป.กษ. ประจำปีงบประมาณ พ.ศ. 2565
A3: ลำดับ | B3: ชื่อหน่วยงาน | C3: 1. จำนวนข้าราชการ (คน) | D3: 2. จำนวนลูกจ้างประจำ (คน) | E3: 3. จำนวนพนักงานราชการ (คน) | F3: 4. จำนวนจ้างเหมา (คน) | G3: 5. จำนวนอื่นๆ เช่น พนักงานกองทุนฯ เป็นต้น (คน) | H3: บุคลากรทั้งหมด (คน) | I3: จำนวนบุคลากรที่ตั้งปณิธาน (คน) | J3: คิดเป็นร้อยละ | N3: ไม่แจ้งจำนวน+ไม่ตั้ง | O3: แจ้งจำนวน+ไม่ตั้ง | P3: ไม่แจ้งจำนวน+ตั้งแล้ว | Q3: ตั้งแล้วเกิน50 | R3: ตั้งแล้วไม่ถึง50 | S3: ตั้งครบ100เปอร์
A4: รวมทั้งหมด (คน) | H4: =H26+H46+H65+H81+H103+H112 -> 2650 | I4: =I26+I46+I65+I81+I103+I112 -> 2168 | J4: =SUM((I4*100)/H4) -> 81.811321 | L4: หน่วยงาน | M4: 96 | N4: 0 | O4: 0 | P4: 0 | Q4: 95 | R4: 1 | S4: 28 หน่วยงาน
A5: ส่วนกลาง
A6: 1 | B6: กองกลาง | C6: 21 | D6: 0 | E6: 6 | F6: 17 | G6: 0 | H6: =SUM(C6:G6) -> 44 | I6: 26 | J6: =SUM((I6*100)/H6) -> 59.090909
A7: 2 | B7: กองการเจ้าหน้าที่ | C7: 44 | D7: 2 | E7: 19 | F7: 1 | G7: 4 | H7: =SUM(C7:G7) -> 70 | I7: 58 | J7: =SUM((I7*100)/H7) -> 82.857143
A8: 3 | B8: กองเกษตรสารนิเทศ | C8: 18 | D8: 5 | E8: 11 | F8: 15 | G8: 0 | H8: =SUM(C8:G8) -> 49 | I8: 37 | J8: =SUM((I8*100)/H8) -> 75.510204
A9: 4 | B9: กองคลัง | C9: 49 | D9: 15 | E9: 24 | F9: 7 | G9: 2 | H9: =SUM(C9:G9) -> 97 | I9: 53 | J9: =SUM((I9*100)/H9) -> 54.639175
A10: 5 | B10: กองนโยบายเทคโนโลยีเพื่อการเกษตรและเกษตรกรรมยั่งยืน | C10: 21 | D10: 0 | E10: 9 | F10: 11 | G10: 0 | H10: =SUM(C10:G10) -> 41 | I10: 41 | J10: =SUM((I10*100)/H10) -> 100
A11: 6 | B11: กองบริหารงานกองทุนสงเคราะห์เกษตรกร | C11: 5 | D11: 0 | E11: 0 | F11: 1 | G11: 22 | H11: =SUM(C11:G11) -> 28 | I11: 27 | J11: =SUM((I11*100)/H11) -> 96.428571
A12: 7 | B12: กองประสานงานโครงการพระราชดำริ | C12: 7 | D12: 0 | E12: 4 | F12: 0 | G12: 0 | H12: 9 | I12: 6 | J12: =SUM((I12*100)/H12) -> 66.666667
A13: 8 | B13: ศูนย์เทคโนโลยีสารสนเทศและการสื่อสาร | C13: 19 | D13: 0 | E13: 9 | F13: 4 | G13: 0 | H13: =SUM(C13:G13) -> 32 | I13: 32 | J13: =SUM((I13*100)/H13) -> 100
A14: 9 | B14: ศูนย์ปฏิบัติการต่อต้านการทุจริต | C14: 4 | D14: 0 | E14: 4 | F14: 1 | G14: 0 | H14: =SUM(C14:G14) -> 9 | I14: 9 | J14: =SUM((I14*100)/H14) -> 100
A15: 10 | B15: ศูนย์อำนวยการบริหารจังหวัดชายแดนภาคใต้ | C15: 1 | D15: 0 | E15: 1 | F15: 1 | G15: 0 | H15: =SUM(C15:G15) -> 3 | I15: 3 | J15: =SUM((I15*100)/H15) -> 100
A16: 11 | B16: สถาบันเกษตราธิการ | C16: 21 | D16: 5 | E16: 7 | F16: 4 | G16: 0 | H16: =SUM(C16:G16) -> 37 | I16: 20 | J16: =SUM((I16*100)/H16) -> 54.054054
A17: 12 | B17: สํานักงานที่ปรึกษาการเกษตรต่างประเทศ | C17: 14 | D17: 0 | E17: 0 | F17: 0 | G17: 0 | H17: 12 | I17: 6 | J17: =SUM((I17*100)/H17) -> 50
A18: 13 | B18: สำนักกฎหมาย | C18: 26 | D18: 0 | E18: 7 | F18: 5 | G18: 3 | H18: =SUM(C18:G18) -> 41 | I18: 28 | J18: =SUM((I18*100)/H18) -> 68.292683
A19: 14 | B19: สำนักการเกษตรต่างประเทศ | C19: 21 | D19: 2 | E19: 8 | F19: 7 | G19: 0 | H19: 37 | I19: 37 | J19: =SUM((I19*100)/H19) -> 100
A20: 15 | B20: สำนักงานเลขานุการคณะกรรมการส่งเสริมและพัฒนาระบบเกษตรพันธสัญญา | C20: 11 | D20: 0 | E20: 1 | F20: 5 | G20: 0 | H20: =SUM(C20:G20) -> 17 | I20: 17 | J20: =SUM((I20*100)/H20) -> 100
A21: 16 | B21: สำนักตรวจราชการ | C21: 19 | D21: 2 | E21: 15 | F21: 5 | G21: 0 | H21: =SUM(C21:G21) -> 41 | I21: 31 | J21: =SUM((I21*100)/H21) -> 75.609756
A22: 17 | B22: สำนักตรวจสอบภายใน | C22: 19 | D22: 0 | E22: 5 | F22: 1 | G22: 0 | H22: =SUM(C22:G22) -> 25 | I22: 24 | J22: =SUM((I22*100)/H22) -> 96
A23: 18 | B23: สำนักบริหารกองทุนเพื่อช่วยเหลือเกษตรและรับเรื่องร้องเรียน | C23: 16 | D23: 0 | E23: 7 | F23: 9 | G23: 19 | H23: =SUM(C23:G23) -> 51 | I23: 43 | J23: =SUM((I23*100)/H23) -> 84.313725
A24: 19 | B24: สำนักแผนงานและโครงการพิเศษ | C24: 28 | D24: 0 | E24: 31 | F24: 10 | G24: 0 | H24: =SUM(C24:G24) -> 69 | I24: 65 | J24: =SUM((I24*100)/H24) -> 94.202899
A25: 20 | B25: สำนักพัฒนาระบบบริหาร | C25: 10 | D25: 0 | E25: 6 | F25: 1 | G25: 0 | H25: =SUM(C25:G25) -> 17 | I25: 17 | J25: =SUM((I25*100)/H25) -> 100
A26: รวม | H26: =SUM(H6:H25) -> 729 | I26: =SUM(I6:I25) -> 580 | J26: =SUM((I26*100)/H26) -> 79.561043
A27: ส่วนภูมิภาค ภาคกลาง
A28: 1 | B28: สำนักงานเกษตรและสหกรณ์ จังหวัดกาญจนบุรี | C28: 8 | D28: 0 | E28: 12 | F28: 6 | G28: 0 | H28: =SUM(C28:G28) -> 26 | I28: 26 | J28: =SUM((I28*100)/H28) -> 100
A29: 2 | B29: สำนักงานเกษตรและสหกรณ์ จังหวัดชัยนาท | C29: 10 | D29: 1 | E29: 11 | F29: 11 | G29: 0 | H29: =SUM(C29:G29) -> 33 | I29: 26 | J29: =SUM((I29*100)/H29) -> 78.787879
A30: 3 | B30: สำนักงานเกษตรและสหกรณ์ จังหวัดนครนายก | C30: 5 | D30: 0 | E30: 7 | F30: 5 | G30: 1 | H30: =SUM(C30:G30) -> 18 | I30: 18 | J30: =SUM((I30*100)/H30) -> 100
A31: 4 | B31: สำนักงานเกษตรและสหกรณ์ จังหวัดนครปฐม | C31: 9 | D31: 1 | E31: 9 | F31: 6 | G31: 0 | H31: =SUM(C31:G31) -> 25 | I31: 11 | J31: =SUM((I31*100)/H31) -> 44
A32: 5 | B32: สำนักงานเกษตรและสหกรณ์ จังหวัดนนทบุรี | C32: 8 | D32: 0 | E32: 7 | F32: 3 | G32: 0 | H32: =SUM(C32:G32) -> 18 | I32: 15 | J32: =SUM((I32*100)/H32) -> 83.333333
A33: 6 | B33: สำนักงานเกษตรและสหกรณ์ จังหวัดปทุมธานี | C33: 8 | D33: 0 | E33: 8 | F33: 5 | G33: 0 | H33: =SUM(C33:G33) -> 21 | I33: 12 | J33: =SUM((I33*100)/H33) -> 57.142857
A34: 7 | B34: สำนักงานเกษตรและสหกรณ์ จังหวัดประจวบคีรีขันธ์ | C34: 8 | D34: 0 | E34: 10 | F34: 4 | G34: 1 | H34: =SUM(C34:G34) -> 23 | I34: 23 | J34: =SUM((I34*100)/H34) -> 100
A35: 8 | B35: สำนักงานเกษตรและสหกรณ์ จังหวัดพระนครศรีอยุธยา | C35: 9 | D35: 0 | E35: 9 | F35: 4 | G35: 0 | H35: =SUM(C35:G35) -> 22 | I35: 19 | J35: =SUM((I35*100)/H35) -> 86.363636
A36: 9 | B36: สำนักงานเกษตรและสหกรณ์ จังหวัดเพชรบุรี | C36: 9 | D36: 0 | E36: 10 | F36: 11 | G36: 0 | H36: =SUM(C36:G36) -> 30 | I36: 22 | J36: =SUM((I36*100)/H36) -> 73.333333
A37: 10 | B37: สำนักงานเกษตรและสหกรณ์ จังหวัดราชบุรี | C37: 9 | D37: 2 | E37: 10 | F37: 6 | G37: 0 | H37: =SUM(C37:G37) -> 27 | I37: 21 | J37: =SUM((I37*100)/H37) -> 77.777778
A38: 11 | B38: สำนักงานเกษตรและสหกรณ์ จังหวัดลพบุรี | C38: 10 | D38: 0 | E38: 10 | F38: 4 | G38: 0 | H38: =SUM(C38:G38) -> 24 | I38: 22 | J38: =SUM((I38*100)/H38) -> 91.666667
A39: 12 | B39: สำนักงานเกษตรและสหกรณ์ จังหวัดสมุทรปราการ | C39: 5 | D39: 1 | E39: 4 | F39: 5 | G39: 3 | H39: =SUM(C39:G39) -> 18 | I39: 15 | J39: =SUM((I39*100)/H39) -> 83.333333
... A45: 18 | B45: สำนักงานเกษตรและสหกรณ์ จังหวัดอ่างทอง | C45: 8 | D45: 1 | E45: 2 | F45: 5 | G45: 1 | H45: =SUM(C45:G45) -> 17 | I45: 17 | J45: =SUM((I45*100)/H45) -> 100
A46: รวม | H46: =SUM(H28:H45) -> 415 | I46: =SUM(I28:I45) -> 347 | J46: =SUM((I46*100)/H46) -> 83.614458
...

Sheet ข้อมูลหัวข้อการตั้งปณิธาน
B1: สรุปข้อมูลการตั้งปณิธานแต่ละด้าน ของบุคลากร สป.กษ. ประจำปีงบประมาณ พ.ศ. 2565
A3: หัวข้อ/ส่วน | B3: จำนวนคน | C3: 2.1 ด้านการป้องกันการทุจริต | I3: 2.2 ด้านส่งเสริมคุณธรรมและจริยธรรม | N3: 2.3 ด้านอื่นๆ
C4: 1. ปฏิบัติงานตามเวลาราชการ (08.30 - 16.30 น.) ไม่เบียดบังเวลาราชการเพื่อประโยชน์ส่วนตน | D4: 2. ปฏิบัติงานตามกฎ ระเบียบ และข้อบังคับ | E4: 3. ปฏิบัติงานด้วยความซื่อสัตย์ สุจริต มีความรับผิดชอบต่อหน้าที่ของตนเอง | F4: 4. ใช้ทรัพย์สินของราชการในการปฏิบัติงานราชการเท่านั้น | G4: 5. ไม่รับ-ไม่ให้ หรือเรียกรับของขวัญและของกำนัล ทรัพย์สินหรือประโยชน์อื่นใดจากการปฏิบัติหน้าที่ | H4: 6. ไม่เพิกเฉยหากพบการกระทำ หรือเหตุการณ์ที่อาจเกิดการทุจริต | I4: 1. เข้าร่วมกิจกรรมจิตอาสาหรือกิจกรรมบำเพ็ญประโยชน์เพื่อส่วนรวม | J4: 2. เสียสละประโยชน์ส่วนตนเพื่อประโยชน์ส่วนรวม ไม่เอารัดเอาเปรียบผู้อื่น | K4: 3. ประพฤติตนเป็นพลเมืองที่ดี รักษาสัญญา มีความขยันขันแข็ง อ่อนน้อมถ่อมตน พูดจาสุภาพ | L4: 4. ยิ้มแย้มแจ่มใส มีมิตรสัมพันธ์ไมตรีจิตอันดีต่อเพื่อนร่วมงาน และผู้มารับบริการ | M4: 5. ประพฤติปฏิบัติตัวตามคำสอนของแต่ละศาสนา เช่น เข้าวัดทำบุญ ตักบาตร ฟังเทศน์ เข้าโบสถ์ มัสยิด หรือประกอบพิธีการต่างๆ ตามศาสนาที่ตนเองนับถือ เป็นต้น | N4: 1. ค้นคว้าหาความรู้ หมั่นพัฒนาตนเองอยู่เสมอ | O4: 2. มีความริเริ่มสร้างสรรค์ ปรับปรุงพัฒนางานให้ดียิ่งขึ้น | P4: 3. ใช้ทรัพยากรอย่างประหยัดและคุ้มค่า | Q4: 4. นำหลักปรัชญาเศรษฐกิจ พอเพียงมาใช้ในการดำเนินชีวิต | R4: 5. สวมใส่เครื่องแต่งกายถูกระเบียบ และอนุรักษ์ชุดผ้าไทยอยู่เสมอเมื่อมีโอกาส
A5: ส่วนกลาง | B5: =[1]สรุปข้อมูลบุคลากร!I26 -> 580 | C5: 354 | D5: 400 | E5: 487 | F5: 271 | G5: 351 | H5: 256 | I5: 241 | J5: 363 | K5: 362 | L5: 453 | M5: 300 | N5: 392 | O5: 307 | P5: 364 | Q5: 312 | R5: 232
A6: ภาคกลาง | B6: =[1]สรุปข้อมูลบุคลากร!I46 -> 347 | C6: 239 | D6: 256 | E6: 315 | F6: 197 | G6: 226 | H6: 178 | I6: 210 | J6: 234 | K6: 228 | L6: 287 | M6: 209 | N6: 252 | O6: 203 | P6: 230 | Q6: 219 | R6: 219
A7: ภาคเหนือ | B7: =[1]สรุปข้อมูลบุคลากร!I65 -> 354 | C7: 290 | D7: 258 | E7: 303 | F7: 217 | G7: 255 | H7: 211 | I7: 253 | J7: 241 | K7: 263 | L7: 308 | M7: 222 | N7: 273 | O7: 231 | P7: 259 | Q7: 242 | R7: 239
A8: ภาคใต้ | B8: =[1]สรุปข้อมูลบุคลากร!I81 -> 296 | C8: 226 | D8: 227 | E8: 251 | F8: 175 | G8: 215 | H8: 164 | I8: 217 | J8: 208 | K8: 207 | L8: 233 | M8: 172 | N8: 216 | O8: 184 | P8: 201 | Q8: 196 | R8: 187
A9: ภาคตะวันออกเฉียงเหนือ | B9: =[1]สรุปข้อมูลบุคลากร!I103 -> 452 | C9: 365 | D9: 379 | E9: 399 | F9: 311 | G9: 352 | H9: 308 | I9: 359 | J9: 356 | K9: 354 | L9: 380 | M9: 309 | N9: 379 | O9: 328 | P9: 361 | Q9: 341 | R9: 326
A10: ภาคตะวันออก | B10: =[1]สรุปข้อมูลบุคลากร!I112 -> 139 | C10: 99 | D10: 105 | E10: 123 | F10: 85 | G10: 96 | H10: 78 | I10: 102 | J10: 96 | K10: 103 | L10: 106 | M10: 80 | N10: 101 | O10: 91 | P10: 107 | Q10: 94 | R10: 78
A11: รวม | B11: =SUM(B5:B10) -> 2168 | C11: =SUM(C5:C10) -> 1573 | D11: =SUM(D5:D10) -> 1625 | E11: =SUM(E5:E10) -> 1878 | F11: =SUM(F5:F10) -> 1256 | G11: =SUM(G5:G10) -> 1495 | H11: =SUM(H5:H10) -> 1195 | I11: =SUM(I5:I10) -> 1382 | ... R11: =SUM(R5:R10) -> 1281
E12: 1 | L12: 2 | N12: 3
E13: =SUM(E11*100/B11) -> 86.623616 | L13: =SUM(L11*100/B11) -> 81.50369 | N13: =SUM(N11*100/B11) -> 74.400369

Sheet สป.กษ. ส่วนกลาง
A1: กิจกรรมตั้งปณิธานความดีของบุคลากร สป.กษ. ประจำปีงบประมาณ พ.ศ. 2565
A3: ลำดับ | B3: คำนำหน้า | C3: ชื่อ-สกุล | D3: ตำแหน่ง | E3: หน่วยงาน | F3: 2.1 ด้านการป้องกันการทุจริต | L3: 2.2 ด้านส่งเสริมคุณธรรมและจริยธรรม | Q3: 2.3 ด้านอื่นๆ
F4: 1. ปฏิบัติงานตามเวลาราชการ (08.30 - 16.30 น.) ไม่เบียดบังเวลาราชการเพื่อประโยชน์ส่วนตน | G4: 2. ปฏิบัติงานตามกฎ ระเบียบ และข้อบังคับ | H4: 3. ปฏิบัติงานด้วยความซื่อสัตย์ สุจริต มีความรับผิดชอบต่อหน้าที่ของตนเอง | I4: 4. ใช้ทรัพย์สินของราชการในการปฏิบัติงานราชการเท่านั้น | J4: 5. ไม่รับ-ไม่ให้ หรือเรียกรับของขวัญและของกำนัล ทรัพย์สินหรือประโยชน์อื่นใดจากการปฏิบัติหน้าที่ | K4: 6. ไม่เพิกเฉยหากพบการกระทำ หรือเหตุการณ์ที่อาจเกิดการทุจริต | L4: 1. เข้าร่วมกิจกรรมจิตอาสาหรือกิจกรรมบำเพ็ญประโยชน์เพื่อส่วนรวม | M4: 2. เสียสละประโยชน์ส่วนตนเพื่อประโยชน์ส่วนรวม ไม่เอารัดเอาเปรียบผู้อื่น | N4: 3. ประพฤติตนเป็นพลเมืองที่ดี รักษาสัญญา มีความขยันขันแข็ง อ่อนน้อมถ่อมตน พูดจาสุภาพ | O4: 4. ยิ้มแย้มแจ่มใส มีมิตรสัมพันธ์ไมตรีจิตอันดีต่อเพื่อนร่วมงาน และผู้มารับบริการ | P4: 5. ประพฤติปฏิบัติตัวตามคำสอนของแต่ละศาสนา เช่น เข้าวัดทำบุญ ตักบาตร ฟังเทศน์ เข้าโบสถ์ มัสยิด หรือประกอบพิธีการต่างๆ ตามศาสนาที่ตนเองนับถือ เป็นต้น | Q4: 1. ค้นคว้าหาความรู้ หมั่นพัฒนาตนเองอยู่เสมอ | R4: 2. มีความริเริ่มสร้างสรรค์ ปรับปรุงพัฒนางานให้ดียิ่งขึ้น | S4: 3. ใช้ทรัพยากรอย่างประหยัดและคุ้มค่า | T4: 4. นำหลักปรัชญาเศรษฐกิจ พอเพียงมาใช้ในการดำเนินชีวิต | U4: 5. สวมใส่เครื่องแต่งกายถูกระเบียบ และอนุรักษ์ชุดผ้าไทยอยู่เสมอเมื่อมีโอกาส
A5: กองกลาง
A6: 1 | B6: นาง | C6: อมราพร ชีพสมุทร์ | D6: ผู้อำนวยการกองกลาง | E6: กองกลาง | G6: P | H6: P | K6: P | L6: P | M6: P | N6: P | O6: P | Q6: P | R6: P | S6: P | T6: P
A7: 2 | B7: นางสาว | C7: วันเพ็ญ พรหมสุรินทร์ | D7: เจ้าพนักงานธุรการอาวุโส | E7: กองกลาง | F7: P | G7: P | H7: P | J7: P | M7: P | N7: P | S7: P | U7: P
A8: 3 | B8: นาย | C8: ธวัชชัย ศีลแสน | D8: นักจัดการงานทั่วไปชำนาญการ | E8: กองกลาง | F8: P | G8: P | H8: P | I8: P | J8: P | K8: P | L8: P | M8: P | N8: P | O8: P | P8: P | Q8: P | R8: P | S8: P | T8: P | U8: P
A9: 4 | B9: นาง | C9: ศิริวรรณ พวงสุดรักษ์ | D9: นักจัดการงานทั่วไปชำนาญการ | E9: กองกลาง | F9: P | G9: P | H9: P | I9: P | J9: P | K9: P | L9: P | M9: P | N9: P | O9: P | P9: P | Q9: P | R9: P | S9: P | T9: P | U9: P
A10: 5 | B10: นาย | C10: วันปิยะ วาทิน | D10: นักจัดการงานทั่วไปชำนาญการ | E10: กองกลาง | F10: P | G10: P | H10: P | I10: P | J10: P | K10: P | L10: P | M10: P | N10: P | O10: P | P10: P | Q10: P | R10: P | S10: P | T10: P | U10: P
A11: 6 | B11: นาง | C11: ทิพวรรณ พรหมเพ็ญ | D11: นักจัดการงานทั่วไปชำนาญการ | E11: กองกลาง | F11: P | G11: P | H11: P | I11: P | J11: P | K11: P | L11: P | M11: P | N11: P | O11: P | P11: P | T11: P
A12: 7 | B12: นาย | C12: คุณากร มากเอนก | D12: นักจัดการงานทั่วไปปฏิบัติการ | E12: กองกลาง | F12: P | G12: P | H12: P | I12: P | J12: P | K12: P | L12: P | M12: P | N12: P | O12: P | P12: P | Q12: P | R12: P | S12: P | T12: P | U12: P
A13: 8 | B13: นางสาว | C13: รภัทภร สุนทรสนิท | D13: นักจัดการงานทั่วไปปฎิบัติการ | E13: กองกลาง | F13: P | G13: P | H13: P | I13: P | M13: P | O13: P | Q13: P | R13: P | S13: P
A14: 9 | B14: นาย | C14: พงษ์นรินทร์ ศิวกุลกำธร | D14: เจ้าพนักงานธุรการชำนาญงาน | E14: กองกลาง | G14: P | O14: P | T14: P
A15: 10 | B15: นางสาว | C15: ชนกนันท์ ยะปะนันท์ | D15: เจ้าพนักงานธุรการชำนาญงาน | E15: กองกลาง | F15: P | G15: P | H15: P | N15: P | O15: P | Q15: P | R15: P | T15: P
A16: 11 | B16: นางสาว | C16: กรรณิกา ตรีเหรา | D16: เจ้าพนักงานธุรการชำนาญงาน | E16: กองกลาง | F16: P | G16: P | H16: P | I16: P | J16: P | K16: P | L16: P | M16: P | N16: P | P16: P | S16: P
A17: 12 | B17: นางสาว | C17: จุไรรัตน์ ศรีสุข | D17: เจ้าพนักงานธุรการชำนาญงาน | E17: กองกลาง | H17: P | M17: P | S17: P
A18: 13 | B18: นางสาว | C18: กุสุมาลย์ ป้อมอารีย์ | D18: เจ้าพนักงานธุรการปฎิบัติงาน | E18: กองกลาง | I18: P | K18: P | M18: P | N18: P | S18: P
A19: 14 | B19: นางสาว | C19: ณัฐธิยา เกิดหิรัญ | D19: เจ้าพนักงานธุรการปฏิบัติงาน | E19: กองกลาง | F19: P | G19: P | H19: P | N19: P | O19: P | Q19: P | R19: P | T19: P
A20: 15 | B20: นางสาว | C20: นัชชานันท์ คำจิตตะ | D20: เจ้าพนักงานธุรการปฏิบัติงาน | E20: กองกลาง | F20: P | G20: P | H20: P | I20: P | J20: P | K20: P | P20: P | Q20: P | T20: P
A21: 16 | B21: นางสาว | C21: สุรีรัตน์ วรบุตร | D21: เจ้าพนักงานธุรการปฏิบัติงาน | E21: กองกลาง | F21: P | G21: P | H21: P | M21: P | P21: P | Q21: P | T21: P
A22: 17 | B22: นางสาว | C22: ธนพร โกศรี | D22: เจ้าพนักงานธุรการปฏิบัติงาน | E22: กองกลาง | F22: P | G22: P | H22: P | I22: P | J22: P | K22: P | L22: P | M22: P | N22: P | O22: P | P22: P | Q22: P | R22: P | S22: P | T22: P | U22: P
A23: 18 | B23: นางสาว | C23: จารุวรรณ ศรีวิลัย | D23: เจ้าพนักงานธุรการปฏิบัติงาน | E23: กองกลาง | F23: P | G23: P | H23: P | I23: P | J23: P | K23: P | L23: P | M23: P | N23: P | O23: P | P23: P | Q23: P | R23: P | S23: P | T23: P | U23: P
A24: 19 | B24: นาง | C24: สุพิศ พูลคุณานุกูร | D24: นักจัดการงานทั่วไป | E24: กองกลาง | F24: P | G24: P | H24: P | I24: P | J24: P | K24: P | L24: P | M24: P | N24: P | O24: P | P24: P | Q24: P | R24: P | S24: P | T24: P | U24: P
A25: 20 | B25: นาย | C25: สิทธิศักดิ์ หนูเปีย | D25: เต้าหน้าที่บริหารงานทั่วไป | E25: กองกลาง | H25: P | P25: P | Q25: P
A26: 21 | B26: นางสาว | C26: ยินดี ชลยิ่งยง | D26: เจ้าหน้าที่บริหารงานทั่วไป | E26: กองกลาง | F26: P | G26: P | H26: P | I26: P | J26: P | L26: P | M26: P | N26: P | O26: P | P26: P | Q26: P | S26: P | U26: P
A27: 22 | B27: นาง | C27: สีลสุทธา เพ็ชร์คุ้ม | D27: เจ้าหน้าที่บริหารงานทั่วไป | E27: กองกลาง | G27: P | H27: P | I27: P | J27: P | K27: P | L27: P | M27: P | N27: P | O27: P | P27: P | R27: P | S27: P | T27: P | U27: P
A28: 23 | B28: นาย | C28: ภานุสรณ์ ขานทอง | D28: ช่างอิเลคทรอนิกส์ | E28: กองกลาง | F28: P | H28: P | L28: P | M28: P | N28: P | S28: P
A29: 24 | B29: นาย | C29: วรรณเฉลิม จรัสแสง | D29: ช่างอิเล็กทรอนิกส์ | E29: กองกลาง | F29: P | G29: P | H29: P | I29: P | J29: P | K29: P | O29: P | Q29: P
A30: 25 | B30: นาง | C30: อุษณีย์ ผลภักดี | D30: งานสารบรรณรับ-ส่งหน้าห้อง ผช.กษ | E30: กองกลาง | H30: P | M30: P | T30: P
A31: 26 | B31: นางสาว | C31: ภาวิณี พลสา | D31: จ้างเหมาบริการ | E31: กองกลาง | G31: P | H31: P | I31: P | M31: P | N31: P | O31: P | R31: P | T31: P
A32: กองการเจ้าหน้าที่
A33: 1 | B33: นาง | C33: วลีพร นนทิการ | D33: นักทรัพยากรบุคคลเชี่ยวชาญ | E33: กองการเจ้าหน้าที่ | G33: P | H33: P | L33: P | N33: P | Q33: P | R33: P | S33: P | T33: P
A34: 2 | B34: นางสาว | C34: กันยารัตน์ เศวตนันทิกุล | D34: นักทรัพยากรบุคคลชำนาญการพิเศษ | E34: กองการเจ้าหน้าที่ | K34: P | O34: P | U34: P
A35: 3 | B35: นางสาว | C35: ชนานาถ สกุลสมบัติ | D35: นักทรัพยากรบุคคลชํานาญการพิเศษ | E35: กองการเจ้าหน้าที่ | G35: P | H35: P | M35: P | O35: P | Q35: P | R35: P | U35: P
A36: 4 | B36: นางสาว | C36: ปาจรีย์ สิทธิสา | D36: นักทรัพยากรบุคคลชำนาญการพิเศษ | E36: กองการเจ้าหน้าที่ | F36: P | H36: P | J36: P | M36: P | N36: P | T36: P | U36: P
A37: 5 | B37: นาง | C37: พัชราพร แหยมวิเชียร | D37: นักทรัพยากรบุคคลชำนาญการพิเศษ | E37: กองการเจ้าหน้าที่ | G37: P | H37: P | O37: P | Q37: P | R37: P
A38: 6 | B38: นางสาว | C38: วิรัตน์ ชัยผาติกานต์ | D38: นักทรัพยากรบุคคลชำนาญการพิเศษ | E38: กองการเจ้าหน้าที่ | F38: P | H38: P | O38: P | P38: P | Q38: P
A39: 7 | B39: นางสาว | C39: ศิริกุล ประเสริฐเวชรัตน์ | D39: นิติกรชำนาญการพิเศษ | E39: กองการเจ้าหน้าที่ | G39: P | H39: P | J39: P | O39: P | Q39: P | U39: P
A40: 8 | B40: นางสาว | C40: สุชัญญา โพธิรัชตางกูร | D40: นิติกรชำนาญการพิเศษ | E40: กองการเจ้าหน้าที่ | G40: P | H40: P | M40: P | O40: P | R40: P
A41: 9 | B41: นาง | C41: ประภาพรรณ สุมิตรากิจ | D41: เจ้าพนักงานธุรการอาวุโส | E41: กองการเจ้าหน้าที่ | F41: P | I41: P | L41: P | O41: P | U41: P
...

Sheet กษ. ภาคกลาง
A1: กิจกรรมตั้งปณิธานความดีของบุคลากร สป.กษ. ประจำปีงบประมาณ พ.ศ. 2565
A3: ลำดับ | B3: คำนำหน้า | C3: ชื่อ-สกุล | D3: ตำแหน่ง | E3: หน่วยงาน | F3: 2.1 ด้านการป้องกันการทุจริต | L3: 2.2 ด้านส่งเสริมคุณธรรมและจริยธรรม | Q3: 2.3 ด้านอื่นๆ
F4: 1. ปฏิบัติงานตามเวลาราชการ (08.30 - 16.30 น.) ไม่เบียดบังเวลาราชการเพื่อประโยชน์ส่วนตน | G4: 2. ปฏิบัติงานตามกฎ ระเบียบ และข้อบังคับ | H4: 3. ปฏิบัติงานด้วยความซื่อสัตย์ สุจริต มีความรับผิดชอบต่อหน้าที่ของตนเอง | I4: 4. ใช้ทรัพย์สินของราชการในการปฏิบัติงานราชการเท่านั้น | J4: 5. ไม่รับ-ไม่ให้ หรือเรียกรับของขวัญและของกำนัล ทรัพย์สินหรือประโยชน์อื่นใดจากการปฏิบัติหน้าที่ | K4: 6. ไม่เพิกเฉยหากพบการกระทำ หรือเหตุการณ์ที่อาจเกิดการทุจริต | L4: 1. เข้าร่วมกิจกรรมจิตอาสาหรือกิจกรรมบำเพ็ญประโยชน์เพื่อส่วนรวม | M4: 2. เสียสละประโยชน์ส่วนตนเพื่อประโยชน์ส่วนรวม ไม่เอารัดเอาเปรียบผู้อื่น | N4: 3. ประพฤติตนเป็นพลเมืองที่ดี รักษาสัญญา มีความขยันขันแข็ง อ่อนน้อมถ่อมตน พูดจาสุภาพ | O4: 4. ยิ้มแย้มแจ่มใส มีมิตรสัมพันธ์ไมตรีจิตอันดีต่อเพื่อนร่วมงาน และผู้มารับบริการ | P4: 5. ประพฤติปฏิบัติตัวตามคำสอนของแต่ละศาสนา เช่น เข้าวัดทำบุญ ตักบาตร ฟังเทศน์ เข้าโบสถ์ มัสยิด หรือประกอบพิธีการต่างๆ ตามศาสนาที่ตนเองนับถือ เป็นต้น | Q4: 1. ค้นคว้าหาความรู้ หมั่นพัฒนาตนเองอยู่เสมอ | R4: 2. มีความริเริ่มสร้างสรรค์ ปรับปรุงพัฒนางานให้ดียิ่งขึ้น | S4: 3. ใช้ทรัพยากรอย่างประหยัดและคุ้มค่า | T4: 4. นำหลักปรัชญาเศรษฐกิจ พอเพียงมาใช้ในการดำเนินชีวิต | U4: 5. สวมใส่เครื่องแต่งกายถูกระเบียบ และอนุรักษ์ชุดผ้าไทยอยู่เสมอเมื่อมีโอกาส
A5: สำนักงานเกษตรและสหกรณ์ จังหวัดกาญจนบุรี
A6: 1 | B6: นางสาว | C6: เอื้องพร นพคุณ | D6: เกษตรและสหกรณ์จังหวัดกาญจนบุรี | E6: สำนักงานเกษตรและสหกรณ์จังหวัดกาญจนบุรี | G6: P | H6: P | I6: P | J6: P | K6: P | M6: P | N6: P | O6: P | Q6: P | R6: P | S6: P | T6: P | U6: P
A7: 2 | B7: นางสาว | C7: พรทิพย์ อสนเมืองชิน | D7: นักวิเคราะห์นโยบายและแผนชำนาญการ | E7: สำนักงานเกษตรและสหกรณ์จังหวัดกาญจนบุรี | H7: P | O7: P | S7: P
A8: 3 | B8: นางสาว | C8: พิมลรัตน์ เชียงทอง | D8: นักวิเคราะห์นโยบายและแผนชำนาญการ | E8: สำนักงานเกษตรและสหกรณ์จังหวัดกาญจนบุรี | F8: P | G8: P | H8: P | I8: P | J8: P | K8: P | M8: P | N8: P | O8: P | Q8: P | R8: P | U8: P
A9: 4 | B9: นางสาว | C9: อัญชุตา อบเชย | D9: นักวิเคราะห์นโยบายและแผนชำนาญการ | E9: สำนักงานเกษตรและสหกรณ์จังหวัดกาญจนบุรี | F9: P | G9: P | H9: P | N9: P | O9: P | P9: P | Q9: P | T9: P | U9: P
A10: 5 | B10: นางสาว | C10: เมทินี พิทักษ์หมู่ | D10: นักวิเคราะห์นโยบายและแผนชำนาญการ | E10: สำนักงานเกษตรและสหกรณ์จังหวัดกาญจนบุรี | G10: P | H10: P | O10: P | Q10: P | U10: P
A11: 6 | B11: นาย | C11: เฉลิมชนม์ สุขกรม | D11: นักวิเคราะห์นโยบายและแผนปฏิบัติการ | E11: สำนักงานเกษตรและสหกรณ์จังหวัดกาญจนบุรี | H11: P | J11: P | O11: P | S11: P | T11: P
A12: 7 | B12: นาง | C12: พรทิพย์ วรภคบุญญา | D12: เจ้าพนักงานธุรการชำนาญงาน | E12: สำนักงานเกษตรและสหกรณ์จังหวัดกาญจนบุรี | H12: P | K12: P | M12: P | Q12: P | R12: P
A13: 8 | B13: นางสาว | C13: ปิยะพร อินพลับ | D13: เจ้าพนักงานการเงินและบัญชีชำนาญงาน | E13: สำนักงานเกษตรและสหกรณ์จังหวัดกาญจนบุรี | H13: P | J13: P | P13: P | Q13: P | S13: P
A14: 9 | B14: นางสาว | C14: ฉัตรธิดา ร่วมดี | D14: เจ้าหน้าที่วิเคราะห์นโยบายและแผน | E14: สำนักงานเกษตรและสหกรณ์จังหวัดกาญจนบุรี | F14: P | G14: P | H14: P | I14: P | J14: P | K14: P | L14: P | M14: P | N14: P | O14: P | P14: P | Q14: P | R14: P | S14: P | T14: P | U14: P
A15: 10 | B15: นางสาว | C15: ทิฆัมพร แจ่มฟ้า | D15: เจ้าหน้าที่วิเคราะห์นโยบายและแผน | E15: สำนักงานเกษตรและสหกรณ์จังหวัดกาญจนบุรี | H15: P | O15: P | R15: P
A16: 11 | B16: นางสาว | C16: นงลักษณ์ คชานุบาล | D16: เจ้าหน้าที่วิเคราะห์นโยบายและแผน | E16: สำนักงานเกษตรและสหกรณ์จังหวัดกาญจนบุรี | F16: P | G16: P | H16: P | I16: P | J16: P | K16: P | L16: P | M16: P | N16: P | O16: P | P16: P | Q16: P | R16: P
A17: 12 | B17: นางสาว | C17: ปวิตา แบมขุนทด | D17: เจ้าหน้าที่วิเคราะห์นโยบายและแผน | E17: สำนักงานเกษตรและสหกรณ์จังหวัดกาญจนบุรี | G17: P | H17: P | O17: P | P17: P | S17: P
A18: 13 | B18: นางสาว | C18: อรปวีณ์ จงเจริญ | D18: เจ้าหน้าที่วิเคราะห์นโยบายและแผน | E18: สำนักงานเกษตรและสหกรณ์จังหวัดกาญจนบุรี | H18: P | O18: P | Q18: P | R18: P
A19: 14 | B19: นางสาว | C19: อรุณรัตน์ จุฑาศักดิ์ | D19: เจ้าหน้าที่วิเคราะห์นโยบายและแผน | E19: สำนักงานเกษตรและสหกรณ์จังหวัดกาญจนบุรี | G19: P | H19: P | I19: P | J19: P | K19: P | M19: P | O19: P | T19: P
A20: 15 | B20: นางสาว | C20: ชุติกาญจน์ ศรีสว่าง | D20: เจ้าหน้าที่วิเคราะห์นโนบายและแผน | E20: สำนักงานเกษตรและสหกรณ์จังหวัดกาญจนบุรี | G20: P | H20: P | N20: P | O20: P | S20: P
A21: 16 | B21: นางสาว | C21: อุษษณีย์ แก้วแดง | D21: เจ้าหน้าที่วิเคราะห์นโนบายและแผน | E21: สำนักงานเกษตรและสหกรณ์จังหวัดกาญจนบุรี | G21: P | N21: P | O21: P | S21: P | T21: P
A22: 17 | B22: นางสาว | C22: สุฤดี บุญสมปอง | D22: เจ้าหน้าที่วิเคราะนโยบายและแผน | E22: สำนักงานเกษตรและสหกรณ์จังหวัดกาญจนบุรี | H22: P | N22: P | T22: P
A23: 18 | B23: นาง | C23: แสงแข สิทธิสม | D23: เจ้าหน้าที่วิเคราะห์นโยบายและแผน | E23: สำนักงานเกษตรและสหกรณ์จังหวัดกาญจนบุรี | G23: P | H23: P | O23: P | Q23: P | S23: P
A24: 19 | B24: นางสาว | C24: สุนารี ไผ่ศิลาผาภูมิ | D24: เจ้าหน้าที่วิเคราะห์นโยบายและแผน | E24: สำนักงานเกษตรและสหกรณ์จังหวัดกาญจนบุรี | F24: P | G24: P | H24: P | I24: P | P24: P | T24: P | U24: P
A25: 20 | B25: นางสาว | C25: เบญจมาศ พลีเพื่อชาติ | D25: เจ้าหน้าที่วิเคราะห์นโยบายและแผน | E25: สำนักงานเกษตรและสหกรณ์จังหวัดกาญจนบุรี | F25: P | G25: P | H25: P | P25: P | Q25: P | S25: P | T25: P
A26: 21 | B26: นาง | C26: ณัฐชยา พัฒนมาศ | D26: เจ้าหน้าที่บันทึกข้อมูล | E26: สำนักงานเกษตรและสหกรณ์จังหวัดกาญจนบุรี | G26: P | H26: P | O26: P | P26: P | Q26: P
A27: 22 | B27: นางสาว | C27: อนุสรา กาญจนเพ็ชร | D27: เจ้าหน้าที่ธุรการ | E27: สำนักงานเกษตรและสหกรณ์จังหวัดกาญจนบุรี | F27: P | H27: P | P27: P | R27: P | S27: P | T27: P
A28: 23 | B28: นางสาว | C28: สุภาวดี เอกฉันท์ | D28: เจ้าพนักงานธุรการ | E28: สำนักงานเกษตรและสหกรณ์จังหวัดกาญจนบุรี | G28: P | H28: P | N28: P | O28: P | Q28: P | R28: P
A29: 24 | B29: นาย | C29: สหเทพ ศรีลานันท์ | D29: พนักงานขับรถยนต์ | E29: สำนักงานเกษตรและสหกรณ์จังหวัดกาญจนบุรี | F29: P | G29: P | H29: P | I29: P | K29: P | M29: P | N29: P | O29: P | Q29: P | S29: P
A30: 25 | B30: นาย | C30: เอกกฤต ศรีทองสุข | D30: พนักงานขับรถยนต์ | E30: สำนักงานเกษตรและสหกรณ์จังหวัดกาญจนบุรี | H30: P | I30: P | L30: P | M30: P | S30: P
A31: 26 | B31: นาง | C31: นงนุช บรรเทาทุกข์ | D31: แม่บ้านทำความสะอาด | E31: สำนักงานเกษตรและสหกรณ์จังหวัดกาญจนบุรี | F31: P | H31: P | M31: P | O31: P | R31: P | T31: P
A32: สำนักงานเกษตรและสหกรณ์ จังหวัดชัยนาท
A33: 1 | B33: นาย | C33: สุวิทย์ สอนสุข | D33: เกษตรและสหกรณ์จังหวัดชัยนาท | E33: สำนักงานเกษตรและสหกรณ์จังหวัดชัยนาท | F33: P | G33: P | H33: P | I33: P | J33: P | K33: P | L33: P | M33: P | N33: P | O33: P | P33: P | Q33: P | R33: P | S33: P | T33: P | U33: P
A34: 2 | B34: นางสาว | C34: วิลาสินี บุญเวียง | D34: นักวิเคราะห์นโยบายและแผนชำนาญการ | E34: สำนักงานเกษตรและสหกรณ์จังหวัดชัยนาท | F34: P | G34: P | H34: P | I34: P | J34: P | K34: P | L34: P | M34: P | N34: P | O34: P | P34: P | Q34: P | R34: P | S34: P | T34: P | U34: P
A35: 3 | B35: นาย | C35: วุฒิพงษ์ สมานชื่น | D35: นักวิเคราะห์นโยบายและแผนชำนาญการ | E35: สำนักงานเกษตรและสหกรณ์จังหวัดชัยนาท | F35: P | M35: P | T35: P
A36: 4 | B36: นาย | C36: สุนทร น้อยสำลี | D36: นักวิเคราะห์นโยบายและแผนชำนาญการ | E36: สำนักงานเกษตรและสหกรณ์จังหวัดชัยนาท | F36: P | G36: P | H36: P | I36: P | J36: P | K36: P | L36: P | M36: P | N36: P | O36: P | P36: P | Q36: P | R36: P | S36: P | T36: P | U36: P
A37: 5 | B37: นางสาว | C37: สุนิภา ดิษฎาวีระวัฒน์ | D37: นักวิเคราะห์นโยบายและแผนชำนาญการ | E37: สำนักงานเกษตรและสหกรณ์จังหวัดชัยนาท | H37: P | O37: P | Q37: P | S37: P | T37: P
A38: 6 | B38: นาง | C38: จินพัทน์ ศรีเอี่ยมโฉม | D38: เจ้าพนักงานธุรการชำนาญงาน | E38: สำนักงานเกษตรและสหกรณ์จังหวัดชัยนาท | F38: P | G38: P | H38: P | I38: P | J38: P | K38: P | L38: P | M38: P | N38: P | O38: P | P38: P | Q38: P | R38: P | S38: P | T38: P | U38: P
A39: 7 | B39: นางสาว | C39: นิภาภร ดำนิล | D39: เจ้าพนักงานธุรการชำนาญงาน | E39: สำนักงานเกษตรและสหกรณ์จังหวัดชัยนาท | F39: P | G39: P | H39: P | I39: P | J39: P | K39: P | L39: P | M39: P | N39: P | O39: P | P39: P | Q39: P | R39: P | S39: P | T39: P | U39: P
A40: 8 | B40: นางสาว | C40: ชุติมา แก้วมะณี | D40: เจ้าพนักงานธุรการปฏิบัติงาน | E40: สำนักงานเกษตรและสหกรณ์จังหวัดชัยนาท | F40: P | G40: P | H40: P | I40: P | J40: P | K40: P | L40: P | M40: P | N40: P | O40: P | P40: P | Q40: P | R40: P | S40: P | T40: P | U40: P
A41: 9 | B41: นาย | C41: ณัฐพงค์ ศักดิ์สิริธนาธร | D41: พนักงานขับรถยนต์ ส2 | E41: สำนักงานเกษตรและสหกรณ์จังหวัดชัยนาท | F41: P | G41: P | L41: P | O41: P | U41: P
...

Sheet กษ. ภาคเหนือ
A1: กิจกรรมตั้งปณิธานความดีของบุคลากร สป.กษ. ประจำปีงบประมาณ พ.ศ. 2565
A3: ลำดับ | B3: คำนำหน้า | C3: ชื่อ-สกุล | D3: ตำแหน่ง | E3: หน่วยงาน | F3: 2.1 ด้านการป้องกันการทุจริต | L3: 2.2 ด้านส่งเสริมคุณธรรมและจริยธรรม | Q3: 2.3 ด้านอื่นๆ
F4: 1. ปฏิบัติงานตามเวลาราชการ (08.30 - 16.30 น.) ไม่เบียดบังเวลาราชการเพื่อประโยชน์ส่วนตน | G4: 2. ปฏิบัติงานตามกฎ ระเบียบ และข้อบังคับ | H4: 3. ปฏิบัติงานด้วยความซื่อสัตย์ สุจริต มีความรับผิดชอบต่อหน้าที่ของตนเอง | I4: 4. ใช้ทรัพย์สินของราชการในการปฏิบัติงานราชการเท่านั้น | J4: 5. ไม่รับ-ไม่ให้ หรือเรียกรับของขวัญและของกำนัล ทรัพย์สินหรือประโยชน์อื่นใดจากการปฏิบัติหน้าที่ | K4: 6. ไม่เพิกเฉยหากพบการกระทำ หรือเหตุการณ์ที่อาจเกิดการทุจริต | L4: 1. เข้าร่วมกิจกรรมจิตอาสาหรือกิจกรรมบำเพ็ญประโยชน์เพื่อส่วนรวม | M4: 2. เสียสละประโยชน์ส่วนตนเพื่อประโยชน์ส่วนรวม ไม่เอารัดเอาเปรียบผู้อื่น | N4: 3. ประพฤติตนเป็นพลเมืองที่ดี รักษาสัญญา มีความขยันขันแข็ง อ่อนน้อมถ่อมตน พูดจาสุภาพ | O4: 4. ยิ้มแย้มแจ่มใส มีมิตรสัมพันธ์ไมตรีจิตอันดีต่อเพื่อนร่วมงาน และผู้มารับบริการ | P4: 5. ประพฤติปฏิบัติตัวตามคำสอนของแต่ละศาสนา เช่น เข้าวัดทำบุญ ตักบาตร ฟังเทศน์ เข้าโบสถ์ มัสยิด หรือประกอบพิธีการต่างๆ ตามศาสนาที่ตนเองนับถือ เป็นต้น | Q4: 1. ค้นคว้าหาความรู้ หมั่นพัฒนาตนเองอยู่เสมอ | R4: 2. มีความริเริ่มสร้างสรรค์ ปรับปรุงพัฒนางานให้ดียิ่งขึ้น | S4: 3. ใช้ทรัพยากรอย่างประหยัดและคุ้มค่า | T4: 4. นำหลักปรัชญาเศรษฐกิจ พอเพียงมาใช้ในการดำเนินชีวิต | U4: 5. สวมใส่เครื่องแต่งกายถูกระเบียบ และอนุรักษ์ชุดผ้าไทยอยู่เสมอเมื่อมีโอกาส
A5: สำนักงานเกษตรและสหกรณ์ จังหวัดกำแพงเพชร
A6: 1 | B6: นาย | C6: อนันต์ โฆษิตพิพัฒน์ | D6: เกษตรและสหกรณ์จังหวัดกำแพงเพชร | E6: สำนักงานเกษตรและสหกรณ์จังหวัดกำแพงเพชร | F6: P | H6: P | J6: P | K6: P | L6: P | M6: P | N6: P | Q6: P | R6: P | U6: P
A7: 2 | B7: นาง | C7: พรทิวา อำนวย | D7: นักวิเคราะห์นโยบายและแผนชำนาญการ | E7: สำนักงานเกษตรและสหกรณ์จังหวัดกำแพงเพชร | F7: P | G7: P | H7: P | I7: P | J7: P | K7: P | L7: P | O7: P | Q7: P | R7: P | T7: P
A8: 3 | B8: นาย | C8: สิรภพ แก้วทุ่ง | D8: นักวิเคราะห์นโยบายและแผนชำนาญการ | E8: สำนักงานเกษตรและสหกรณ์จังหวัดกำแพงเพชร | F8: P | L8: P | N8: P | O8: P | P8: P | Q8: P
A9: 4 | B9: นาย | C9: อดิศร์ ศิริสุทธิ์ | D9: นักวิเคราะห์นโยบายและแผนชำนาญการ | E9: สำนักงานเกษตรและสหกรณ์จังหวัดกำแพงเพชร | F9: P | G9: P | H9: P | I9: P | J9: P | K9: P | M9: P | O9: P | Q9: P | R9: P | S9: P | T9: P | U9: P
A10: 5 | B10: นางสาว | C10: วันทนา ฟูคำ | D10: นักวิเคราะห์นโยบายและแผนปฏิบัติการ | E10: สำนักงานเกษตรและสหกรณ์จังหวัดกำแพงเพชร | F10: P | G10: P | H10: P | I10: P | J10: P | K10: P | L10: P | M10: P | N10: P | O10: P | P10: P | Q10: P | R10: P | S10: P | T10: P | U10: P
A11: 6 | B11: นางสาว | C11: วรมน มูลลคร | D11: นักวิเคราะห์นโยบายและแผน | E11: สำนักงานเกษตรและสหกรณ์จังหวัดกำแพงเพชร | F11: P | G11: P | H11: P | J11: P | K11: P | N11: P | O11: P | P11: P | Q11: P | T11: P | U11: P
A12: 7 | B12: นางสาว | C12: รัสวรรณ ขำศิริ | D12: เจ้าพนักงานธุรการปฏิบัติงาน | E12: สำนักงานเกษตรและสหกรณ์จังหวัดกำแพงเพชร | F12: P | J12: P | K12: P | L12: P | Q12: P | T12: P
A13: 8 | B13: นางสาว | C13: ปิยธิดา วงษ์ฉายา | D13: เจ้าพนักงานการเงินและบัญชีปฏิบัติงาน | E13: สำนักงานเกษตรและสหกรณ์จังหวัดกำแพงเพชร | F13: P | J13: P | K13: P | N13: P | O13: P | P13: P | Q13: P | S13: P | U13: P
A14: 9 | B14: นางสาว | C14: หทัยชนก ทองภูเบศร์ | D14: พนักงานพิมพ์ ส.3 | E14: สำนักงานเกษตรและสหกรณ์จังหวัดกำแพงเพชร | F14: P | G14: P | H14: P | I14: P | J14: P | K14: P | L14: P | M14: P | N14: P | O14: P | P14: P | Q14: P | R14: P | S14: P | T14: P
A15: 10 | B15: นาง | C15: สุนันทา วิบูลวัชริยกุล | D15: พนักงานพิมพ์ ส.3 | E15: สำนักงานเกษตรและสหกรณ์จังหวัดกำแพงเพชร | F15: P | J15: P | K15: P | N15: P | O15: P | Q15: P | R15: P | S15: P
A16: 11 | B16: นางสาว | C16: เกตสิริ เทียมเพชร | D16: เจ้าหน้าที่วิเคราะห์นโยบายและแผนเฉพาะกิจ | E16: สำนักงานเกษตรและสหกรณ์จังหวัดกำแพงเพชร | F16: P | J16: P | K16: P | M16: P | N16: P | O16: P | Q16: P | S16: P | U16: P
A17: 12 | B17: นางสาว | C17: กัญญกร กิตติวงศธร | D17: เจ้าหน้าที่วิเคราะห์นโยบายและแผน | E17: สำนักงานเกษตรและสหกรณ์จังหวัดกำแพงเพชร | F17: P | J17: P | K17: P | N17: P | O17: P | Q17: P | S17: P
A18: 13 | B18: นางสาว | C18: กิติวรรณ จั่นแก้ว | D18: เจ้าหน้าที่วิเคราะห์นโยบายและแผน | E18: สำนักงานเกษตรและสหกรณ์จังหวัดกำแพงเพชร | F18: P | G18: P | H18: P | I18: P | K18: P | M18: P | N18: P | O18: P | Q18: P | R18: P | T18: P | U18: P
A19: 14 | B19: นางสาว | C19: พันทิพา ศรีสวัสดิ์ | D19: เจ้าหน้าที่วิเคราะห์นโยบายและแผน | E19: สำนักงานเกษตรและสหกรณ์จังหวัดกำแพงเพชร | F19: P | J19: P | K19: P | N19: P | O19: P | Q19: P | R19: P
A20: 15 | B20: นาง | C20: รุ่งนภา​ หึมวัง | D20: เจ้าหน้าที่วิเคราะห์นโยบายและแผน | E20: สำนักงานเกษตรและสหกรณ์จังหวัดกำแพงเพชร | F20: P | H20: P | J20: P | N20: P | S20: P | T20: P
A21: 16 | B21: นาง | C21: ภัญศรัตม์ ธีรสกุล | D21: เจ้าหน้าที่วิเคราะนโยบายและแผน | E21: สำนักงานเกษตรและสหกรณ์จังหวัดกำแพงเพชร | F21: P | G21: P | H21: P | I21: P | J21: P | N21: P | O21: P | Q21: P | R21: P | S21: P
A22: 17 | B22: นางสาว | C22: อาภัสสรา เมฆสินธ์ | D22: เจ้าหน้าที่วิเคราะห์นโยบายและแผน | E22: สำนักงานเกษตรและสหกรณ์จังหวัดกำแพงเพชร | F22: P | G22: P | H22: P | I22: P | J22: P | L22: P | N22: P | O22: P | P22: P | Q22: P | T22: P | U22: P
A23: 18 | B23: นาง | C23: พิมพัตรา ศิริชัย | D23: เจ้าหน้าที่บริหารงานทั่วไป | E23: สำนักงานเกษตรและสหกรณ์จังหวัดกำแพงเพชร | F23: P | G23: P | H23: P | I23: P | J23: P | K23: P | L23: P | M23: P | N23: P | O23: P | P23: P | Q23: P | S23: P | U23: P
A24: 19 | B24: นาย | C24: ปฏิวัติ วงค์แก้ว | D24: เจ้าหน้าที่ทั่วไป | E24: สำนักงานเกษตรและสหกรณ์จังหวัดกำแพงเพชร | F24: P | G24: P | H24: P | I24: P | J24: P | K24: P | L24: P | M24: P | N24: P | O24: P | P24: P | Q24: P | S24: P | U24: P
A25: 20 | B25: นางสาว | C25: อ้อยทิพย์ ชมมะลิ | D25: เจ้าพนักงานการเงินและบัญชี | E25: สำนักงานเกษตรและสหกรณ์จังหวัดกำแพงเพชร | F25: P | J25: P | K25: P | L25: P | M25: P | N25: P | O25: P | P25: P | Q25: P | R25: P | S25: P | T25: P
A26: 21 | B26: นางสาว | C26: ปิยนุช รอดเมือง | D26: เจ้าพนักงานธุรการ | E26: สำนักงานเกษตรและสหกรณ์จังหวัดกำแพงเพชร | F26: P | G26: P | H26: P | I26: P | J26: P | K26: P | L26: P | M26: P | N26: P | O26: P | P26: P | Q26: P | R26: P | S26: P | T26: P | U26: P
A27: 22 | B27: นางสาว | C27: โสภิตา​ ถมอินทร์ | D27: เจ้าหน้าที่บันทึกข้อมูล | E27: สำนักงานเกษตรและสหกรณ์จังหวัดกำแพงเพชร | H27: P | N27: P | O27: P | Q27: P | S27: P | U27: P
A28: 23 | B28: นางสาว | C28: รุ่งทิพย์ ทองคำสัมฤทธิ์ | D28: เจ้าหน้าที่โครงการเกษตรกรรมยั่งยืน | E28: สำนักงานเกษตรและสหกรณ์จังหวัดกำแพงเพชร | F28: P | G28: P | H28: P | J28: P | L28: P | N28: P | Q28: P | T28: P | U28: P
A29: 24 | B29: นาย | C29: ณัฐ ม่วงขำ | D29: งานยานพานะ | E29: สำนักงานเกษตรและสหกรณ์จังหวัดกำแพงเพชร | F29: P | J29: P | K29: P | M29: P | N29: P | O29: P | Q29: P | S29: P | U29: P
A30: 25 | B30: นาย | C30: กิจพงษ์ หร่นขำ | D30: พนักงานขับรถยนต์ | E30: สำนักงานเกษตรและสหกรณ์จังหวัดกำแพงเพชร | F30: P | J30: P | K30: P | L30: P | N30: P | O30: P | S30: P | U30: P
A31: 26 | B31: นาง | C31: บุญยัง เอี่ยมพราว | D31: นักการภารโรง | E31: สำนักงานเกษตรและสหกรณ์จังหวัดกำแพงเพชร | F31: P | G31: P | H31: P | I31: P | J31: P | K31: P | L31: P | M31: P | N31: P | O31: P | P31: P | S31: P | T31: P | U31: P
A32: สำนักงานเกษตรและสหกรณ์ จังหวัดเชียงราย
A33: 1 | B33: นาย | C33: อดิศร จันทรประภาเลิศ | D33: เกษตรและสหกรณ์จังหวัดเชียงราย | E33: สำนักงานเกษตรและสหกรณ์จังหวัดเชียงราย | F33: P | G33: P | H33: P | I33: P | J33: P | K33: P | L33: P | M33: P | N33: P | O33: P | P33: P | Q33: P | R33: P | S33: P | T33: P | U33: P
A34: 2 | B34: นางสาว | C34: วณิชชา ดวงสม | D34: นักวิเคราะห์นโยบายและแผนชำนาญการ | E34: สำนักงานเกษตรและสหกรณ์จังหวัดเชียงราย | F34: P | G34: P | H34: P | I34: P | J34: P | K34: P | L34: P | M34: P | N34: P | O34: P | P34: P | Q34: P | R34: P | S34: P | T34: P | U34: P
A35: 3 | B35: นาง | C35: ปรัญฐนี ไชยองค์การ | D35: นักวิเคราะห์นโยบายและแผนชำนาญการ | E35: สำนักงานเกษตรและสหกรณ์จังหวัดเชียงราย | F35: P | G35: P | H35: P | I35: P | J35: P | K35: P | L35: P | M35: P | N35: P | O35: P | P35: P | Q35: P | R35: P | S35: P | T35: P | U35: P
A36: 4 | B36: นางสาว | C36: อรฤทัย เครือจันทร์ | D36: นักวิเคราะห์นโยบายและแผนชำนาญการ | E36: สำนักงานเกษตรและสหกรณ์จังหวัดเชียงราย | F36: P | L36: P | T36: P
A37: 5 | B37: นาง | C37: วิมล สิงคราช | D37: เจ้าพนักงานธุรการชำนาญงาน | E37: สำนักงานเกษตรและสหกรณ์จังหวัดเชียงราย | F37: P | G37: P | H37: P | I37: P | J37: P | K37: P | L37: P | M37: P | N37: P | O37: P | P37: P | Q37: P | R37: P | S37: P | T37: P | U37: P
A38: 6 | B38: นาง | C38: จิดาภา ทวีสมบัติ | D38: เจ้าพนักงานธุรการชำนาญงาน | E38: สำนักงานเกษตรและสหกรณ์จังหวัดเชียงราย | F38: P | G38: P | H38: P | I38: P | J38: P | L38: P | M38: P | N38: P | O38: P | P38: P | Q38: P | R38: P | S38: P | T38: P | U38: P
A39: 7 | B39: นาง | C39: บุปผา สมบูรณชัย | D39: เจ้าพนักงานการและบัญชีปฏิบัติงาน | E39: สำนักงานเกษตรและสหกรณ์จังหวัดเชียงราย | F39: P | G39: P | H39: P | I39: P | J39: P | K39: P | L39: P | M39: P | N39: P | O39: P | P39: P | Q39: P | R39: P | S39: P | T39: P | U39: P
A40: 8 | B40: นางสาว | C40: วิไลวรรณ ไชยเรือน | D40: พนักงานพิมพ์ ส 4 | E40: สำนักงานเกษตรและสหกรณ์จังหวัดเชียงราย | F40: P | G40: P | H40: P | I40: P | J40: P | K40: P | L40: P | M40: P | N40: P | O40: P | P40: P | Q40: P | R40: P | S40: P | T40: P | U40: P
A41: 9 | B41: นางสาว | C41: สาวิภา จันทร์ป้อ | D41: เจ้าหน้าที่วิเคราะห์นโยบายและแผน | E41: สำนักงานเกษตรและสหกรณ์จังหวัดเชียงราย | F41: P | G41: P | H41: P | I41: P | J41: P | K41: P | L41: P | M41: P | N41: P | O41: P | P41: P | Q41: P | R41: P | S41: P | T41: P | U41: P
...

Sheet กษ. ภาคใต้
A1: กิจกรรมตั้งปณิธานความดีของบุคลากร สป.กษ. ประจำปีงบประมาณ พ.ศ. 2565
A3: ลำดับ | B3: คำนำหน้า | C3: ชื่อ-สกุล | D3: ตำแหน่ง | E3: หน่วยงาน | F3: 2.1 ด้านการป้องกันการทุจริต | L3: 2.2 ด้านส่งเสริมคุณธรรมและจริยธรรม | Q3: 2.3 ด้านอื่นๆ
F4: 1. ปฏิบัติงานตามเวลาราชการ (08.30 - 16.30 น.) ไม่เบียดบังเวลาราชการเพื่อประโยชน์ส่วนตน | G4: 2. ปฏิบัติงานตามกฎ ระเบียบ และข้อบังคับ | H4: 3. ปฏิบัติงานด้วยความซื่อสัตย์ สุจริต มีความรับผิดชอบต่อหน้าที่ของตนเอง | I4: 4. ใช้ทรัพย์สินของราชการในการปฏิบัติงานราชการเท่านั้น | J4: 5. ไม่รับ-ไม่ให้ หรือเรียกรับของขวัญและของกำนัล ทรัพย์สินหรือประโยชน์อื่นใดจากการปฏิบัติหน้าที่ | K4: 6. ไม่เพิกเฉยหากพบการกระทำ หรือเหตุการณ์ที่อาจเกิดการทุจริต | L4: 1. เข้าร่วมกิจกรรมจิตอาสาหรือกิจกรรมบำเพ็ญประโยชน์เพื่อส่วนรวม | M4: 2. เสียสละประโยชน์ส่วนตนเพื่อประโยชน์ส่วนรวม ไม่เอารัดเอาเปรียบผู้อื่น | N4: 3. ประพฤติตนเป็นพลเมืองที่ดี รักษาสัญญา มีความขยันขันแข็ง อ่อนน้อมถ่อมตน พูดจาสุภาพ | O4: 4. ยิ้มแย้มแจ่มใส มีมิตรสัมพันธ์ไมตรีจิตอันดีต่อเพื่อนร่วมงาน และผู้มารับบริการ | P4: 5. ประพฤติปฏิบัติตัวตามคำสอนของแต่ละศาสนา เช่น เข้าวัดทำบุญ ตักบาตร ฟังเทศน์ เข้าโบสถ์ มัสยิด หรือประกอบพิธีการต่างๆ ตามศาสนาที่ตนเองนับถือ เป็นต้น | Q4: 1. ค้นคว้าหาความรู้ หมั่นพัฒนาตนเองอยู่เสมอ | R4: 2. มีความริเริ่มสร้างสรรค์ ปรับปรุงพัฒนางานให้ดียิ่งขึ้น | S4: 3. ใช้ทรัพยากรอย่างประหยัดและคุ้มค่า | T4: 4. นำหลักปรัชญาเศรษฐกิจ พอเพียงมาใช้ในการดำเนินชีวิต | U4: 5. สวมใส่เครื่องแต่งกายถูกระเบียบ และอนุรักษ์ชุดผ้าไทยอยู่เสมอเมื่อมีโอกาส
A5: สำนักงานเกษตรและสหกรณ์ จังหวัดกระบี่
A6: 1 | B6: นาย | C6: เกียรติศักดิ์ นารีเลิศ | D6: เกษตรและสหกรณ์จังหวัด | E6: สำนักงานเกษตรและสหกรณ์จังหวัดกระบี่ | F6: P | G6: P | H6: P | I6: P | J6: P | K6: P | L6: P | M6: P | N6: P | O6: P | P6: P | Q6: P | R6: P | S6: P | T6: P | U6: P
A7: 2 | B7: นาง | C7: เบญจวรรณ แสงศรีจันทร์ | D7: นักวิเคราะห์นโยบายและแผนชำนาญการ | E7: สำนักงานเกษตรและสหกรณ์จังหวัดกระบี่ | F7: P | G7: P | H7: P | I7: P | J7: P | K7: P | M7: P | N7: P | O7: P | Q7: P | R7: P | T7: P | U7: P
A8: 3 | B8: นางสาว | C8: ศศิพรรณ โรจนหัสดิน | D8: นักวิเคราะห์นโยบายและแผนชำนาญการ | E8: สำนักงานเกษตรและสหกรณ์จังหวัดกระบี่ | J8: P | P8: P | S8: P
A9: 4 | B9: นาง | C9: กัลยาณี สิทธิไพศาลกุล | D9: นักวิเคราะห์นโยบายและแผนชำนาญการ | E9: สำนักงานเกษตรและสหกรณ์จังหวัดกระบี่ | H9: P | J9: P | L9: P | Q9: P | R9: P
A10: 5 | B10: นาง | C10: กันต์ฤทัย เอ่งฉ้วน | D10: นักจัดการงานทั่วไปชำนาญการ | E10: สำนักงานเกษตรและสหกรณ์จังหวัดกระบี่ | F10: P | G10: P | H10: P | J10: P | L10: P | M10: P | N10: P | O10: P | P10: P | Q10: P | R10: P | U10: P
A11: 6 | B11: นางสาว | C11: อัจฉรีพร สุขเกิด | D11: นักวิเคราะห์นโยบายและแผน | E11: สำนักงานเกษตรและสหกรณ์จังหวัดกระบี่ | J11: P | K11: P | N11: P | Q11: P
A12: 7 | B12: นาง | C12: สายบัว สุภาพ | D12: นักวิเคราะห์นโยบายและแผน | E12: สำนักงานเกษตรและสหกรณ์จังหวัดกระบี่ | F12: P | G12: P | H12: P | I12: P | J12: P | K12: P | L12: P | M12: P | N12: P | O12: P | P12: P | Q12: P | R12: P | S12: P | T12: P | U12: P
A13: 8 | B13: นางสาว | C13: พัชมณ มารถโอสถ | D13: เจ้าพนักงานการเงินและบัญชีปฏิบัติงาน | E13: สำนักงานเกษตรและสหกรณ์จังหวัดกระบี่ | G13: P | H13: P | I13: P | J13: P | K13: P | M13: P | N13: P | O13: P | P13: P | Q13: P | R13: P | S13: P | T13: P
A14: 9 | B14: นางสาว | C14: ปณิตา คงแก้ว | D14: เจ้าหน้าที่วิเคราะห์นโยบายและแผน | E14: สำนักงานเกษตรและสหกรณ์จังหวัดกระบี่ | H14: P | O14: P | S14: P
A15: 10 | B15: นางสาว | C15: พิมพ์ปวีณ์ สุวรรณรัตน์ | D15: เจ้าหน้าที่วิเคราะห์นโยบายและแผน | E15: สำนักงานเกษตรและสหกรณ์จังหวัดกระบี่ | F15: P | G15: P | H15: P | I15: P | J15: P | K15: P | L15: P | M15: P | N15: P | O15: P | P15: P | Q15: P | R15: P | S15: P | T15: P | U15: P
A16: 11 | B16: นางสาว | C16: วิไลวรรณ กาญจนถิ่น | D16: เจ้าหน้าที่วิเคราะห์นโยบายและแผน | E16: สำนักงานเกษตรและสหกรณ์จังหวัดกระบี่ | G16: P | H16: P | J16: P | K16: P | L16: P | M16: P | N16: P | O16: P | P16: P | Q16: P | U16: P
A17: 12 | B17: นางสาว | C17: จิระประภา ปรีดาผล | D17: เจ้าหน้าที่วิเคราะห์นโยบายและแผน | E17: สำนักงานเกษตรและสหกรณ์จังหวัดกระบี่ | F17: P | G17: P | H17: P | I17: P | J17: P | K17: P | L17: P | M17: P | N17: P | O17: P | P17: P | Q17: P | R17: P | S17: P | T17: P | U17: P
A18: 13 | B18: นางสาว | C18: อศัลยา สิงหบำรุง | D18: เจ้าหน้าที่วิเคราะห์นโยบายและแผน | E18: สำนักงานเกษตรและสหกรณ์จังหวัดกระบี่ | F18: P | G18: P | H18: P | I18: P | J18: P | K18: P | L18: P | M18: P | N18: P | O18: P | P18: P | Q18: P | R18: P | S18: P | T18: P | U18: P
A19: 14 | B19: นางสาว | C19: ณัฏฐ์นรี​ แก้ว​ประไพ​ | D19: เจ้าหน้าที่วิเคราะห์นโยบายและแผน | E19: สำนักงานเกษตรและสหกรณ์จังหวัดกระบี่ | F19: P | G19: P | H19: P | I19: P | J19: P | K19: P | L19: P | M19: P | N19: P | O19: P | P19: P | Q19: P | R19: P | S19: P | T19: P | U19: P
A20: 15 | B20: นาย | C20: อราม แสนบอโด | D20: เจ้าหน้าที่วิเคราะห์นโยบายและแผน | E20: สำนักงานเกษตรและสหกรณ์จังหวัดกระบี่ | F20: P | G20: P | H20: P | I20: P | J20: P | K20: P | L20: P | M20: P | N20: P | O20: P | P20: P | Q20: P | S20: P | U20: P
A21: 16 | B21: นางสาว | C21: จิรัฐกานต์ สุวรรณวงศ์ | D21: เจ้าหน้าที่ธุรการ | E21: สำนักงานเกษตรและสหกรณ์จังหวัดกระบี่ | F21: P | G21: P | H21: P | I21: P | J21: P | K21: P | L21: P | M21: P | Q21: P | R21: P | S21: P
A22: 17 | B22: นางสาว | C22: อนุสรา ผิวดี | D22: เจ้าหน้าที่บันทึกข้อมูล | E22: สำนักงานเกษตรและสหกรณ์จังหวัดกระบี่ | F22: P | G22: P | H22: P | I22: P | J22: P | K22: P | L22: P | M22: P | N22: P | O22: P | P22: P | Q22: P | R22: P | S22: P | T22: P | U22: P
A23: 18 | B23: นาย | C23: ศิริพงศ์ เสียมไหม | D23: พนักงานขับรถยนต์ | E23: สำนักงานเกษตรและสหกรณ์จังหวัดกระบี่ | G23: P | H23: P | N23: P | P23: P | S23: P
A24: สำนักงานเกษตรและสหกรณ์ จังหวัดชุมพร
A25: 1 | B25: นาง | C25: อมรรัตน์ กาวชู | D25: เกษตรและสหกรณ์จังหวัด | E25: สำนักงานเกษตรและสหกรณ์จังหวัดชุมพร | F25: P | G25: P | H25: P | I25: P | J25: P | K25: P | L25: P | M25: P | N25: P | O25: P | P25: P | Q25: P | R25: P | S25: P | T25: P | U25: P
A26: 2 | B26: นาง | C26: นงลักษณ์​ ตันสกุล | D26: นักวิเคราะห์นโยบายและแผนชำนาญการ | E26: สำนักงานเกษตรและสหกรณ์จังหวัดชุมพร | H26: P | L26: P | M26: P | T26: P | U26: P
A27: 3 | B27: นาย | C27: วิชิต ชูแนม | D27: นักวิเคราะห์นโยบายและแผนชำนาญการ | E27: สำนักงานเกษตรและสหกรณ์จังหวัดชุมพร | F27: P | G27: P | H27: P | I27: P | J27: P | K27: P | L27: P | M27: P | N27: P | O27: P | P27: P | Q27: P | R27: P | S27: P | T27: P | U27: P
A28: 4 | B28: นางสาว | C28: จันทร คำดา | D28: นักวิเคราะห์นโยบายและแผนชำนาญการ | E28: สำนักงานเกษตรและสหกรณ์จังหวัดชุมพร | F28: P | G28: P | H28: P | I28: P | J28: P | K28: P | L28: P | M28: P | N28: P | O28: P | P28: P | Q28: P | R28: P | S28: P | T28: P | U28: P
A29: 5 | B29: นาย | C29: สมชาย ศรีรุ้ง | D29: นักวิเคราะห์นโยบายและแผนชำนาญการ | E29: สำนักงานเกษตรและสหกรณ์จังหวัดชุมพร | G29: P | M29: P | O29: P | S29: P
A30: 6 | B30: นาง | C30: ปิยนุช อุทธยานมณี | D30: นักวิเคราะห์นโยบายและแผนชำนาญการ | E30: สำนักงานเกษตรและสหกรณ์จังหวัดชุมพร | F30: P | G30: P | H30: P | I30: P | J30: P | K30: P | L30: P | M30: P | N30: P | O30: P | Q30: P | S30: P | T30: P | U30: P
A31: 7 | B31: นางสาว | C31: ญานิศา ทั่งเนียม | D31: นักจัดการงานทั่วไปชำนาญการ | E31: สำนักงานเกษตรและสหกรณ์จังหวัดชุมพร | H31: P | J31: P | L31: P | O31: P | T31: P | U31: P
A32: 8 | B32: นาง | C32: วรรณวิภา พรมพิชัย | D32: เจ้าพนักธุรการปฏิบัติงาน | E32: สำนักงานเกษตรและสหกรณ์จังหวัดชุมพร | G32: P | L32: P | T32: P
A33: 9 | B33: นางสาว | C33: วรรณี คำภูมิวรรณ | D33: เจ้าหน้าที่วิเคราะห์นโยบายและแผน | E33: สำนักงานเกษตรและสหกรณ์จังหวัดชุมพร | F33: P | G33: P | L33: P | O33: P | U33: P
A34: 10 | B34: นางสาว | C34: เอเชีย เปรินทร์ | D34: เจ้าหน้าที่วิเคราะห์นโยบายและแผน | E34: สำนักงานเกษตรและสหกรณ์จังหวัดชุมพร | F34: P | G34: P | H34: P | I34: P | J34: P | K34: P | L34: P | M34: P | N34: P | O34: P | P34: P | Q34: P | R34: P | S34: P | T34: P | U34: P
A35: 11 | B35: นางสาว | C35: ศุภานัน เศลาอนันต์ | D35: เจ้าหน้าที่วิเคราะห์นโยบายและแผน | E35: สำนักงานเกษตรและสหกรณ์จังหวัดชุมพร | F35: P | G35: P | H35: P | I35: P | J35: P | K35: P | L35: P | M35: P | N35: P | Q35: P | R35: P | U35: P
A36: 12 | B36: นางสาว | C36: วรัญญา พวงแก้ว | D36: เจ้าหน้าที่วิเคราะห์แผนและนโยบาย | E36: สำนักงานเกษตรและสหกรณ์จังหวัดชุมพร | F36: P | G36: P | H36: P | I36: P | J36: P | K36: P | M36: P | N36: P | O36: P | Q36: P | R36: P | S36: P
A37: 13 | B37: นาง | C37: มัลลิกา วิเชียรนรา | D37: เจ้าหน้าที่วิเคราะห์นโยบายและแผน | E37: สำนักงานเกษตรและสหกรณ์จังหวัดชุมพร | H37: P | J37: P | L37: P | T37: P
A38: 14 | B38: นาย | C38: ศุภณัฐ วันเพ็ง | D38: เจ้าหน้าที่วิเคราะห์แผนและนโยบาย | E38: สำนักงานเกษตรและสหกรณ์จังหวัดชุมพร | F38: P | G38: P | H38: P | I38: P | K38: P | M38: P | Q38: P | S38: P | U38: P
A39: 15 | B39: นาย | C39: ชัยวัฒน์ รุ่งแก้ว | D39: เจ้าหน้าที่วิเคราะห์นโยบายและแผน | E39: สำนักงานเกษตรและสหกรณ์จังหวัดชุมพร | F39: P | G39: P | H39: P | I39: P | J39: P | K39: P | L39: P | M39: P | N39: P | O39: P | P39: P | Q39: P | R39: P | S39: P | T39: P | U39: P
A40: 16 | B40: นาย | C40: สิทธิชัย นวลศรี | D40: เจ้าหน้าที่โครงการพัฒนาเกษตรกรรมยั่งยืน | E40: สำนักงานเกษตรและสหกรณ์จังหวัดชุมพร | F40: P | I40: P | J40: P | L40: P | N40: P | O40: P | Q40: P | S40: P | T40: P
A41: 17 | B41: นาง | C41: จีรนิตย์ ครุฑปักษี | D41: เจ้าหน้าที่ธุรการ | E41: สำนักงานเกษตรและสหกรณ์จังหวัดชุมพร | F41: P | L41: P | S41: P
...

Sheet กษ. ภาคตะวันออกเฉียงเหนือ
A1: กิจกรรมตั้งปณิธานความดีของบุคลากร สป.กษ. ประจำปีงบประมาณ พ.ศ. 2565
A3: ลำดับ | B3: คำนำหน้า | C3: ชื่อ-สกุล | D3: ตำแหน่ง | E3: หน่วยงาน | F3: 2.1 ด้านการป้องกันการทุจริต | L3: 2.2 ด้านส่งเสริมคุณธรรมและจริยธรรม | Q3: 2.3 ด้านอื่นๆ
F4: 1. ปฏิบัติงานตามเวลาราชการ (08.30 - 16.30 น.) ไม่เบียดบังเวลาราชการเพื่อประโยชน์ส่วนตน | G4: 2. ปฏิบัติงานตามกฎ ระเบียบ และข้อบังคับ | H4: 3. ปฏิบัติงานด้วยความซื่อสัตย์ สุจริต มีความรับผิดชอบต่อหน้าที่ของตนเอง | I4: 4. ใช้ทรัพย์สินของราชการในการปฏิบัติงานราชการเท่านั้น | J4: 5. ไม่รับ-ไม่ให้ หรือเรียกรับของขวัญและของกำนัล ทรัพย์สินหรือประโยชน์อื่นใดจากการปฏิบัติหน้าที่ | K4: 6. ไม่เพิกเฉยหากพบการกระทำ หรือเหตุการณ์ที่อาจเกิดการทุจริต | L4: 1. เข้าร่วมกิจกรรมจิตอาสาหรือกิจกรรมบำเพ็ญประโยชน์เพื่อส่วนรวม | M4: 2. เสียสละประโยชน์ส่วนตนเพื่อประโยชน์ส่วนรวม ไม่เอารัดเอาเปรียบผู้อื่น | N4: 3. ประพฤติตนเป็นพลเมืองที่ดี รักษาสัญญา มีความขยันขันแข็ง อ่อนน้อมถ่อมตน พูดจาสุภาพ | O4: 4. ยิ้มแย้มแจ่มใส มีมิตรสัมพันธ์ไมตรีจิตอันดีต่อเพื่อนร่วมงาน และผู้มารับบริการ | P4: 5. ประพฤติปฏิบัติตัวตามคำสอนของแต่ละศาสนา เช่น เข้าวัดทำบุญ ตักบาตร ฟังเทศน์ เข้าโบสถ์ มัสยิด หรือประกอบพิธีการต่างๆ ตามศาสนาที่ตนเองนับถือ เป็นต้น | Q4: 1. ค้นคว้าหาความรู้ หมั่นพัฒนาตนเองอยู่เสมอ | R4: 2. มีความริเริ่มสร้างสรรค์ ปรับปรุงพัฒนางานให้ดียิ่งขึ้น | S4: 3. ใช้ทรัพยากรอย่างประหยัดและคุ้มค่า | T4: 4. นำหลักปรัชญาเศรษฐกิจ พอเพียงมาใช้ในการดำเนินชีวิต | U4: 5. สวมใส่เครื่องแต่งกายถูกระเบียบ และอนุรักษ์ชุดผ้าไทยอยู่เสมอเมื่อมีโอกาส
A5: สำนักงานเกษตรและสหกรณ์ จังหวัดกาฬสินธุ์
A6: 1 | B6: นาย | C6: ศักดิ์ชาย เพ็งอารีย์ | D6: เกษตรและสหกรณ์จังหวัดกาฬสินธุ์ | E6: สำนักงานเกษตรและสหกรณ์จังหวัดกาฬสินธุ์ | F6: P | G6: P | H6: P | I6: P | J6: P | K6: P | L6: P | M6: P | N6: P | O6: P | P6: P | Q6: P | R6: P | S6: P | T6: P | U6: P
A7: 2 | B7: นางสาว | C7: อัมพรพรรณ อภิรักษากร | D7: นักวิเคราะห์นโยบายและแผนชำนาญการพิเศษ | E7: สำนักงานเกษตรและสหกรณ์จังหวัดกาฬสินธุ์ | F7: P | G7: P | H7: P | J7: P | K7: P | M7: P | N7: P | O7: P | P7: P | Q7: P | R7: P | S7: P | T7: P | U7: P
A8: 3 | B8: นาย | C8: ปณต กลิ่นเชิดชู | D8: นักวิเคราะห์นโยบายและแผนชำนาญการ | E8: สำนักงานเกษตรและสหกรณ์จังหวัดกาฬสินธุ์ | G8: P | J8: P | M8: P | N8: P | Q8: P | S8: P
A9: 4 | B9: นาง | C9: วิไลวรรณ กายาผาด | D9: นักวิเคราะห์นโยบายและแผนชำนาญการ | E9: สำนักงานเกษตรและสหกรณ์จังหวัดกาฬสินธุ์ | H9: P | J9: P | N9: P | O9: P | Q9: P | U9: P
A10: 5 | B10: นาง | C10: สมจิต ภูจอมจิตร | D10: นักวิเคราะห์นโยบายและแผนชำนาญการ | E10: สำนักงานเกษตรและสหกรณ์จังหวัดกาฬสินธุ์ | F10: P | G10: P | H10: P | I10: P | J10: P | K10: P | L10: P | M10: P | N10: P | O10: P | P10: P | Q10: P | R10: P | S10: P | T10: P | U10: P
A11: 6 | B11: นาย | C11: สามารถ มูลคำ | D11: นักวิเคราะห์นโยบายและแผนชำนาญการ | E11: สำนักงานเกษตรและสหกรณ์จังหวัดกาฬสินธุ์ | F11: P | G11: P | H11: P | I11: P | K11: P | L11: P | M11: P | O11: P | Q11: P | R11: P | S11: P | T11: P
A12: 7 | B12: นาย | C12: ศักดิ์ราวี ขันทอง | D12: นักวิเคราะห์นโยบายและแผนปฏิบัติการ | E12: สำนักงานเกษตรและสหกรณ์จังหวัดกาฬสินธุ์ | F12: P | G12: P | H12: P | I12: P | J12: P | M12: P | N12: P | O12: P | Q12: P | S12: P | U12: P
A13: 8 | B13: นาง | C13: นิจชญาน์ ฤทธิรงค์ | D13: เจ้าพนักงานธุรการชำนาญงาน | E13: สำนักงานเกษตรและสหกรณ์จังหวัดกาฬสินธุ์ | G13: P | H13: P | O13: P | P13: P | S13: P | U13: P
A14: 9 | B14: นาง | C14: พัชราภรณ์ มูลคำ | D14: เจ้าพนักงานการเงินและบัญชีชำนาญงาน | E14: สำนักงานเกษตรและสหกรณ์จังหวัดกาฬสินธุ์ | F14: P | G14: P | H14: P | I14: P | J14: P | K14: P | M14: P | N14: P | O14: P | S14: P | T14: P
A15: 10 | B15: นางสาว | C15: กรรณิการ์ โสมา | D15: เจ้าหน้าที่วิเคราะห์นโยบายและแผน | E15: สำนักงานเกษตรและสหกรณ์จังหวัดกาฬสินธุ์ | F15: P | G15: P | H15: P | I15: P | J15: P | K15: P | L15: P | M15: P | N15: P | O15: P | P15: P | Q15: P | R15: P | S15: P | T15: P | U15: P
A16: 11 | B16: นางสาว | C16: เกวลี ภูพุทธา | D16: เจ้าหน้าที่วิเคราะห์นโยบายและแผน | E16: สำนักงานเกษตรและสหกรณ์จังหวัดกาฬสินธุ์ | F16: P | G16: P | H16: P | I16: P | J16: P | K16: P | L16: P | M16: P | N16: P | O16: P | P16: P | Q16: P | R16: P | S16: P | T16: P | U16: P
A17: 12 | B17: นาย | C17: ไชยประสิทธ์ ศรีวิเศษ | D17: เจ้าหน้าที่วิเคราะห์นโยบายและแผน | E17: สำนักงานเกษตรและสหกรณ์จังหวัดกาฬสินธุ์ | F17: P | G17: P | H17: P | I17: P | J17: P | K17: P | L17: P | M17: P | N17: P | O17: P | P17: P | Q17: P | R17: P | S17: P | T17: P | U17: P
A18: 13 | B18: นาย | C18: ธัญวิทย์ เพชรผ่องพันธุ์ | D18: เจ้าหน้าที่วิเคราะห์นโยบายและแผน | E18: สำนักงานเกษตรและสหกรณ์จังหวัดกาฬสินธุ์ | F18: P | G18: P | H18: P | I18: P | J18: P | K18: P | L18: P | M18: P | N18: P | O18: P | P18: P | Q18: P | R18: P | S18: P | T18: P | U18: P
A19: 14 | B19: นาย | C19: ปิยราช พรรณะ | D19: เจ้าหน้าที่วิเคราะห์นโยบายและแผน | E19: สำนักงานเกษตรและสหกรณ์จังหวัดกาฬสินธุ์ | F19: P | G19: P | H19: P | J19: P | L19: P | N19: P | U19: P
A20: 15 | B20: นางสาว | C20: เพ็ญนิดา ภูกิจนาค | D20: เจ้าหน้าที่วิเคราะห์นโยบายและแผน | E20: สำนักงานเกษตรและสหกรณ์จังหวัดกาฬสินธุ์ | F20: P | G20: P | H20: P | I20: P | J20: P | K20: P | L20: P | M20: P | N20: P | O20: P | P20: P | Q20: P | R20: P | S20: P | T20: P | U20: P
A21: 16 | B21: นาง | C21: ยุภาพร วิชัยพรม | D21: เจ้าหน้าที่วิเคราะห์นโยบายและแผน | E21: สำนักงานเกษตรและสหกรณ์จังหวัดกาฬสินธุ์ | F21: P | G21: P | H21: P | J21: P | L21: P | N21: P | Q21: P | U21: P
A22: 17 | B22: นาย | C22: สิริพงษ์ ครบอุดม | D22: เจ้าหน้าที่วิเคราะห์นโยบายและแผน | E22: สำนักงานเกษตรและสหกรณ์จังหวัดกาฬสินธุ์ | F22: P | G22: P | H22: P | I22: P | J22: P | K22: P | L22: P | M22: P | N22: P | O22: P | P22: P | Q22: P | R22: P | S22: P | T22: P | U22: P
A23: 18 | B23: นาง | C23: สุจิตตา ขันทอง | D23: เจ้าหน้าที่วิเคราะห์นโยบายและแผน | E23: สำนักงานเกษตรและสหกรณ์จังหวัดกาฬสินธุ์ | F23: P | H23: P | M23: P | N23: P | S23: P | U23: P
A24: 19 | B24: นางสาว | C24: วชิราพร อุ่นบุญเรือง | D24: เจ้าหน้าที่บันทึกข้อมูลโครงการฯ | E24: สำนักงานเกษตรและสหกรณ์จังหวัดกาฬสินธุ์ | F24: P | M24: P | N24: P | O24: P | Q24: P | S24: P | U24: P
A25: 20 | B25: นางสาว | C25: ศิริประภา ภูน้ำดี | D25: เจ้าพนักงานการเงินและบัญชี | E25: สำนักงานเกษตรและสหกรณ์จังหวัดกาฬสินธุ์ | F25: P | G25: P | H25: P | I25: P | J25: P | K25: P | L25: P | M25: P | N25: P | O25: P | P25: P | Q25: P | U25: P
A26: สำนักงานเกษตรและสหกรณ์ จังหวัดขอนแก่น
A27: 1 | B27: นาย | C27: พัฒนา นุศรีอัน | D27: เกษตรและสหกรณ์จังหวัด | E27: สำนักงานเกษตรและสหกรณ์จังหวัดขอนแก่น | F27: P | G27: P | H27: P | K27: P | L27: P | M27: P | N27: P | O27: P | P27: P | Q27: P | R27: P | U27: P
A28: 2 | B28: นาย | C28: ชานนท์ ไกรศรีวรรธนะ | D28: นักวิเคราะห์นโยบายและแผนชำนาญการ | E28: สำนักงานเกษตรและสหกรณ์จังหวัดขอนแก่น | H28: P | J28: P | M28: P | N28: P | T28: P
A29: 3 | B29: นาย | C29: ณัฐฏ์ฐนนท์ พรหมถาวร | D29: นักวิเคราะห์นโยบายและแผนชำนาญการ | E29: สำนักงานเกษตรและสหกรณ์จังหวัดขอนแก่น | H29: P | L29: P | Q29: P
A30: 4 | B30: นาย | C30: ทรงศักดิ์ โวหาร | D30: นักวิเคราะห์นโยบายและแผนชำนาญการ | E30: สำนักงานเกษตรและสหกรณ์จังหวัดขอนแก่น | H30: P | J30: P | M30: P | O30: P | Q30: P | R30: P | S30: P
A31: 5 | B31: นางสาว | C31: ภัคจิรา สร้อยบับ | D31: นักวิเคราะห์นโยบายและแผนชำนาญการ | E31: สำนักงานเกษตรและสหกรณ์จังหวัดขอนแก่น | F31: P | G31: P | H31: P | I31: P | J31: P | K31: P | L31: P | M31: P | N31: P | O31: P | P31: P | Q31: P | R31: P | S31: P | T31: P | U31: P
A32: 6 | B32: นาย | C32: สมพร​ ศรี​ศิลป์​ | D32: นักวิเคราะห์​นโยบาย​และ​แผน​ช​ำ​นา​ญ​การ​ | E32: สำนักงานเกษตรและสหกรณ์จังหวัดขอนแก่น | F32: P | G32: P | H32: P | I32: P | J32: P | K32: P | L32: P | M32: P | N32: P | O32: P | P32: P | Q32: P | R32: P | S32: P | T32: P | U32: P
A33: 7 | B33: นาย | C33: มหรรณพ มงคล | D33: นักวิเคราะห์นโยบายและแผน | E33: สำนักงานเกษตรและสหกรณ์จังหวัดขอนแก่น | F33: P | G33: P | H33: P | L33: P | M33: P | O33: P | Q33: P | R33: P | U33: P
A34: 8 | B34: นาย | C34: เอกรัตน์ สัชฌุกร | D34: นักวิเคราะห์นโยบายและแผน | E34: สำนักงานเกษตรและสหกรณ์จังหวัดขอนแก่น | F34: P | G34: P | H34: P | I34: P | J34: P | K34: P | L34: P | M34: P | N34: P | O34: P | P34: P | Q34: P | R34: P | S34: P | T34: P | U34: P
A35: 9 | B35: นาย | C35: วรเชษฐ์​ ชาวเหนือ | D35: นักวิเคราะห์​นโยบายและแผน | E35: สำนักงานเกษตรและสหกรณ์จังหวัดขอนแก่น | F35: P | L35: P | T35: P
A36: 10 | B36: นาง | C36: นุชดา ทองสา | D36: เจ้าพนักงานธุรการชำนาญงาน | E36: สำนักงานเกษตรและสหกรณ์จังหวัดขอนแก่น | G36: P | H36: P | J36: P | L36: P | M36: P | N36: P | O36: P | P36: P | Q36: P | R36: P | S36: P | T36: P | U36: P
A37: 11 | B37: นาง | C37: ปรานอม ชินวงษ์ | D37: เจ้าพนักงานธุรการชำนาญงาน | E37: สำนักงานเกษตรและสหกรณ์จังหวัดขอนแก่น | F37: P | G37: P | H37: P | L37: P | M37: P | N37: P | O37: P | P37: P | Q37: P | S37: P | T37: P | U37: P
A38: 12 | B38: นางสาว | C38: พรพิมล ภานุพงศ์วรรธกา | D38: เจ้าพนักงานธุรการชำนาญงาน | E38: สำนักงานเกษตรและสหกรณ์จังหวัดขอนแก่น | G38: P | H38: P | L38: P | N38: P | O38: P | P38: P | Q38: P | T38: P | U38: P
A39: 13 | B39: นางสาว | C39: อมรรัตน์ ภูกองชะนะ | D39: เจ้าพนักงานการเงินและบัญชีปฏิบัติงาน | E39: สำนักงานเกษตรและสหกรณ์จังหวัดขอนแก่น | G39: P | H39: P | J39: P | K39: P | N39: P | O39: P | P39: P | Q39: P | S39: P | T39: P
A40: 14 | B40: นาง | C40: ดวงรัก สุธาธรรม | D40: พนักงานพิมพ์ ส3 | E40: สำนักงานเกษตรและสหกรณ์จังหวัดขอนแก่น | F40: P | G40: P | H40: P | I40: P | J40: P | K40: P | L40: P | M40: P | N40: P | O40: P | P40: P | Q40: P | R40: P | S40: P | T40: P | U40: P
A41: 15 | B41: ส.อ. | C41: คณิต สุธาธรรม | D41: พนักงานขับรถยนต์ ส2 | E41: สำนักงานเกษตรและสหกรณ์จังหวัดขอนแก่น | F41: P | G41: P | H41: P | I41: P | J41: P | K41: P | L41: P | M41: P | N41: P | O41: P | P41: P | Q41: P | R41: P | S41: P | T41: P | U41: P
...

Sheet กษ. ภาคตะวันออก
A1: กิจกรรมตั้งปณิธานความดีของบุคลากร สป.กษ. ประจำปีงบประมาณ พ.ศ. 2565
A3: ลำดับ | B3: คำนำหน้า | C3: ชื่อ-สกุล | D3: ตำแหน่ง | E3: หน่วยงาน | F3: 2.1 ด้านการป้องกันการทุจริต | L3: 2.2 ด้านส่งเสริมคุณธรรมและจริยธรรม | Q3: 2.3 ด้านอื่นๆ
F4: 1. ปฏิบัติงานตามเวลาราชการ (08.30 - 16.30 น.) ไม่เบียดบังเวลาราชการเพื่อประโยชน์ส่วนตน | G4: 2. ปฏิบัติงานตามกฎ ระเบียบ และข้อบังคับ | H4: 3. ปฏิบัติงานด้วยความซื่อสัตย์ สุจริต มีความรับผิดชอบต่อหน้าที่ของตนเอง | I4: 4. ใช้ทรัพย์สินของราชการในการปฏิบัติงานราชการเท่านั้น | J4: 5. ไม่รับ-ไม่ให้ หรือเรียกรับของขวัญและของกำนัล ทรัพย์สินหรือประโยชน์อื่นใดจากการปฏิบัติหน้าที่ | K4: 6. ไม่เพิกเฉยหากพบการกระทำ หรือเหตุการณ์ที่อาจเกิดการทุจริต | L4: 1. เข้าร่วมกิจกรรมจิตอาสาหรือกิจกรรมบำเพ็ญประโยชน์เพื่อส่วนรวม | M4: 2. เสียสละประโยชน์ส่วนตนเพื่อประโยชน์ส่วนรวม ไม่เอารัดเอาเปรียบผู้อื่น | N4: 3. ประพฤติตนเป็นพลเมืองที่ดี รักษาสัญญา มีความขยันขันแข็ง อ่อนน้อมถ่อมตน พูดจาสุภาพ | O4: 4. ยิ้มแย้มแจ่มใส มีมิตรสัมพันธ์ไมตรีจิตอันดีต่อเพื่อนร่วมงาน และผู้มารับบริการ | P4: 5. ประพฤติปฏิบัติตัวตามคำสอนของแต่ละศาสนา เช่น เข้าวัดทำบุญ ตักบาตร ฟังเทศน์ เข้าโบสถ์ มัสยิด หรือประกอบพิธีการต่างๆ ตามศาสนาที่ตนเองนับถือ เป็นต้น | Q4: 1. ค้นคว้าหาความรู้ หมั่นพัฒนาตนเองอยู่เสมอ | R4: 2. มีความริเริ่มสร้างสรรค์ ปรับปรุงพัฒนางานให้ดียิ่งขึ้น | S4: 3. ใช้ทรัพยากรอย่างประหยัดและคุ้มค่า | T4: 4. นำหลักปรัชญาเศรษฐกิจ พอเพียงมาใช้ในการดำเนินชีวิต | U4: 5. สวมใส่เครื่องแต่งกายถูกระเบียบ และอนุรักษ์ชุดผ้าไทยอยู่เสมอเมื่อมีโอกาส
A5: สำนักงานเกษตรและสหกรณ์ จังหวัดจันทบุรี
A6: 1 | B6: นางสาว | C6: ธารารัตน โพธิ์ศรี | D6: เกษตรและสหกรณ์จังหวัดจันทบุรี | E6: สำนักงานเกษตรและสหกรณ์จังหวัดจันทบุรี | G6: P | H6: P | J6: P | L6: P | M6: P | Q6: P | R6: P
A7: 2 | B7: นางสาว | C7: จุรีรัตน์ กานต์ธีระกุล | D7: นักวิเคราะห์นโยบายและแผนปฏิบัติการ | E7: สำนักงานเกษตรและสหกรณ์จังหวัดจันทบุรี | G7: P | J7: P | K7: P | P7: P | S7: . | T7: P
A8: 3 | B8: นางสาว | C8: ณพิชญา วาจามธุระ | D8: นักวิเคราะห์นโยบายและแผนชำนาญการ | E8: สำนักงานเกษตรและสหกรณ์จังหวัดจันทบุรี | F8: P | G8: P | H8: P | J8: P | L8: P | M8: P | N8: P | O8: P | P8: P | Q8: P | R8: P
A9: 4 | B9: นางสาว | C9: เจนจิรา โสพิมพ์ | D9: เจ้าพนักงานการเงินและบัญชีชำนาญงาน | E9: สำนักงานเกษตรและสหกรณ์จังหวัดจันทบุรี | F9: P | G9: P | H9: P | I9: P | L9: P
A10: 5 | B10: นางสาว | C10: ณัฏฐนภัส อยู่เกษม | D10: เจ้าพนักงานการเงินและบัญชีชำนาญงาน | E10: สำนักงานเกษตรและสหกรณ์จังหวัดจันทบุรี | F10: P | G10: P | O10: P | Q10: P | S10: P
A11: 6 | B11: นาย | C11: ปัญญา สารศิลป์ | D11: พนักงานพิมพ์ ส 3 | E11: สำนักงานเกษตรและสหกรณ์จังหวัดจันทบุรี | F11: P | I11: P | L11: P | T11: P | U11: P
A12: 7 | B12: นาง | C12: กฤษติยา กิติคุณ | D12: นักวิเคราะห์นโยบายและแผน | E12: สำนักงานเกษตรและสหกรณ์จังหวัดจันทบุรี | F12: P | O12: P | P12: P | S12: P | U12: P
A13: 8 | B13: นาย | C13: ชนินทร์ สุวรรณ | D13: เจ้าหน้าที่วิเคราะห์นโยบายและแผน | E13: สำนักงานเกษตรและสหกรณ์จังหวัดจันทบุรี | H13: P | N13: P | O13: P | Q13: P | S13: P
A14: 9 | B14: นางสาว | C14: ฐิณัฏฐ์ชญา แก้ววิเชียร | D14: เจ้าหน้าที่วิเคราะห์นโยบายและแผน | E14: สำนักงานเกษตรและสหกรณ์จังหวัดจันทบุรี | F14: P | G14: P | H14: P | L14: P | N14: P | S14: P | T14: P
A15: 10 | B15: นาย | C15: ณัฐวุฒิ เฝ้าถนอม | D15: เจ้าหน้าที่วิเคราะห์นโยบายและแผน | E15: สำนักงานเกษตรและสหกรณ์จังหวัดจันทบุรี | F15: P | G15: P | H15: P | L15: P | M15: P | N15: P | R15: P | T15: P
A16: 11 | B16: นาง | C16: นิภาวรรณ วลาบูรณ์ | D16: เจ้าหน้าที่วิเคราะห์นโยบายและแผน | E16: สำนักงานเกษตรและสหกรณ์จังหวัดจันทบุรี | F16: P | P16: P | S16: P | T16: P | U16: P
A17: 12 | B17: นางสาว | C17: นิสสนาถ บุญลาภ | D17: เจ้าหน้าที่วิเคราะห์นโยบายและแผน | E17: สำนักงานเกษตรและสหกรณ์จังหวัดจันทบุรี | F17: P | G17: P | H17: P | I17: P | J17: P | K17: P | L17: P | M17: P | N17: P | O17: P | S17: P
A18: 13 | B18: นาย | C18: วสุพล ตะเพียนทอง | D18: เจ้าหน้าที่วิเคราะห์นโยบายและแผน | E18: สำนักงานเกษตรและสหกรณ์จังหวัดจันทบุรี | G18: P | I18: P | N18: P | O18: P | S18: P
A19: 14 | B19: นางสาว | C19: อรุณรัตน์ ผลบำรุง | D19: เจ้าหน้าที่วิเคราะห์นโยบายและแผน | E19: สำนักงานเกษตรและสหกรณ์จังหวัดจันทบุรี | G19: P | H19: P | I19: P | L19: P | N19: P | Q19: P | S19: P
A20: 15 | B20: นาย | C20: ธวัชชัย พูลสมบัติ | D20: เจ้าหน้าที่วิเคราะห์นโยบายและแผน | E20: สำนักงานเกษตรและสหกรณ์จังหวัดจันทบุรี | H20: P | N20: P | O20: P | Q20: P | T20: P
A21: 16 | B21: นาย | C21: พีรพงศ์ คงรอต | D21: เจ้าหน้าที่วิเคราะห์นโยบายและแผน | E21: สำนักงานเกษตรและสหกรณ์จังหวัดจันทบุรี | F21: P | H21: P | J21: P | M21: P | S21: P
A22: 17 | B22: นางสาว | C22: ศิริขวัญ วงศ์กำปั่น | D22: เจ้าหน้าที่บริหารงานทั่วไป | E22: สำนักงานเกษตรและสหกรณ์จังหวัดจันทบุรี | G22: P | H22: P | I22: P | J22: P | L22: P | Q22: P
A23: 18 | B23: นางสาว | C23: ศิริวรรณ ธิติอนันต์ปกรณ์ | D23: เจ้าพนักงานธุรการชำนาญงาน | E23: สำนักงานเกษตรและสหกรณ์จังหวัดจันทบุรี | F23: P | G23: P | H23: P | I23: P | J23: P | M23: P | N23: P | O23: P | Q23: P | R23: P | S23: P | T23: P
A24: 19 | B24: นางสาว | C24: สุภาภรณ์ บุญเรือง | D24: เจ้าพนักงานธุรการ | E24: สำนักงานเกษตรและสหกรณ์จังหวัดจันทบุรี | F24: P | J24: P | L24: P | P24: P | U24: P
A25: สำนักงานเกษตรและสหกรณ์ จังหวัดฉะเชิงเทรา
A26: 1 | B26: นางสาว | C26: สุพัชรรงค์ สุมารินทร์ | D26: นักวิเคราะห์นโยบายและแผนชำนาญการ | E26: สำนักงานเกษตรและสหกรณ์จังหวัดฉะเชิงเทรา | G26: P | J26: P | K26: P | N26: P | O26: P | Q26: P | R26: P | U26: P
A27: 2 | B27: ว่าที่พันตรี | C27: วราห์ ประดับพงษ์ | D27: นักวิเคราะห์นโยบายและแผนชำนาญการ | E27: สำนักงานเกษตรและสหกรณ์จังหวัดฉะเชิงเทรา | F27: P | G27: P | H27: P | I27: P | J27: P | K27: P | L27: P | M27: P | N27: P | O27: P | P27: P | Q27: P | R27: P | S27: P | T27: P | U27: P
A28: 3 | B28: นางสาว | C28: ธนาวดี มาระโภชน์ | D28: นักวิเคราะห์นโยบายและแผนปฏิบัติการ | E28: สำนักงานเกษตรและสหกรณ์จังหวัดฉะเชิงเทรา | H28: P | J28: P | K28: P | M28: P | O28: P | Q28: P | U28: P
A29: 4 | B29: นางสาว | C29: วรรณรัตน์ รู้รักษา | D29: นักวิเคราะห์นโยบายและแผนปฏิบัติการ | E29: สำนักงานเกษตรและสหกรณ์จังหวัดฉะเชิงเทรา | F29: P | G29: P | H29: P | I29: P | J29: P | K29: P | L29: P | M29: P | N29: P | O29: P | P29: P | Q29: P | R29: P | S29: P | T29: P
