Workbook

Sheet สรุปข้อมูลบุคลากร
A1: ข้อมูลการตั้งปณิธานความดีของบุคลากร สป.กษ. ประจำปีงบประมาณ พ.ศ. 2565
A3: ลำดับ | B3: ชื่อหน่วยงาน | C3: 1. จำนวนข้าราชการ (คน) | D3: 2. จำนวนลูกจ้างประจำ (คน) | E3: 3. จำนวนพนักงานราชการ (คน) | F3: 4. จำนวนจ้างเหมา (คน) | G3: 5. จำนวนอื่นๆ เช่น พนักงานกองทุนฯ เป็นต้น (คน) | H3: บุคลากรทั้งหมด (คน) | I3: จำนวนบุคลากรที่ตั้งปณิธาน (คน) | J3: คิดเป็นร้อยละ | N3: ไม่แจ้งจำนวน+ไม่ตั้ง | O3: แจ้งจำนวน+ไม่ตั้ง | P3: ไม่แจ้งจำนวน+ตั้งแล้ว | Q3: ตั้งแล้วเกิน50 | R3: ตั้งแล้วไม่ถึง50 | S3: ตั้งครบ100เปอร์
A4: รวมทั้งหมด (คน) | H4: =H26+H46+H65+H81+H103+H112 -> 2650 | I4: =I26+I46+I65+I81+I103+I112 -> 2168 | J4: =SUM((I4*100)/H4) -> 81.811321 | L4: หน่วยงาน | M4: 96 | N4: 0 | O4: 0 | P4: 0 | Q4: 95 | R4: 1 | S4: 28 หน่วยงาน
A5: ส่วนกลาง
A6: 1 | B6: กองกลาง | C6: 21 | D6: 0 | E6: 6 | F6: 17 | G6: 0 | H6: =SUM(C6:G6) -> 44 | I6: 26 | J6: =SUM((I6*100)/H6) -> 59.090909
A7: 2 | B7: กองการเจ้าหน้าที่ | C7: 44 | D7: 2 | E7: 19 | F7: 1 | G7: 4 | H7: =SUM(C7:G7) -> 70 | I7: 58 | J7: =SUM((I7*100)/H7) -> 82.857143
A8: 3 | B8: กองเกษตรสารนิเทศ | C8: 18 | D8: 5 | E8: 11 | F8: 15 | G8: 0 | H8: =SUM(C8:G8) -> 49 | I8: 37 | J8: =SUM((I8*100)/H8) -> 75.510204
A9: 4 | B9: กองคลัง | C9: 49 | D9: 15 | E9: 24 | F9: 7 | G9: 2 | H9: =SUM(C9:G9) -> 97 | I9: 53 | J9: =SUM((I9*100)/H9) -> 54.639175
A10: 5 | B10: กองนโยบายเทคโนโลยีเพื่อการเกษตรและเกษตรกรรมยั่งยืน | C10: 21 | D10: 0 | E10: 9 | F10: 11 | G10: 0 | H10: =SUM(C10:G10) -> 41 | I10: 41 | J10: =SUM((I10*100)/H10) -> 100
A11: 6 | B11: กองบริหารงานกองทุนสงเคราะห์เกษตรกร | C11: 5 | D11: 0 | E11: 0 | F11: 1 | G11: 22 | H11: =SUM(C11:G11) -> 28 | I11: 27 | J11: =SUM((I11*100)/H11) -> 96.428571
A12: 7 | B12: กองประสานงานโครงการพระราชดำริ | C12: 7 | D12: 0 | E12: 4 | F12: 0 | G12: 0 | H12: 9 | I12: 6 | J12: =SUM((I12*100)/H12) -> 66.666667
A13: 8 | B13: ศูนย์เทคโนโลยีสารสนเทศและการสื่อสาร | C13: 19 | D13: 0 | E13: 9 | F13: 4 | G13: 0 | H13: =SUM(C13:G13) -> 32 | I13: 32 | J13: =SUM((I13*100)/H13) -> 100
A14: 9 | B14: ศูนย์ปฏิบัติการต่อต้านการทุจริต | C14: 4 | D14: 0 | E14: 4 | F14: 1 | G14: 0 | H14: =SUM(C14:G14) -> 9 | I14: 9 | J14: =SUM((I14*100)/H14) -> 100
A15: 10 | B15: ศูนย์อำนวยการบริหารจังหวัดชายแดนภาคใต้ | C15: 1 | D15: 0 | E15: 1 | F15: 1 | G15: 0 | H15: =SUM(C15:G15) -> 3 | I15: 3 | J15: =SUM((I15*100)/H15) -> 100
A16: 11 | B16: สถาบันเกษตราธิการ | C16: 21 | D16: 5 | E16: 7 | F16: 4 | G16: 0 | H16: =SUM(C16:G16) -> 37 | I16: 20 | J16: =SUM((I16*100)/H16) -> 54.054054
A17: 12 | B17: สํานักงานที่ปรึกษาการเกษตรต่างประเทศ | C17: 14 | D17: 0 | E17: 0 | F17: 0 | G17: 0 | H17: 12 | I17: 6 | J17: =SUM((I17*100)/H17) -> 50
A18: 13 | B18: สำนักกฎหมาย | C18: 26 | D18: 0 | E18: 7 | F18: 5 | G18: 3 | H18: =SUM(C18:G18) -> 41 | I18: 28 | J18: =SUM((I18*100)/H18) -> 68.292683
A19: 14 | B19: สำนักการเกษตรต่างประเทศ | C19: 21 | D19: 2 | E19: 8 | F19: 7 | G19: 0 | H19: 37 | I19: 37 | J19: =SUM((I19*100)/H19) -> 100
A20: 15 | B20: สำนักงานเลขานุการคณะกรรมการส่งเสริมและพัฒนาระบบเกษตรพันธสัญญา | C20: 11 | D20: 0 | E20: 1 | F20: 5 | G20: 0 | H20: =SUM(C20:G20) -> 17 | I20: 17 | J20: =SUM((I20*100)/H20) -> 100
A21: 16 | B21: สำนักตรวจราชการ | C21: 19 | D21: 2 | E21: 15 | F21: 5 | G21: 0 | H21: =SUM(C21:G21) -> 41 | I21: 31 | J21: =SUM((I21*100)/H21) -> 75.609756
A22: 17 | B22: สำนักตรวจสอบภายใน | C22: 19 | D22: 0 | E22: 5 | F22: 1 | G22: 0 | H22: =SUM(C22:G22) -> 25 | I22: 24 | J22: =SUM((I22*100)/H22) -> 96
A23: 18 | B23: สำนักบริหารกองทุนเพื่อช่วยเหลือเกษตรและรับเรื่องร้องเรียน | C23: 16 | D23: 0 | E23: 7 | F23: 9 | G23: 19 | H23: =SUM(C23:G23) -> 51 | I23: 43 | J23: =SUM((I23*100)/H23) -> 84.313725
A24: 19 | B24: สำนักแผนงานและโครงการพิเศษ | C24: 28 | D24: 0 | E24: 31 | F24: 10 | G24: 0 | H24: =SUM(C24:G24) -> 69 | I24: 65 | J24: =SUM((I24*100)/H24) -> 94.202899
A25: 20 | B25: สำนักพัฒนาระบบบริหาร | C25: 10 | D25: 0 | E25: 6 | F25: 1 | G25: 0 | H25: =SUM(C25:G25) -> 17 | I25: 17 | J25: =SUM((I25*100)/H25) -> 100
A26: รวม | H26: =SUM(H6:H25) -> 729 | I26: =SUM(I6:I25) -> 580 | J26: =SUM((I26*100)/H26) -> 79.561043
A27: ส่วนภูมิภาค ภาคกลาง
A28: 1 | B28: สำนักงานเกษตรและสหกรณ์ จังหวัดกาญจนบุรี | C28: 8 | D28: 0 | E28: 12 | F28: 6 | G28: 0 | H28: =SUM(C28:G28) -> 26 | I28: 26 | J28: =SUM((I28*100)/H28) -> 100
A29: 2 | B29: สำนักงานเกษตรและสหกรณ์ จังหวัดชัยนาท | C29: 10 | D29: 1 | E29: 11 | F29: 11 | G29: 0 | H29: =SUM(C29:G29) -> 33 | I29: 26 | J29: =SUM((I29*100)/H29) -> 78.787879
A30: 3 | B30: สำนักงานเกษตรและสหกรณ์ จังหวัดนครนายก | C30: 5 | D30: 0 | E30: 7 | F30: 5 | G30: 1 | H30: =SUM(C30:G30) -> 18 | I30: 18 | J30: =SUM((I30*100)/H30) -> 100
A31: 4 | B31: สำนักงานเกษตรและสหกรณ์ จังหวัดนครปฐม | C31: 9 | D31: 1 | E31: 9 | F31: 6 | G31: 0 | H31: =SUM(C31:G31) -> 25 | I31: 11 | J31: =SUM((I31*100)/H31) -> 44
A32: 5 | B32: สำนักงานเกษตรและสหกรณ์ จังหวัดนนทบุรี | C32: 8 | D32: 0 | E32: 7 | F32: 3 | G32: 0 | H32: =SUM(C32:G32) -> 18 | I32: 15 | J32: =SUM((I32*100)/H32) -> 83.333333
A33: 6 | B33: สำนักงานเกษตรและสหกรณ์ จังหวัดปทุมธานี | C33: 8 | D33: 0 | E33: 8 | F33: 5 | G33: 0 | H33: =SUM(C33:G33) -> 21 | I33: 12 | J33: =SUM((I33*100)/H33) -> 57.142857
A34: 7 | B34: สำนักงานเกษตรและสหกรณ์ จังหวัดประจวบคีรีขันธ์ | C34: 8 | D34: 0 | E34: 10 | F34: 4 | G34: 1 | H34: =SUM(C34:G34) -> 23 | I34: 23 | J34: =SUM((I34*100)/H34) -> 100
A35: 8 | B35: สำนักงานเกษตรและสหกรณ์ จังหวัดพระนครศรีอยุธยา | C35: 9 | D35: 0 | E35: 9 | F35: 4 | G35: 0 | H35: =SUM(C35:G35) -> 22 | I35: 19 | J35: =SUM((I35*100)/H35) -> 86.363636
A36: 9 | B36: สำนักงานเกษตรและสหกรณ์ จังหวัดเพชรบุรี | C36: 9 | D36: 0 | E36: 10 | F36: 11 | G36: 0 | H36: =SUM(C36:G36) -> 30 | I36: 22 | J36: =SUM((I36*100)/H36) -> 73.333333
A37: 10 | B37: สำนักงานเกษตรและสหกรณ์ จังหวัดราชบุรี | C37: 9 | D37: 2 | E37: 10 | F37: 6 | G37: 0 | H37: =SUM(C37:G37) -> 27 | I37: 21 | J37: =SUM((I37*100)/H37) -> 77.777778
A38: 11 | B38: สำนักงานเกษตรและสหกรณ์ จังหวัดลพบุรี | C38: 10 | D38: 0 | E38: 10 | F38: 4 | G38: 0 | H38: =SUM(C38:G38) -> 24 | I38: 22 | J38: =SUM((I38*100)/H38) -> 91.666667
A39: 12 | B39: สำนักงานเกษตรและสหกรณ์ จังหวัดสมุทรปราการ | C39: 5 | D39: 1 | E39: 4 | F39: 5 | G39: 3 | H39: =SUM(C39:G39) -> 18 | I39: 15 | J39: =SUM((I39*100)/H39) -> 83.333333
... A45: 18 | B45: สำนักงานเกษตรและสหกรณ์ จังหวัดอ่างทอง | C45: 8 | D45: 1 | E45: 2 | F45: 5 | G45: 1 | H45: =SUM(C45:G45) -> 17 | I45: 17 | J45: =SUM((I45*100)/H45) -> 100
A46: รวม | H46: =SUM(H28:H45) -> 415 | I46: =SUM(I28:I45) -> 347 | J46: =SUM((I46*100)/H46) -> 83.614458
A47: ส่วนภูมิภาค ภาคเหนือ
A48: 1 | B48: สำนักงานเกษตรและสหกรณ์ จังหวัดกำแพงเพชร | C48: 8 | D48: 3 | E48: 11 | F48: 3 | G48: 1 | H48: =SUM(C48:G48) -> 26 | I48: 26 | J48: =SUM((I48*100)/H48) -> 100
A49: 2 | B49: สำนักงานเกษตรและสหกรณ์ จังหวัดเชียงราย | C49: 11 | D49: 2 | E49: 13 | F49: 9 | G49: 0 | H49: =SUM(C49:G49) -> 35 | I49: 18 | J49: =SUM((I49*100)/H49) -> 51.428571
A50: 3 | B50: สำนักงานเกษตรและสหกรณ์ จังหวัดเชียงใหม่ | C50: 11 | D50: 0 | E50: 13 | F50: 9 | G50: 0 | H50: =SUM(C50:G50) -> 33 | I50: 19 | J50: =SUM((I50*100)/H50) -> 57.575758
A51: 4 | B51: สำนักงานเกษตรและสหกรณ์ จังหวัดตาก | C51: 10 | D51: 0 | E51: 11 | F51: 5 | G51: 0 | H51: =SUM(C51:G51) -> 26 | I51: 26 | J51: =SUM((I51*100)/H51) -> 100
A52: 5 | B52: สำนักงานเกษตรและสหกรณ์ จังหวัดนครสวรรค์ | C52: 8 | D52: 0 | E52: 11 | F52: 6 | G52: 0 | H52: =SUM(C52:G52) -> 25 | I52: 17 | J52: =SUM((I52*100)/H52) -> 68
A53: 6 | B53: สำนักงานเกษตรและสหกรณ์ จังหวัดน่าน | C53: 9 | D53: 1 | E53: 12 | F53: 6 | G53: 0 | H53: =SUM(C53:G53) -> 28 | I53: 28 | J53: =SUM((I53*100)/H53) -> 100
A54: 7 | B54: สำนักงานเกษตรและสหกรณ์ จังหวัดพะเยา | C54: 8 | D54: 1 | E54: 10 | F54: 5 | G54: 0 | H54: =SUM(C54:G54) -> 24 | I54: 14 | J54: =SUM((I54*100)/H54) -> 58.333333
A55: 8 | B55: สำนักงานเกษตรและสหกรณ์ จังหวัดพิจิตร | C55: 7 | D55: 2 | E55: 11 | F55: 5 | G55: 0 | H55: =SUM(C55:G55) -> 25 | I55: 21 | J55: =SUM((I55*100)/H55) -> 84
A56: 9 | B56: สำนักงานเกษตรและสหกรณ์ จังหวัดพิษณุโลก | C56: 11 | D56: 1 | E56: 13 | F56: 4 | G56: 0 | H56: 28 | I56: 28 | J56: =SUM((I56*100)/H56) -> 100
A57: 10 | B57: สำนักงานเกษตรและสหกรณ์ จังหวัดเพชรบูรณ์ | C57: 8 | D57: 1 | E57: 9 | F57: 4 | G57: 0 | H57: =SUM(C57:G57) -> 22 | I57: 22 | J57: =SUM((I57*100)/H57) -> 100
A58: 11 | B58: สำนักงานเกษตรและสหกรณ์ จังหวัดแพร่ | C58: 7 | D58: 0 | E58: 5 | F58: 4 | G58: 5 | H58: =SUM(C58:G58) -> 21 | I58: 19 | J58: =SUM((I58*100)/H58) -> 90.47619
A59: 12 | B59: สำนักงานเกษตรและสหกรณ์ จังหวัดแม่ฮ่องสอน | C59: 7 | D59: 2 | E59: 9 | F59: 3 | G59: 0 | H59: =SUM(C59:G59) -> 21 | I59: 21 | J59: =SUM((I59*100)/H59) -> 100
A60: 13 | B60: สำนักงานเกษตรและสหกรณ์ จังหวัดลำปาง | C60: 10 | D60: 2 | E60: 10 | F60: 5 | G60: 0 | H60: =SUM(C60:G60) -> 27 | I60: 18 | J60: =SUM((I60*100)/H60) -> 66.666667
A61: 14 | B61: สำนักงานเกษตรและสหกรณ์ จังหวัดลำพูน | C61: 7 | D61: 1 | E61: 10 | F61: 5 | G61: 2 | H61: =SUM(C61:G61) -> 25 | I61: 19 | J61: =SUM((I61*100)/H61) -> 76
A62: 15 | B62: สำนักงานเกษตรและสหกรณ์ จังหวัดสุโขทัย | C62: 7 | D62: 3 | E62: 10 | F62: 4 | G62: 0 | H62: =SUM(C62:G62) -> 24 | I62: 22 | J62: =SUM((I62*100)/H62) -> 91.666667
A63: 16 | B63: สำนักงานเกษตรและสหกรณ์ จังหวัดอุตรดิตถ์ | C63: 8 | D63: 2 | E63: 10 | F63: 4 | G63: 0 | H63: =SUM(C63:G63) -> 24 | I63: 23 | J63: =SUM((I63*100)/H63) -> 95.833333
A64: 17 | B64: สำนักงานเกษตรและสหกรณ์ จังหวัดอุทัยธานี | C64: 8 | D64: 0 | E64: 10 | F64: 5 | G64: 0 | H64: =SUM(C64:G64) -> 23 | I64: 13 | J64: =SUM((I64*100)/H64) -> 56.521739
A65: รวม | H65: =SUM(H48:H64) -> 437 | I65: =SUM(I48:I64) -> 354 | J65: =SUM((I65*100)/H65) -> 81.006865
A66: ส่วนภูมิภาค ภาคใต้
A67: 1 | B67: สำนักงานเกษตรและสหกรณ์ จังหวัดกระบี่ | C67: 8 | D67: 0 | E67: 5 | F67: 6 | G67: 6 | H67: =SUM(C67:G67) -> 25 | I67: 18 | J67: =SUM((I67*100)/H67) -> 72
A68: 2 | B68: สำนักงานเกษตรและสหกรณ์ จังหวัดชุมพร | C68: 8 | D68: 0 | E68: 11 | F68: 5 | G68: 0 | H68: =SUM(C68:G68) -> 24 | I68: 23 | J68: =SUM((I68*100)/H68) -> 95.833333
A69: 3 | B69: สำนักงานเกษตรและสหกรณ์ จังหวัดตรัง | C69: 9 | D69: 2 | E69: 9 | F69: 5 | G69: 0 | H69: =SUM(C69:G69) -> 25 | I69: 25 | J69: =SUM((I69*100)/H69) -> 100
A70: 4 | B70: สำนักงานเกษตรและสหกรณ์ จังหวัดนครศรีธรรมราช | C70: 12 | D70: 2 | E70: 12 | F70: 7 | G70: 2 | H70: =SUM(C70:G70) -> 35 | I70: 28 | J70: =SUM((I70*100)/H70) -> 80
A71: 5 | B71: สำนักงานเกษตรและสหกรณ์ จังหวัดนราธิวาส | C71: 12 | D71: 1 | E71: 9 | F71: 5 | G71: 1 | H71: =SUM(C71:G71) -> 28 | I71: 17 | J71: =SUM((I71*100)/H71) -> 60.714286
A72: 6 | B72: สำนักงานเกษตรและสหกรณ์ จังหวัดปัตตานี | C72: 9 | D72: 2 | E72: 4 | F72: 4 | G72: 5 | H72: =SUM(C72:G72) -> 24 | I72: 23 | J72: =SUM((I72*100)/H72) -> 95.833333
A73: 7 | B73: สำนักงานเกษตรและสหกรณ์ จังหวัดพังงา | C73: 9 | D73: 1 | E73: 4 | F73: 3 | G73: 0 | H73: =SUM(C73:G73) -> 17 | I73: 17 | J73: =SUM((I73*100)/H73) -> 100
A74: 8 | B74: สำนักงานเกษตรและสหกรณ์ จังหวัดพัทลุง | C74: 8 | D74: 1 | E74: 9 | F74: 6 | G74: 0 | H74: =SUM(C74:G74) -> 24 | I74: 19 | J74: =SUM((I74*100)/H74) -> 79.166667
A75: 9 | B75: สำนักงานเกษตรและสหกรณ์ จังหวัดภูเก็ต | C75: 9 | D75: 1 | E75: 7 | F75: 4 | G75: 0 | H75: =SUM(C75:G75) -> 21 | I75: 18 | J75: =SUM((I75*100)/H75) -> 85.714286
A76: 10 | B76: สำนักงานเกษตรและสหกรณ์ จังหวัดยะลา | C76: 9 | D76: 1 | E76: 9 | F76: 5 | G76: 0 | H76: =SUM(C76:G76) -> 24 | I76: 23 | J76: =SUM((I76*100)/H76) -> 95.833333
A77: 11 | B77: สำนักงานเกษตรและสหกรณ์ จังหวัดระนอง | C77: 10 | D77: 0 | E77: 7 | F77: 6 | G77: 0 | H77: =SUM(C77:G77) -> 23 | I77: 20 | J77: =SUM((I77*100)/H77) -> 86.956522
A78: 12 | B78: สำนักงานเกษตรและสหกรณ์ จังหวัดสงขลา | C78: 11 | D78: 3 | E78: 13 | F78: 7 | G78: 0 | H78: 35 | I78: 29 | J78: =SUM((I78*100)/H78) -> 82.857143
A79: 13 | B79: สำนักงานเกษตรและสหกรณ์ จังหวัดสตูล | C79: 9 | D79: 2 | E79: 7 | F79: 5 | G79: 0 | H79: =SUM(C79:G79) -> 23 | I79: 17 | J79: =SUM((I79*100)/H79) -> 73.913043
A80: 14 | B80: สำนักงานเกษตรและสหกรณ์ จังหวัดสุราษฎร์ธานี | C80: 11 | D80: 1 | E80: 5 | F80: 5 | G80: 7 | H80: =SUM(C80:G80) -> 29 | I80: 19 | J80: =SUM((I80*100)/H80) -> 65.517241
A81: รวม | H81: =SUM(H67:H80) -> 357 | I81: =SUM(I67:I80) -> 296 | J81: =SUM((I81*100)/H81) -> 82.913165
A82: ส่วนภูมิภาค ภาคตะวันออกเฉียงเหนือ
A83: 1 | B83: สำนักงานเกษตรและสหกรณ์ จังหวัดกาฬสินธุ์ | C83: 10 | E83: 9 | F83: 9 | G83: 2 | H83: =SUM(C83:G83) -> 30 | I83: 20 | J83: =SUM((I83*100)/H83) -> 66.666667
A84: 2 | B84: สำนักงานเกษตรและสหกรณ์ จังหวัดขอนแก่น | C84: 12 | D84: 2 | E84: 14 | F84: 13 | G84: 0 | H84: =SUM(C84:G84) -> 41 | I84: 34 | J84: =SUM((I84*100)/H84) -> 82.926829
A85: 3 | B85: สำนักงานเกษตรและสหกรณ์ จังหวัดชัยภูมิ | C85: 11 | D85: 0 | E85: 13 | F85: 6 | G85: 0 | H85: =SUM(C85:G85) -> 30 | I85: 21 | J85: =SUM((I85*100)/H85) -> 70
A86: 4 | B86: สำนักงานเกษตรและสหกรณ์ จังหวัดนครพนม | C86: 7 | D86: 0 | E86: 10 | F86: 4 | G86: 2 | H86: =SUM(C86:G86) -> 23 | I86: 20 | J86: =SUM((I86*100)/H86) -> 86.956522
A87: 5 | B87: สำนักงานเกษตรและสหกรณ์ จังหวัดนครราชสีมา | C87: 9 | D87: 0 | E87: 17 | F87: 12 | G87: 0 | H87: =SUM(C87:G87) -> 38 | I87: 27 | J87: =SUM((I87*100)/H87) -> 71.052632
A88: 6 | B88: สำนักงานเกษตรและสหกรณ์ จังหวัดบึงกาฬ | C88: 6 | E88: 9 | F88: 4 | G88: 1 | H88: =SUM(C88:G88) -> 20 | I88: 19 | J88: =SUM((I88*100)/H88) -> 95
A89: 7 | B89: สำนักงานเกษตรและสหกรณ์ จังหวัดบุรีรัมย์ | C89: 10 | D89: 2 | E89: 14 | F89: 5 | G89: 0 | H89: =SUM(C89:G89) -> 31 | I89: 22 | J89: =SUM((I89*100)/H89) -> 70.967742
A90: 8 | B90: สำนักงานเกษตรและสหกรณ์ จังหวัดมหาสารคาม | C90: 9 | D90: 0 | E90: 12 | F90: 6 | G90: 0 | H90: =SUM(C90:G90) -> 27 | I90: 14 | J90: =SUM((I90*100)/H90) -> 51.851852
A91: 9 | B91: สำนักงานเกษตรและสหกรณ์ จังหวัดมุกดาหาร | C91: 7 | D91: 2 | E91: 4 | F91: 2 | G91: 1 | H91: =SUM(C91:G91) -> 16 | I91: 10 | J91: =SUM((I91*100)/H91) -> 62.5
A92: 10 | B92: สำนักงานเกษตรและสหกรณ์ จังหวัดยโสธร | C92: 7 | D92: 0 | E92: 10 | F92: 6 | G92: 0 | H92: =SUM(C92:G92) -> 23 | I92: 20 | J92: =SUM((I92*100)/H92) -> 86.956522
A93: 11 | B93: สำนักงานเกษตรและสหกรณ์ จังหวัดร้อยเอ็ด | C93: 11 | D93: 0 | E93: 12 | F93: 6 | G93: 0 | H93: =SUM(C93:G93) -> 29 | I93: 24 | J93: =SUM((I93*100)/H93) -> 82.758621
A94: 12 | B94: สำนักงานเกษตรและสหกรณ์ จังหวัดเลย | C94: 8 | D94: 0 | E94: 9 | F94: 6 | G94: 0 | H94: =SUM(C94:G94) -> 23 | I94: 13 | J94: =SUM((I94*100)/H94) -> 56.521739
A95: 13 | B95: สำนักงานเกษตรและสหกรณ์ จังหวัดศรีสะเกษ | C95: 9 | D95: 0 | E95: 5 | F95: 5 | G95: 7 | H95: =SUM(C95:G95) -> 26 | I95: 20 | J95: =SUM((I95*100)/H95) -> 76.923077
A96: 14 | B96: สำนักงานเกษตรและสหกรณ์ จังหวัดสกลนคร | C96: 10 | D96: 1 | E96: 15 | F96: 5 | G96: 0 | H96: =SUM(C96:G96) -> 31 | I96: 27 | J96: =SUM((I96*100)/H96) -> 87.096774
A97: 15 | B97: สำนักงานเกษตรและสหกรณ์ จังหวัดสุรินทร์ | C97: 11 | D97: 1 | E97: 9 | F97: 5 | G97: 3 | H97: 30 | I97: 30 | J97: =SUM((I97*100)/H97) -> 100
A98: 16 | B98: สำนักงานเกษตรและสหกรณ์ จังหวัดหนองคาย | C98: 10 | D98: 1 | E98: 11 | F98: 4 | G98: 1 | H98: =SUM(C98:G98) -> 27 | I98: 27 | J98: =SUM((I98*100)/H98) -> 100
A99: 17 | B99: สำนักงานเกษตรและสหกรณ์ จังหวัดหนองบัวลำภู | C99: 8 | D99: 0 | E99: 11 | F99: 4 | G99: 0 | H99: =SUM(C99:G99) -> 23 | I99: 23 | J99: =SUM((I99*100)/H99) -> 100
A100: 18 | B100: สำนักงานเกษตรและสหกรณ์ จังหวัดอำนาจเจริญ | C100: 8 | D100: 0 | E100: 9 | F100: 4 | G100: 0 | H100: =SUM(C100:G100) -> 21 | I100: 21 | J100: =SUM((I100*100)/H100) -> 100
A101: 19 | B101: สำนักงานเกษตรและสหกรณ์ จังหวัดอุดรธานี | C101: 11 | D101: 1 | E101: 17 | F101: 6 | G101: 0 | H101: =SUM(C101:G101) -> 35 | I101: 35 | J101: =SUM((I101*100)/H101) -> 100
A102: 20 | B102: สำนักงานเกษตรและสหกรณ์จังหวัดอุบลราชธานี | C102: 9 | D102: 1 | E102: 14 | F102: 7 | G102: 0 | H102: =SUM(C102:G102) -> 31 | I102: 25 | J102: =SUM((I102*100)/H102) -> 80.645161
A103: รวม | H103: =SUM(H83:H102) -> 555 | I103: =SUM(I83:I102) -> 452 | J103: =SUM((I103*100)/H103) -> 81.441441
A104: ส่วนภูมิภาค ภาคตะวันออก
A105: 1 | B105: สำนักงานเกษตรและสหกรณ์ จังหวัดจันทบุรี | C105: 6 | D105: 1 | E105: 10 | F105: 2 | G105: 0 | H105: =SUM(C105:G105) -> 19 | I105: 19 | J105: =SUM((I105*100)/H105) -> 100
A106: 2 | B106: สำนักงานเกษตรและสหกรณ์ จังหวัดฉะเชิงเทรา | C106: 6 | D106: 1 | E106: 9 | F106: 4 | G106: 2 | H106: =SUM(C106:G106) -> 22 | I106: 20 | J106: =SUM((I106*100)/H106) -> 90.909091
...

Sheet ข้อมูลหัวข้อการตั้งปณิธาน
B1: สรุปข้อมูลการตั้งปณิธานแต่ละด้าน ของบุคลากร สป.กษ. ประจำปีงบประมาณ พ.ศ. 2565
A3: หัวข้อ/ส่วน | B3: จำนวนคน | C3: 2.1 ด้านการป้องกันการทุจริต | I3: 2.2 ด้านส่งเสริมคุณธรรมและจริยธรรม | N3: 2.3 ด้านอื่นๆ
C4: 1. ปฏิบัติงานตามเวลาราชการ (08.30 - 16.30 น.) ไม่เบียดบังเวลาราชการเพื่อประโยชน์ส่วนตน | D4: 2. ปฏิบัติงานตามกฎ ระเบียบ และข้อบังคับ | E4: 3. ปฏิบัติงานด้วยความซื่อสัตย์ สุจริต มีความรับผิดชอบต่อหน้าที่ของตนเอง | F4: 4. ใช้ทรัพย์สินของราชการในการปฏิบัติงานราชการเท่านั้น | G4: 5. ไม่รับ-ไม่ให้ หรือเรียกรับของขวัญและของกำนัล ทรัพย์สินหรือประโยชน์อื่นใดจากการปฏิบัติหน้าที่ | H4: 6. ไม่เพิกเฉยหากพบการกระทำ หรือเหตุการณ์ที่อาจเกิดการทุจริต | I4: 1. เข้าร่วมกิจกรรมจิตอาสาหรือกิจกรรมบำเพ็ญประโยชน์เพื่อส่วนรวม | J4: 2. เสียสละประโยชน์ส่วนตนเพื่อประโยชน์ส่วนรวม ไม่เอารัดเอาเปรียบผู้อื่น | K4: 3. ประพฤติตนเป็นพลเมืองที่ดี รักษาสัญญา มีความขยันขันแข็ง อ่อนน้อมถ่อมตน พูดจาสุภาพ | L4: 4. ยิ้มแย้มแจ่มใส มีมิตรสัมพันธ์ไมตรีจิตอันดีต่อเพื่อนร่วมงาน และผู้มารับบริการ | M4: 5. ประพฤติปฏิบัติตัวตามคำสอนของแต่ละศาสนา เช่น เข้าวัดทำบุญ ตักบาตร ฟังเทศน์ เข้าโบสถ์ มัสยิด หรือประกอบพิธีการต่างๆ ตามศาสนาที่ตนเองนับถือ เป็นต้น | N4: 1. ค้นคว้าหาความรู้ หมั่นพัฒนาตนเองอยู่เสมอ | O4: 2. มีความริเริ่มสร้างสรรค์ ปรับปรุงพัฒนางานให้ดียิ่งขึ้น | P4: 3. ใช้ทรัพยากรอย่างประหยัดและคุ้มค่า | Q4: 4. นำหลักปรัชญาเศรษฐกิจ พอเพียงมาใช้ในการดำเนินชีวิต | R4: 5. สวมใส่เครื่องแต่งกายถูกระเบียบ และอนุรักษ์ชุดผ้าไทยอยู่เสมอเมื่อมีโอกาส
A5: ส่วนกลาง | B5: =[1]สรุปข้อมูลบุคลากร!I26 -> 580 | C5: 354 | D5: 400 | E5: 487 | F5: 271 | G5: 351 | H5: 256 | I5: 241 | J5: 363 | K5: 362 | L5: 453 | M5: 300 | N5: 392 | O5: 307 | P5: 364 | Q5: 312 | R5: 232
A6: ภาคกลาง | B6: =[1]สรุปข้อมูลบุคลากร!I46 -> 347 | C6: 239 | D6: 256 | E6: 315 | F6: 197 | G6: 226 | H6: 178 | I6: 210 | J6: 234 | K6: 228 | L6: 287 | M6: 209 | N6: 252 | O6: 203 | P6: 230 | Q6: 219 | R6: 219
A7: ภาคเหนือ | B7: =[1]สรุปข้อมูลบุคลากร!I65 -> 354 | C7: 290 | D7: 258 | E7: 303 | F7: 217 | G7: 255 | H7: 211 | I7: 253 | J7: 241 | K7: 263 | L7: 308 | M7: 222 | N7: 273 | O7: 231 | P7: 259 | Q7: 242 | R7: 239
A8: ภาคใต้ | B8: =[1]สรุปข้อมูลบุคลากร!I81 -> 296 | C8: 226 | D8: 227 | E8: 251 | F8: 175 | G8: 215 | H8: 164 | I8: 217 | J8: 208 | K8: 207 | L8: 233 | M8: 172 | N8: 216 | O8: 184 | P8: 201 | Q8: 196 | R8: 187
A9: ภาคตะวันออกเฉียงเหนือ | B9: =[1]สรุปข้อมูลบุคลากร!I103 -> 452 | C9: 365 | D9: 379 | E9: 399 | F9: 311 | G9: 352 | H9: 308 | I9: 359 | J9: 356 | K9: 354 | L9: 380 | M9: 309 | N9: 379 | O9: 328 | P9: 361 | Q9: 341 | R9: 326
A10: ภาคตะวันออก | B10: =[1]สรุปข้อมูลบุคลากร!I112 -> 139 | C10: 99 | D10: 105 | E10: 123 | F10: 85 | G10: 96 | H10: 78 | I10: 102 | J10: 96 | K10: 103 | L10: 106 | M10: 80 | N10: 101 | O10: 91 | P10: 107 | Q10: 94 | R10: 78
A11: รวม | B11: =SUM(B5:B10) -> 2168 | C11: =SUM(C5:C10) -> 1573 | D11: =SUM(D5:D10) -> 1625 | E11: =SUM(E5:E10) -> 1878 | F11: =SUM(F5:F10) -> 1256 | G11: =SUM(G5:G10) -> 1495 | H11: =SUM(H5:H10) -> 1195 | I11: =SUM(I5:I10) -> 1382 | ... R11: =SUM(R5:R10) -> 1281
E12: 1 | L12: 2 | N12: 3
E13: =SUM(E11*100/B11) -> 86.623616 | L13: =SUM(L11*100/B11) -> 81.50369 | N13: =SUM(N11*100/B11) -> 74.400369

Sheet สป.กษ. ส่วนกลาง
A1: กิจกรรมตั้งปณิธานความดีของบุคลากร สป.กษ. ประจำปีงบประมาณ พ.ศ. 2565
A3: ลำดับ | B3: คำนำหน้า | C3: ชื่อ-สกุล | D3: ตำแหน่ง | E3: หน่วยงาน | F3: 2.1 ด้านการป้องกันการทุจริต | L3: 2.2 ด้านส่งเสริมคุณธรรมและจริยธรรม | Q3: 2.3 ด้านอื่นๆ
F4: 1. ปฏิบัติงานตามเวลาราชการ (08.30 - 16.30 น.) ไม่เบียดบังเวลาราชการเพื่อประโยชน์ส่วนตน | G4: 2. ปฏิบัติงานตามกฎ ระเบียบ และข้อบังคับ | H4: 3. ปฏิบัติงานด้วยความซื่อสัตย์ สุจริต มีความรับผิดชอบต่อหน้าที่ของตนเอง | I4: 4. ใช้ทรัพย์สินของราชการในการปฏิบัติงานราชการเท่านั้น | J4: 5. ไม่รับ-ไม่ให้ หรือเรียกรับของขวัญและของกำนัล ทรัพย์สินหรือประโยชน์อื่นใดจากการปฏิบัติหน้าที่ | K4: 6. ไม่เพิกเฉยหากพบการกระทำ หรือเหตุการณ์ที่อาจเกิดการทุจริต | L4: 1. เข้าร่วมกิจกรรมจิตอาสาหรือกิจกรรมบำเพ็ญประโยชน์เพื่อส่วนรวม | M4: 2. เสียสละประโยชน์ส่วนตนเพื่อประโยชน์ส่วนรวม ไม่เอารัดเอาเปรียบผู้อื่น | N4: 3. ประพฤติตนเป็นพลเมืองที่ดี รักษาสัญญา มีความขยันขันแข็ง อ่อนน้อมถ่อมตน พูดจาสุภาพ | O4: 4. ยิ้มแย้มแจ่มใส มีมิตรสัมพันธ์ไมตรีจิตอันดีต่อเพื่อนร่วมงาน และผู้มารับบริการ | P4: 5. ประพฤติปฏิบัติตัวตามคำสอนของแต่ละศาสนา เช่น เข้าวัดทำบุญ ตักบาตร ฟังเทศน์ เข้าโบสถ์ มัสยิด หรือประกอบพิธีการต่างๆ ตามศาสนาที่ตนเองนับถือ เป็นต้น | Q4: 1. ค้นคว้าหาความรู้ หมั่นพัฒนาตนเองอยู่เสมอ | R4: 2. มีความริเริ่มสร้างสรรค์ ปรับปรุงพัฒนางานให้ดียิ่งขึ้น | S4: 3. ใช้ทรัพยากรอย่างประหยัดและคุ้มค่า | T4: 4. นำหลักปรัชญาเศรษฐกิจ พอเพียงมาใช้ในการดำเนินชีวิต | U4: 5. สวมใส่เครื่องแต่งกายถูกระเบียบ และอนุรักษ์ชุดผ้าไทยอยู่เสมอเมื่อมีโอกาส
A5: กองกลาง
A6: 1 | B6: นาง | C6: อมราพร ชีพสมุทร์ | D6: ผู้อำนวยการกองกลาง | E6: กองกลาง | G6: P | H6: P | K6: P | L6: P | M6: P | N6: P | O6: P | Q6: P | R6: P | S6: P | T6: P
A7: 2 | B7: นางสาว | C7: วันเพ็ญ พรหมสุรินทร์ | D7: เจ้าพนักงานธุรการอาวุโส | E7: กองกลาง | F7: P | G7: P | H7: P | J7: P | M7: P | N7: P | S7: P | U7: P
A8: 3 | B8: นาย | C8: ธวัชชัย ศีลแสน | D8: นักจัดการงานทั่วไปชำนาญการ | E8: กองกลาง | F8: P | G8: P | H8: P | I8: P | J8: P | K8: P | L8: P | M8: P | N8: P | O8: P | P8: P | Q8: P | R8: P | S8: P | T8: P | U8: P
A9: 4 | B9: นาง | C9: ศิริวรรณ พวงสุดรักษ์ | D9: นักจัดการงานทั่วไปชำนาญการ | E9: กองกลาง | F9: P | G9: P | H9: P | I9: P | J9: P | K9: P | L9: P | M9: P | N9: P | O9: P | P9: P | Q9: P | R9: P | S9: P | T9: P | U9: P
A10: 5 | B10: นาย | C10: วันปิยะ วาทิน | D10: นักจัดการงานทั่วไปชำนาญการ | E10: กองกลาง | F10: P | G10: P | H10: P | I10: P | J10: P | K10: P | L10: P | M10: P | N10: P | O10: P | P10: P | Q10: P | R10: P | S10: P | T10: P | U10: P
A11: 6 | B11: นาง | C11: ทิพวรรณ พรหมเพ็ญ | D11: นักจัดการงานทั่วไปชำนาญการ | E11: กองกลาง | F11: P | G11: P | H11: P | I11: P | J11: P | K11: P | L11: P | M11: P | N11: P | O11: P | P11: P | T11: P
A12: 7 | B12: นาย | C12: คุณากร มากเอนก | D12: นักจัดการงานทั่วไปปฏิบัติการ | E12: กองกลาง | F12: P | G12: P | H12: P | I12: P | J12: P | K12: P | L12: P | M12: P | N12: P | O12: P | P12: P | Q12: P | R12: P | S12: P | T12: P | U12: P
A13: 8 | B13: นางสาว | C13: รภัทภร สุนทรสนิท | D13: นักจัดการงานทั่วไปปฎิบัติการ | E13: กองกลาง | F13: P | G13: P | H13: P | I13: P | M13: P | O13: P | Q13: P | R13: P | S13: P
A14: 9 | B14: นาย | C14: พงษ์นรินทร์ ศิวกุลกำธร | D14: เจ้าพนักงานธุรการชำนาญงาน | E14: กองกลาง | G14: P | O14: P | T14: P
A15: 10 | B15: นางสาว | C15: ชนกนันท์ ยะปะนันท์ | D15: เจ้าพนักงานธุรการชำนาญงาน | E15: กองกลาง | F15: P | G15: P | H15: P | N15: P | O15: P | Q15: P | R15: P | T15: P
A16: 11 | B16: นางสาว | C16: กรรณิกา ตรีเหรา | D16: เจ้าพนักงานธุรการชำนาญงาน | E16: กองกลาง | F16: P | G16: P | H16: P | I16: P | J16: P | K16: P | L16: P | M16: P | N16: P | P16: P | S16: P
A17: 12 | B17: นางสาว | C17: จุไรรัตน์ ศรีสุข | D17: เจ้าพนักงานธุรการชำนาญงาน | E17: กองกลาง | H17: P | M17: P | S17: P
A18: 13 | B18: นางสาว | C18: กุสุมาลย์ ป้อมอารีย์ | D18: เจ้าพนักงานธุรการปฎิบัติงาน | E18: กองกลาง | I18: P | K18: P | M18: P | N18: P | S18: P
A19: 14 | B19: นางสาว | C19: ณัฐธิยา เกิดหิรัญ | D19: เจ้าพนักงานธุรการปฏิบัติงาน | E19: กองกลาง | F19: P | G19: P | H19: P | N19: P | O19: P | Q19: P | R19: P | T19: P
A20: 15 | B20: นางสาว | C20: นัชชานันท์ คำจิตตะ | D20: เจ้าพนักงานธุรการปฏิบัติงาน | E20: กองกลาง | F20: P | G20: P | H20: P | I20: P | J20: P | K20: P | P20: P | Q20: P | T20: P
A21: 16 | B21: นางสาว | C21: สุรีรัตน์ วรบุตร | D21: เจ้าพนักงานธุรการปฏิบัติงาน | E21: กองกลาง | F21: P | G21: P | H21: P | M21: P | P21: P | Q21: P | T21: P
A22: 17 | B22: นางสาว | C22: ธนพร โกศรี | D22: เจ้าพนักงานธุรการปฏิบัติงาน | E22: กองกลาง | F22: P | G22: P | H22: P | I22: P | J22: P | K22: P | L22: P | M22: P | N22: P | O22: P | P22: P | Q22: P | R22: P | S22: P | T22: P | U22: P
A23: 18 | B23: นางสาว | C23: จารุวรรณ ศรีวิลัย | D23: เจ้าพนักงานธุรการปฏิบัติงาน | E23: กองกลาง | F23: P | G23: P | H23: P | I23: P | J23: P | K23: P | L23: P | M23: P | N23: P | O23: P | P23: P | Q23: P | R23: P | S23: P | T23: P | U23: P
A24: 19 | B24: นาง | C24: สุพิศ พูลคุณานุกูร | D24: นักจัดการงานทั่วไป | E24: กองกลาง | F24: P | G24: P | H24: P | I24: P | J24: P | K24: P | L24: P | M24: P | N24: P | O24: P | P24: P | Q24: P | R24: P | S24: P | T24: P | U24: P
A25: 20 | B25: นาย | C25: สิทธิศักดิ์ หนูเปีย | D25: เต้าหน้าที่บริหารงานทั่วไป | E25: กองกลาง | H25: P | P25: P | Q25: P
A26: 21 | B26: นางสาว | C26: ยินดี ชลยิ่งยง | D26: เจ้าหน้าที่บริหารงานทั่วไป | E26: กองกลาง | F26: P | G26: P | H26: P | I26: P | J26: P | L26: P | M26: P | N26: P | O26: P | P26: P | Q26: P | S26: P | U26: P
A27: 22 | B27: นาง | C27: สีลสุทธา เพ็ชร์คุ้ม | D27: เจ้าหน้าที่บริหารงานทั่วไป | E27: กองกลาง | G27: P | H27: P | I27: P | J27: P | K27: P | L27: P | M27: P | N27: P | O27: P | P27: P | R27: P | S27: P | T27: P | U27: P
A28: 23 | B28: นาย | C28: ภานุสรณ์ ขานทอง | D28: ช่างอิเลคทรอนิกส์ | E28: กองกลาง | F28: P | H28: P | L28: P | M28: P | N28: P | S28: P
A29: 24 | B29: นาย | C29: วรรณเฉลิม จรัสแสง | D29: ช่างอิเล็กทรอนิกส์ | E29: กองกลาง | F29: P | G29: P | H29: P | I29: P | J29: P | K29: P | O29: P | Q29: P
A30: 25 | B30: นาง | C30: อุษณีย์ ผลภักดี | D30: งานสารบรรณรับ-ส่งหน้าห้อง ผช.กษ | E30: กองกลาง | H30: P | M30: P | T30: P
A31: 26 | B31: นางสาว | C31: ภาวิณี พลสา | D31: จ้างเหมาบริการ | E31: กองกลาง | G31: P | H31: P | I31: P | M31: P | N31: P | O31: P | R31: P | T31: P
A32: กองการเจ้าหน้าที่
A33: 1 | B33: นาง | C33: วลีพร นนทิการ | D33: นักทรัพยากรบุคคลเชี่ยวชาญ | E33: กองการเจ้าหน้าที่ | G33: P | H33: P | L33: P | N33: P | Q33: P | R33: P | S33: P | T33: P
A34: 2 | B34: นางสาว | C34: กันยารัตน์ เศวตนันทิกุล | D34: นักทรัพยากรบุคคลชำนาญการพิเศษ | E34: กองการเจ้าหน้าที่ | K34: P | O34: P | U34: P
A35: 3 | B35: นางสาว | C35: ชนานาถ สกุลสมบัติ | D35: นักทรัพยากรบุคคลชํานาญการพิเศษ | E35: กองการเจ้าหน้าที่ | G35: P | H35: P | M35: P | O35: P | Q35: P | R35: P | U35: P
A36: 4 | B36: นางสาว | C36: ปาจรีย์ สิทธิสา | D36: นักทรัพยากรบุคคลชำนาญการพิเศษ | E36: กองการเจ้าหน้าที่ | F36: P | H36: P | J36: P | M36: P | N36: P | T36: P | U36: P
A37: 5 | B37: นาง | C37: พัชราพร แหยมวิเชียร | D37: นักทรัพยากรบุคคลชำนาญการพิเศษ | E37: กองการเจ้าหน้าที่ | G37: P | H37: P | O37: P | Q37: P | R37: P
A38: 6 | B38: นางสาว | C38: วิรัตน์ ชัยผาติกานต์ | D38: นักทรัพยากรบุคคลชำนาญการพิเศษ | E38: กองการเจ้าหน้าที่ | F38: P | H38: P | O38: P | P38: P | Q38: P
A39: 7 | B39: นางสาว | C39: ศิริกุล ประเสริฐเวชรัตน์ | D39: นิติกรชำนาญการพิเศษ | E39: กองการเจ้าหน้าที่ | G39: P | H39: P | J39: P | O39: P | Q39: P | U39: P
A40: 8 | B40: นางสาว | C40: สุชัญญา โพธิรัชตางกูร | D40: นิติกรชำนาญการพิเศษ | E40: กองการเจ้าหน้าที่ | G40: P | H40: P | M40: P | O40: P | R40: P
A41: 9 | B41: นาง | C41: ประภาพรรณ สุมิตรากิจ | D41: เจ้าพนักงานธุรการอาวุโส | E41: กองการเจ้าหน้าที่ | F41: P | I41: P | L41: P | O41: P | U41: P
A42: 10 | B42: นาย | C42: กุลพล รัตนโสภณ | D42: นักทรัพยากรบุคคลชำนาญการ | E42: กองการเจ้าหน้าที่ | G42: P | H42: P | K42: P | N42: P | Q42: P
A43: 11 | B43: นางสาว | C43: จินตณา กระจ่างวัน | D43: นักทรัพยากรบุคคลชำนาญการ | E43: กองการเจ้าหน้าที่ | H43: P | M43: P | P43: P | S43: P | T43: P
A44: 12 | B44: นางสาว | C44: ฉัตรทิพย์​ เรืองจันทร์ | D44: นักทรัพยากรบุคคลชำนาญการ | E44: กองการเจ้าหน้าที่ | F44: P | N44: P | Q44: P
A45: 13 | B45: นางสาว | C45: ทิฆัมพร นุกิจ | D45: นักทรัพยากรบุคคลชำนาญการ | E45: กองการเจ้าหน้าที่ | G45: P | H45: P | O45: P | S45: P
A46: 14 | B46: นางสาว | C46: นทิตา​ เปรมปัญญา​ | D46: นักทรัพยากร​บุคคล​ช​ำ​นา​ญ​การ​ | E46: กองการเจ้าหน้าที่ | H46: P | J46: P | P46: P | Q46: P | T46: P
A47: 15 | B47: นาย | C47: ปฐมพงศ์ สุขใสเมือง | D47: นักทรัพยากรบุคคลชำนาญการ | E47: กองการเจ้าหน้าที่ | G47: P | M47: P | O47: P | Q47: P | R47: P
A48: 16 | B48: นาย | C48: พงษ์เทพ จิตหาญ | D48: นักทรัพยากรบุคคลชำนาญการ | E48: กองการเจ้าหน้าที่ | G48: P | H48: P | N48: P | O48: P | Q48: P | R48: P
A49: 17 | B49: ว่าที่ร.ต. | C49: ยุทธพล​ จันทร์ปัญญา | D49: นักทรัพยากรบุคคลชำนาญการ | E49: กองการเจ้าหน้าที่ | G49: P | H49: P | L49: P | M49: P | O49: P | T49: P
A50: 18 | B50: นางสาว | C50: ลลนา นาชัยรัตน์ | D50: นักทรัพยากรบุคคลชํานาญการ | E50: กองการเจ้าหน้าที่ | G50: P | H50: P | O50: P | Q50: P | R50: P | T50: P
A51: 19 | B51: นาง | C51: วาฐิณี พงศ์โรจน์เผ่า | D51: นักทรัพยากรบุคคล ชำนาญการ | E51: กองการเจ้าหน้าที่ | G51: P | H51: P | O51: P | Q51: P | R51: P
A52: 20 | B52: นางสาว | C52: สดับพร คชศักดิ์ | D52: นักทรัพยากรบุคคลชำนาญการ | E52: กองการเจ้าหน้าที่ | F52: P | G52: P | H52: P | M52: P | P52: P | Q52: P | R52: P | T52: P
A53: 21 | B53: นาย | C53: สนธิวัฒน์ เศรษฐรัมย์ | D53: นักทรัพยากรบุคคลชำนาญการ | E53: กองการเจ้าหน้าที่ | F53: P | G53: P | H53: P | K53: P | L53: P | M53: P | N53: P | O53: P | P53: P | Q53: P | R53: P | T53: P | U53: P
A54: 22 | B54: ส.อ. | C54: อนันต์ จอสูงเนิน | D54: นักทรัพยากรบุคคลชำนาญการ | E54: กองการเจ้าหน้าที่ | G54: P | H54: P | K54: P | O54: P | R54: P | S54: P
A55: 23 | B55: นางสาว | C55: อาภารัตน์ ขอขันกลาง | D55: นักทรัพยากรบุคคลชำนาญการ | E55: กองการเจ้าหน้าที่ | H55: P
A56: 24 | B56: นาย | C56: อุทัย อาวรเจริญ | D56: นักทรัพยากรบุคคลชำนาญการ | E56: กองการเจ้าหน้าที่ | F56: P | O56: P | P56: P | T56: P | U56: P
A57: 25 | B57: นางสาว | C57: ปัทมา อ่ำอิ่ม | D57: นักทรัพยากรบุคคลชำนาญการ | E57: กองการเจ้าหน้าที่ | M57: P | O57: P | P57: P | Q57: P | S57: P
A58: 26 | B58: นางสาว | C58: อรพร วงศ์แสงเอี่ยม | D58: นิติกรชำนาญการ | E58: กองการเจ้าหน้าที่ | G58: P | L58: P | N58: P | O58: P | U58: P
A59: 27 | B59: นาย | C59: ชัยภัทร เกษมณี | D59: นิติกรชำนาญการ | E59: กองการเจ้าหน้าที่ | G59: P | H59: P | I59: P | J59: P | K59: P | L59: P | M59: P | N59: P | O59: P | P59: P | Q59: P | R59: P | S59: P | T59: P | U59: P
A60: 28 | B60: นาย | C60: ธนวัฒน์ ขู่วิชัย | D60: นิติกรปฏิบัติการ | E60: กองการเจ้าหน้าที่ | F60: P | G60: P | L60: P | M60: P | R60: P | S60: P
A61: 29 | B61: นางสาว | C61: ดวงกมล กฤตสัมพันธ์ | D61: นักทรัพยากรบุคคลปฏิบัติการ | E61: กองการเจ้าหน้าที่ | F61: P | G61: P | H61: P | N61: P | O61: P | Q61: P | R61: P
A62: 30 | B62: นางสาว | C62: นิภาพร มังคละ | D62: นักทรัพยากรบุคคลปฏิบัติการ | E62: กองการเจ้าหน้าที่ | G62: P | H62: P | N62: P | O62: P | Q62: P
A63: 31 | B63: นางสาว | C63: พุธดา จารึกจินดามณี | D63: นักทรัพยากรบุคคลปฏิบัติการ | E63: กองการเจ้าหน้าที่ | I63: P | J63: P | N63: P | P63: P | S63: P
A64: 32 | B64: นางสาว | C64: วรวรรณ เครือกล่อม | D64: นักทรัพยากรบุคคลปฏิบัติการ | E64: กองการเจ้าหน้าที่ | F64: P | G64: P | H64: P | O64: P | R64: P
A65: 33 | B65: นางสาว | C65: สุทัศนา บุญขำ | D65: นักทรัพยากรบุคคลปฏิบัติการ | E65: กองการเจ้าหน้าที่ | G65: P | J65: P | L65: P | O65: P
A66: 34 | B66: นาย | C66: คงเอก พรหมมณี | D66: นักทรัพยากรบุคคลปฏิบัติการ | E66: กองการเจ้าหน้าที่ | G66: P | H66: P | J66: P | M66: P | N66: P | O66: P | Q66: P | R66: P
A67: 35 | B67: นาง | C67: สมกิจ วิริยะนันทกุล | D67: เจ้าพนักงานธุรการชำนาญงาน | E67: กองการเจ้าหน้าที่ | F67: P | G67: P | H67: P | M67: P | O67: P | P67: P | Q67: P | S67: P
A68: 36 | B68: นางสาว | C68: วิไลพ ทรัพย์แสง | D68: เจ้าพนักงานธุรการปฏิบัติงาน | E68: กองการเจ้าหน้าที่ | F68: P | G68: P | H68: P | I68: P | J68: P | K68: P | L68: P | M68: P | N68: P | O68: P | P68: P | Q68: P | R68: P | S68: P | T68: P | U68: P
A69: 37 | B69: นางสาว | C69: อัมพร ช่างเรือน | D69: เจ้าพนักงานพัสดุ | E69: กองการเจ้าหน้าที่ | H69: P | M69: P | Q69: P
A70: 38 | B70: นางสาว | C70: สมารินทร์ พุ่มจำปา | D70: พนักงานสถานที่ บ 2. | E70: กองการเจ้าหน้าที่ | F70: P | G70: P | H70: P | K70: P | L70: P | M70: P | N70: P | O70: P | P70: P | R70: P | S70: P | U70: P
A71: 39 | B71: นาย | C71: เข็มชาติ นาคคำ | D71: พนักงานพิมพ์ ส 4 | E71: กองการเจ้าหน้าที่ | F71: P | G71: P | H71: P | I71: P | J71: P | K71: P | L71: P | M71: P | N71: P | O71: P | P71: P | Q71: P | R71: P | S71: P | T71: P | U71: P
A72: 40 | B72: นาง | C72: สุนทรีย์ สุปัญญา | D72: บุคลากร | E72: กองการเจ้าหน้าที่ | H72: P | J72: P | L72: P | M72: P | O72: P | R72: P | T72: P
A73: 41 | B73: นางสาว | C73: เสาวรส คำพิมูล | D73: บุคลากร | E73: กองการเจ้าหน้าที่ | H73: P | N73: P | O73: P | P73: P | T73: P
A74: 42 | B74: นาย | C74: คุณานนต์ แก้วทอง | D74: บุคลากร | E74: กองการเจ้าหน้าที่ | F74: P | G74: P | H74: P | I74: P | J74: P | K74: P | N74: P | O74: P | Q74: P | R74: P | S74: P
A75: 43 | B75: นางสาว | C75: จิราพร ทองทา | D75: บุคลากร | E75: กองการเจ้าหน้าที่ | F75: P | O75: P | R75: P
A76: 44 | B76: นางสาว | C76: จีราภรณ์ ทองพิมล | D76: บุคลากร | E76: กองการเจ้าหน้าที่ | F76: P | G76: P | H76: P | M76: P | O76: P | T76: P
A77: 45 | B77: นางสาว | C77: ณรัณรัศมิ์ ฤทธิ์มะหันต์ | D77: บุคลากร | E77: กองการเจ้าหน้าที่ | G77: P | H77: P | M77: P | Q77: P | S77: P
A78: 46 | B78: นางสาว | C78: ธนกานต์ ศรีอุทธา | D78: บุคลากร | E78: กองการเจ้าหน้าที่ | F78: P | O78: P | S78: P
A79: 47 | B79: นาย | C79: ธเนศ แก้วจังหาร | D79: บุคลากร | E79: กองการเจ้าหน้าที่ | F79: P | G79: P | H79: P | I79: P | J79: P | K79: P | L79: P | M79: P | N79: P | O79: P | P79: P | Q79: P | R79: P | S79: P | T79: P | U79: P
A80: 48 | B80: นางสาว | C80: พนิดา จันชัยภูมิ | D80: บุคลากร | E80: กองการเจ้าหน้าที่ | H80: P | J80: P | M80: P | O80: P | Q80: P | R80: P
A81: 49 | B81: นางสาว | C81: พรรณทิพย์ สาทศรี | D81: บุคลากร | E81: กองการเจ้าหน้าที่ | H81: P | L81: P | N81: P | O81: P | Q81: P | R81: P
A82: 50 | B82: นาย | C82: ภวัตพงษ์ ผลดี | D82: นิติกร | E82: กองการเจ้าหน้าที่ | F82: P | G82: P | H82: P | I82: P | J82: P | K82: P | L82: P | M82: P | N82: P | O82: P | P82: P | Q82: P | R82: P | S82: P | T82: P | U82: P
A83: 51 | B83: นางสาว | C83: ยุพิน สวยงาม | D83: นิติกร | E83: กองการเจ้าหน้าที่ | J83: P | M83: P | T83: P
A84: 52 | B84: นาง | C84: นุสรา สุขพันธุ์ถาวร | D84: นิติกร | E84: กองการเจ้าหน้าที่ | G84: P | H84: P | N84: P | P84: P | Q84: P | T84: P
A85: 53 | B85: นาย | C85: ณัฐวุฒิ ทุมทอง | D85: นักทรัพยากรบุคคล | E85: กองการเจ้าหน้าที่ | H85: P | O85: P | Q85: P
A86: 54 | B86: นางสาว | C86: จุฑารัตน์​ สุข​คง​ | D86: เจ้าหน้าที่สวัสดิการ | E86: กองการเจ้าหน้าที่ | F86: P | H86: P | M86: P | N86: P | R86: P
A87: 55 | B87: นางสาว | C87: วชิราภรณ์ สอนอาจ | D87: เจ้าหน้าที่บริหารงานทั่วไป | E87: กองการเจ้าหน้าที่ | F87: P | G87: P | H87: P | I87: P | J87: P | L87: P | M87: P | N87: P | O87: P | P87: P | Q87: P | R87: P | S87: P | T87: P | U87: P
A88: 56 | B88: นางสาว | C88: สุรีรัตน์ เอี้ยงสันเทียะ | D88: เจ้าหน้าที่ประสานงานทั่วไป | E88: กองการเจ้าหน้าที่ | G88: P | K88: P | M88: P | O88: P | T88: P
A89: 57 | B89: นาย | C89: สุทธิพงษ์ จันทาศรี | D89: เจ้าพนักงานธุรการ | E89: กองการเจ้าหน้าที่ | F89: P | G89: P | H89: P | I89: P | J89: P | K89: P | L89: P | M89: P | N89: P | O89: P | P89: P | Q89: P | R89: P | S89: P | T89: P | U89: P
A90: 58 | B90: นางสาว | C90: จุฑารัตน์ สวนมาลา | D90: เจ้าหน้าที่บันทึกข้อมูล | E90: กองการเจ้าหน้าที่ | H90: P | N90: P | S90: P
A91: กองเกษตรสารนิเทศ
A92: 1 | B92: นาง | C92: วินดา เหลี่ยมสมบัติ | D92: ผู้อำนวยการกองเกษตรสารนิเทศ | E92: กองเกษตรสารนิเทศ | G92: P | H92: P | I92: P | J92: P | K92: P | M92: P | N92: P | Q92: P | R92: P | S92: P
A93: 2 | B93: นางสาว | C93: ฉัตรประภา ศรีสวัสดิ์ | D93: นักวิชาการเผยแพร่ชำนาญการพิเศษ | E93: กองเกษตรสารนิเทศ | J93: P | O93: P | P93: P | Q93: P | R93: P | T93: P
A94: 3 | B94: นางสาว | C94: สุดาวีณ์ พัฒนพิสุทธิชัย | D94: นักวิชาการเผยแพร่ชำนาญการพิเศษ | E94: กองเกษตรสารนิเทศ | G94: P | H94: P | N94: P | P94: P | Q94: P
A95: 4 | B95: นางสาว | C95: สติมา ศรีนคร | D95: นักวิชาการเผยแพร่ชำนาญการ | E95: กองเกษตรสารนิเทศ | G95: P | H95: P | J95: P | K95: P | N95: P | O95: P | Q95: P | S95: P | U95: P
A96: 5 | B96: นางสาว | C96: ดาวเรือง ทองเชียว | D96: นักวิชาการเผยแพร่ชำนาญการ | E96: กองเกษตรสารนิเทศ | G96: P | H96: P | O96: P | P96: P | Q96: P
A97: 6 | B97: นาง | C97: ทยารัตน์ แสนจุ้ม | D97: นักประชาสัมพันธ์ชำนาญการ | E97: กองเกษตรสารนิเทศ | H97: P | O97: P | P97: P | R97: P | U97: P
A98: 7 | B98: นาง | C98: รุ่งตะวัน พร้อมพาณิชย์ | D98: นักประชาสัมพันธ์ชำนาญการ | E98: กองเกษตรสารนิเทศ | F98: P | G98: P | H98: P | I98: P | J98: P | K98: P | L98: P | M98: P | N98: P | O98: P | P98: P | Q98: P | R98: P | S98: P | T98: P | U98: P
A99: 8 | B99: นาย | C99: ธนวัฒน์ บุญอนันต์ | D99: นักวิชาการเผยแพร่ปฏิบัติการ | E99: กองเกษตรสารนิเทศ | F99: P | G99: P | H99: P | I99: P | J99: P | K99: P | L99: P | M99: P | N99: P | O99: P | P99: P | Q99: P | R99: P | S99: P | T99: P | U99: P
A100: 9 | B100: นางสาว | C100: รัตติกาล ณรงค์อินทร์ | D100: นักจัดการงานทั่วไปปฏิบัติการ | E100: กองเกษตรสารนิเทศ | F100: P | G100: P | H100: P | N100: P | O100: P | Q100: P | R100: P
A101: 10 | B101: นางสาว | C101: พรพรหมมา หมีทอง | D101: บรรณารักษ์ปฏิบัติการ | E101: กองเกษตรสารนิเทศ | F101: P | H101: P | J101: P | P101: P | Q101: P
...

Sheet กษ. ภาคกลาง
A1: กิจกรรมตั้งปณิธานความดีของบุคลากร สป.กษ. ประจำปีงบประมาณ พ.ศ. 2565
A3: ลำดับ | B3: คำนำหน้า | C3: ชื่อ-สกุล | D3: ตำแหน่ง | E3: หน่วยงาน | F3: 2.1 ด้านการป้องกันการทุจริต | L3: 2.2 ด้านส่งเสริมคุณธรรมและจริยธรรม | Q3: 2.3 ด้านอื่นๆ
F4: 1. ปฏิบัติงานตามเวลาราชการ (08.30 - 16.30 น.) ไม่เบียดบังเวลาราชการเพื่อประโยชน์ส่วนตน | G4: 2. ปฏิบัติงานตามกฎ ระเบียบ และข้อบังคับ | H4: 3. ปฏิบัติงานด้วยความซื่อสัตย์ สุจริต มีความรับผิดชอบต่อหน้าที่ของตนเอง | I4: 4. ใช้ทรัพย์สินของราชการในการปฏิบัติงานราชการเท่านั้น | J4: 5. ไม่รับ-ไม่ให้ หรือเรียกรับของขวัญและของกำนัล ทรัพย์สินหรือประโยชน์อื่นใดจากการปฏิบัติหน้าที่ | K4: 6. ไม่เพิกเฉยหากพบการกระทำ หรือเหตุการณ์ที่อาจเกิดการทุจริต | L4: 1. เข้าร่วมกิจกรรมจิตอาสาหรือกิจกรรมบำเพ็ญประโยชน์เพื่อส่วนรวม | M4: 2. เสียสละประโยชน์ส่วนตนเพื่อประโยชน์ส่วนรวม ไม่เอารัดเอาเปรียบผู้อื่น | N4: 3. ประพฤติตนเป็นพลเมืองที่ดี รักษาสัญญา มีความขยันขันแข็ง อ่อนน้อมถ่อมตน พูดจาสุภาพ | O4: 4. ยิ้มแย้มแจ่มใส มีมิตรสัมพันธ์ไมตรีจิตอันดีต่อเพื่อนร่วมงาน และผู้มารับบริการ | P4: 5. ประพฤติปฏิบัติตัวตามคำสอนของแต่ละศาสนา เช่น เข้าวัดทำบุญ ตักบาตร ฟังเทศน์ เข้าโบสถ์ มัสยิด หรือประกอบพิธีการต่างๆ ตามศาสนาที่ตนเองนับถือ เป็นต้น | Q4: 1. ค้นคว้าหาความรู้ หมั่นพัฒนาตนเองอยู่เสมอ | R4: 2. มีความริเริ่มสร้างสรรค์ ปรับปรุงพัฒนางานให้ดียิ่งขึ้น | S4: 3. ใช้ทรัพยากรอย่างประหยัดและคุ้มค่า | T4: 4. นำหลักปรัชญาเศรษฐกิจ พอเพียงมาใช้ในการดำเนินชีวิต | U4: 5. สวมใส่เครื่องแต่งกายถูกระเบียบ และอนุรักษ์ชุดผ้าไทยอยู่เสมอเมื่อมีโอกาส
A5: สำนักงานเกษตรและสหกรณ์ จังหวัดกาญจนบุรี
A6: 1 | B6: นางสาว | C6: เอื้องพร นพคุณ | D6: เกษตรและสหกรณ์จังหวัดกาญจนบุรี | E6: สำนักงานเกษตรและสหกรณ์จังหวัดกาญจนบุรี | G6: P | H6: P | I6: P | J6: P | K6: P | M6: P | N6: P | O6: P | Q6: P | R6: P | S6: P | T6: P | U6: P
A7: 2 | B7: นางสาว | C7: พรทิพย์ อสนเมืองชิน | D7: นักวิเคราะห์นโยบายและแผนชำนาญการ | E7: สำนักงานเกษตรและสหกรณ์จังหวัดกาญจนบุรี | H7: P | O7: P | S7: P
A8: 3 | B8: นางสาว | C8: พิมลรัตน์ เชียงทอง | D8: นักวิเคราะห์นโยบายและแผนชำนาญการ | E8: สำนักงานเกษตรและสหกรณ์จังหวัดกาญจนบุรี | F8: P | G8: P | H8: P | I8: P | J8: P | K8: P | M8: P | N8: P | O8: P | Q8: P | R8: P | U8: P
A9: 4 | B9: นางสาว | C9: อัญชุตา อบเชย | D9: นักวิเคราะห์นโยบายและแผนชำนาญการ | E9: สำนักงานเกษตรและสหกรณ์จังหวัดกาญจนบุรี | F9: P | G9: P | H9: P | N9: P | O9: P | P9: P | Q9: P | T9: P | U9: P
A10: 5 | B10: นางสาว | C10: เมทินี พิทักษ์หมู่ | D10: นักวิเคราะห์นโยบายและแผนชำนาญการ | E10: สำนักงานเกษตรและสหกรณ์จังหวัดกาญจนบุรี | G10: P | H10: P | O10: P | Q10: P | U10: P
A11: 6 | B11: นาย | C11: เฉลิมชนม์ สุขกรม | D11: นักวิเคราะห์นโยบายและแผนปฏิบัติการ | E11: สำนักงานเกษตรและสหกรณ์จังหวัดกาญจนบุรี | H11: P | J11: P | O11: P | S11: P | T11: P
A12: 7 | B12: นาง | C12: พรทิพย์ วรภคบุญญา | D12: เจ้าพนักงานธุรการชำนาญงาน | E12: สำนักงานเกษตรและสหกรณ์จังหวัดกาญจนบุรี | H12: P | K12: P | M12: P | Q12: P | R12: P
A13: 8 | B13: นางสาว | C13: ปิยะพร อินพลับ | D13: เจ้าพนักงานการเงินและบัญชีชำนาญงาน | E13: สำนักงานเกษตรและสหกรณ์จังหวัดกาญจนบุรี | H13: P | J13: P | P13: P | Q13: P | S13: P
A14: 9 | B14: นางสาว | C14: ฉัตรธิดา ร่วมดี | D14: เจ้าหน้าที่วิเคราะห์นโยบายและแผน | E14: สำนักงานเกษตรและสหกรณ์จังหวัดกาญจนบุรี | F14: P | G14: P | H14: P | I14: P | J14: P | K14: P | L14: P | M14: P | N14: P | O14: P | P14: P | Q14: P | R14: P | S14: P | T14: P | U14: P
A15: 10 | B15: นางสาว | C15: ทิฆัมพร แจ่มฟ้า | D15: เจ้าหน้าที่วิเคราะห์นโยบายและแผน | E15: สำนักงานเกษตรและสหกรณ์จังหวัดกาญจนบุรี | H15: P | O15: P | R15: P
A16: 11 | B16: นางสาว | C16: นงลักษณ์ คชานุบาล | D16: เจ้าหน้าที่วิเคราะห์นโยบายและแผน | E16: สำนักงานเกษตรและสหกรณ์จังหวัดกาญจนบุรี | F16: P | G16: P | H16: P | I16: P | J16: P | K16: P | L16: P | M16: P | N16: P | O16: P | P16: P | Q16: P | R16: P
A17: 12 | B17: นางสาว | C17: ปวิตา แบมขุนทด | D17: เจ้าหน้าที่วิเคราะห์นโยบายและแผน | E17: สำนักงานเกษตรและสหกรณ์จังหวัดกาญจนบุรี | G17: P | H17: P | O17: P | P17: P | S17: P
A18: 13 | B18: นางสาว | C18: อรปวีณ์ จงเจริญ | D18: เจ้าหน้าที่วิเคราะห์นโยบายและแผน | E18: สำนักงานเกษตรและสหกรณ์จังหวัดกาญจนบุรี | H18: P | O18: P | Q18: P | R18: P
A19: 14 | B19: นางสาว | C19: อรุณรัตน์ จุฑาศักดิ์ | D19: เจ้าหน้าที่วิเคราะห์นโยบายและแผน | E19: สำนักงานเกษตรและสหกรณ์จังหวัดกาญจนบุรี | G19: P | H19: P | I19: P | J19: P | K19: P | M19: P | O19: P | T19: P
A20: 15 | B20: นางสาว | C20: ชุติกาญจน์ ศรีสว่าง | D20: เจ้าหน้าที่วิเคราะห์นโนบายและแผน | E20: สำนักงานเกษตรและสหกรณ์จังหวัดกาญจนบุรี | G20: P | H20: P | N20: P | O20: P | S20: P
A21: 16 | B21: นางสาว | C21: อุษษณีย์ แก้วแดง | D21: เจ้าหน้าที่วิเคราะห์นโนบายและแผน | E21: สำนักงานเกษตรและสหกรณ์จังหวัดกาญจนบุรี | G21: P | N21: P | O21: P | S21: P | T21: P
A22: 17 | B22: นางสาว | C22: สุฤดี บุญสมปอง | D22: เจ้าหน้าที่วิเคราะนโยบายและแผน | E22: สำนักงานเกษตรและสหกรณ์จังหวัดกาญจนบุรี | H22: P | N22: P | T22: P
A23: 18 | B23: นาง | C23: แสงแข สิทธิสม | D23: เจ้าหน้าที่วิเคราะห์นโยบายและแผน | E23: สำนักงานเกษตรและสหกรณ์จังหวัดกาญจนบุรี | G23: P | H23: P | O23: P | Q23: P | S23: P
A24: 19 | B24: นางสาว | C24: สุนารี ไผ่ศิลาผาภูมิ | D24: เจ้าหน้าที่วิเคราะห์นโยบายและแผน | E24: สำนักงานเกษตรและสหกรณ์จังหวัดกาญจนบุรี | F24: P | G24: P | H24: P | I24: P | P24: P | T24: P | U24: P
A25: 20 | B25: นางสาว | C25: เบญจมาศ พลีเพื่อชาติ | D25: เจ้าหน้าที่วิเคราะห์นโยบายและแผน | E25: สำนักงานเกษตรและสหกรณ์จังหวัดกาญจนบุรี | F25: P | G25: P | H25: P | P25: P | Q25: P | S25: P | T25: P
A26: 21 | B26: นาง | C26: ณัฐชยา พัฒนมาศ | D26: เจ้าหน้าที่บันทึกข้อมูล | E26: สำนักงานเกษตรและสหกรณ์จังหวัดกาญจนบุรี | G26: P | H26: P | O26: P | P26: P | Q26: P
A27: 22 | B27: นางสาว | C27: อนุสรา กาญจนเพ็ชร | D27: เจ้าหน้าที่ธุรการ | E27: สำนักงานเกษตรและสหกรณ์จังหวัดกาญจนบุรี | F27: P | H27: P | P27: P | R27: P | S27: P | T27: P
A28: 23 | B28: นางสาว | C28: สุภาวดี เอกฉันท์ | D28: เจ้าพนักงานธุรการ | E28: สำนักงานเกษตรและสหกรณ์จังหวัดกาญจนบุรี | G28: P | H28: P | N28: P | O28: P | Q28: P | R28: P
A29: 24 | B29: นาย | C29: สหเทพ ศรีลานันท์ | D29: พนักงานขับรถยนต์ | E29: สำนักงานเกษตรและสหกรณ์จังหวัดกาญจนบุรี | F29: P | G29: P | H29: P | I29: P | K29: P | M29: P | N29: P | O29: P | Q29: P | S29: P
A30: 25 | B30: นาย | C30: เอกกฤต ศรีทองสุข | D30: พนักงานขับรถยนต์ | E30: สำนักงานเกษตรและสหกรณ์จังหวัดกาญจนบุรี | H30: P | I30: P | L30: P | M30: P | S30: P
A31: 26 | B31: นาง | C31: นงนุช บรรเทาทุกข์ | D31: แม่บ้านทำความสะอาด | E31: สำนักงานเกษตรและสหกรณ์จังหวัดกาญจนบุรี | F31: P | H31: P | M31: P | O31: P | R31: P | T31: P
A32: สำนักงานเกษตรและสหกรณ์ จังหวัดชัยนาท
A33: 1 | B33: นาย | C33: สุวิทย์ สอนสุข | D33: เกษตรและสหกรณ์จังหวัดชัยนาท | E33: สำนักงานเกษตรและสหกรณ์จังหวัดชัยนาท | F33: P | G33: P | H33: P | I33: P | J33: P | K33: P | L33: P | M33: P | N33: P | O33: P | P33: P | Q33: P | R33: P | S33: P | T33: P | U33: P
A34: 2 | B34: นางสาว | C34: วิลาสินี บุญเวียง | D34: นักวิเคราะห์นโยบายและแผนชำนาญการ | E34: สำนักงานเกษตรและสหกรณ์จังหวัดชัยนาท | F34: P | G34: P | H34: P | I34: P | J34: P | K34: P | L34: P | M34: P | N34: P | O34: P | P34: P | Q34: P | R34: P | S34: P | T34: P | U34: P
A35: 3 | B35: นาย | C35: วุฒิพงษ์ สมานชื่น | D35: นักวิเคราะห์นโยบายและแผนชำนาญการ | E35: สำนักงานเกษตรและสหกรณ์จังหวัดชัยนาท | F35: P | M35: P | T35: P
A36: 4 | B36: นาย | C36: สุนทร น้อยสำลี | D36: นักวิเคราะห์นโยบายและแผนชำนาญการ | E36: สำนักงานเกษตรและสหกรณ์จังหวัดชัยนาท | F36: P | G36: P | H36: P | I36: P | J36: P | K36: P | L36: P | M36: P | N36: P | O36: P | P36: P | Q36: P | R36: P | S36: P | T36: P | U36: P
A37: 5 | B37: นางสาว | C37: สุนิภา ดิษฎาวีระวัฒน์ | D37: นักวิเคราะห์นโยบายและแผนชำนาญการ | E37: สำนักงานเกษตรและสหกรณ์จังหวัดชัยนาท | H37: P | O37: P | Q37: P | S37: P | T37: P
A38: 6 | B38: นาง | C38: จินพัทน์ ศรีเอี่ยมโฉม | D38: เจ้าพนักงานธุรการชำนาญงาน | E38: สำนักงานเกษตรและสหกรณ์จังหวัดชัยนาท | F38: P | G38: P | H38: P | I38: P | J38: P | K38: P | L38: P | M38: P | N38: P | O38: P | P38: P | Q38: P | R38: P | S38: P | T38: P | U38: P
A39: 7 | B39: นางสาว | C39: นิภาภร ดำนิล | D39: เจ้าพนักงานธุรการชำนาญงาน | E39: สำนักงานเกษตรและสหกรณ์จังหวัดชัยนาท | F39: P | G39: P | H39: P | I39: P | J39: P | K39: P | L39: P | M39: P | N39: P | O39: P | P39: P | Q39: P | R39: P | S39: P | T39: P | U39: P
A40: 8 | B40: นางสาว | C40: ชุติมา แก้วมะณี | D40: เจ้าพนักงานธุรการปฏิบัติงาน | E40: สำนักงานเกษตรและสหกรณ์จังหวัดชัยนาท | F40: P | G40: P | H40: P | I40: P | J40: P | K40: P | L40: P | M40: P | N40: P | O40: P | P40: P | Q40: P | R40: P | S40: P | T40: P | U40: P
A41: 9 | B41: นาย | C41: ณัฐพงค์ ศักดิ์สิริธนาธร | D41: พนักงานขับรถยนต์ ส2 | E41: สำนักงานเกษตรและสหกรณ์จังหวัดชัยนาท | F41: P | G41: P | L41: P | O41: P | U41: P
A42: 10 | B42: นางสาว | C42: กรรณิกา รัตนา | D42: เจ้าหน้าที่วิเคราะห์นโยบายและแผน | E42: สำนักงานเกษตรและสหกรณ์จังหวัดชัยนาท | H42: P | J42: P | O42: P | P42: P | T42: P
A43: 11 | B43: นางสาว | C43: กรรณิการ์ สุกใส | D43: เจ้าหน้าที่วิเคราะห์นโยบายและแผน | E43: สำนักงานเกษตรและสหกรณ์จังหวัดชัยนาท | G43: P | H43: P | O43: P | Q43: P | T43: P
A44: 12 | B44: นางสาว | C44: กานดา ยังพุ่ม | D44: เจ้าหน้าที่วิเคราะห์นโยบายและแผน | E44: สำนักงานเกษตรและสหกรณ์จังหวัดชัยนาท | H44: P | M44: P | O44: P | R44: P | T44: P
A45: 13 | B45: นาย | C45: จิณณวัตร คลล้ำ | D45: เจ้าหน้าที่วิเคราะห์นโยบายและแผน | E45: สำนักงานเกษตรและสหกรณ์จังหวัดชัยนาท | F45: P | G45: P | H45: P | I45: P | J45: P | K45: P | L45: P | M45: P | N45: P | O45: P | P45: P | Q45: P | R45: P | S45: P | T45: P | U45: P
A46: 14 | B46: นางสาว | C46: เจนจิรา สงใย | D46: เจ้าหน้าที่วิเคราะห์นโยบายและแผน | E46: สำนักงานเกษตรและสหกรณ์จังหวัดชัยนาท | F46: P | G46: P | H46: P | I46: P | J46: P | K46: P | L46: P | M46: P | N46: P | O46: P | P46: P | Q46: P | R46: P | T46: P | U46: P
A47: 15 | B47: นางสาว | C47: ชมพูนุช จันทร์เพ็ญ | D47: เจ้าหน้าที่วิเคราะห์นโยบายและแผน | E47: สำนักงานเกษตรและสหกรณ์จังหวัดชัยนาท | F47: P | G47: P | H47: P | I47: P | M47: P | O47: P | P47: P | Q47: P | R47: P | U47: P
A48: 16 | B48: นาย | C48: ชลรัตน์ มีแสงเพชร | D48: เจ้าหน้าที่วิเคราะห์นโยบายและแผน | E48: สำนักงานเกษตรและสหกรณ์จังหวัดชัยนาท | F48: P | G48: P | H48: P | I48: P | J48: P | K48: P | L48: P | M48: P | N48: P | O48: P | P48: P | Q48: P | R48: P | S48: P | T48: P | U48: P
A49: 17 | B49: นางสาว | C49: ธนพร อินทะโชติ | D49: เจ้าหน้าที่วิเคราะห์นโยบายและแผน | E49: สำนักงานเกษตรและสหกรณ์จังหวัดชัยนาท | F49: P | H49: P | K49: P | N49: P | Q49: P | R49: P | S49: P
A50: 18 | B50: นางสาว | C50: นิตยา วิราพงษ์ | D50: เจ้าหน้าที่วิเคราะห์นโยบายและแผน | E50: สำนักงานเกษตรและสหกรณ์จังหวัดชัยนาท | F50: P | G50: P | H50: P | L50: P | M50: P | N50: P | Q50: P | R50: P | S50: P | T50: P
A51: 19 | B51: นางสาว | C51: วรวีร์ วงษ์สวรรค์ | D51: เจ้าหน้าที่วิเคราะห์นโยบายและแผน | E51: สำนักงานเกษตรและสหกรณ์จังหวัดชัยนาท | F51: P | G51: P | H51: P | I51: P | J51: P | K51: P | L51: P | M51: P | N51: P | O51: P | P51: P | Q51: P | R51: P | S51: P | T51: P | U51: P
A52: 20 | B52: นางสาว | C52: สุธัญญา นาคสังข์ | D52: เจ้าหน้าที่วิเคราะห์นโยบายและแผน | E52: สำนักงานเกษตรและสหกรณ์จังหวัดชัยนาท | G52: P | H52: P | O52: P | Q52: P | T52: P
A53: 21 | B53: นางสาว | C53: ธัญพร จันทร์คุ้ม | D53: เจ้าหน้าที่บริหารงานทั่วไป | E53: สำนักงานเกษตรและสหกรณ์จังหวัดชัยนาท | F53: P | G53: P | H53: P | I53: P | J53: P | K53: P | L53: P | M53: P | N53: P | O53: P | P53: P | Q53: P | R53: P | S53: P | T53: P | U53: P
A54: 22 | B54: นางสาว | C54: พิมกมล ชื่นชม | D54: เจ้าพนักงานธุรการ | E54: สำนักงานเกษตรและสหกรณ์จังหวัดชัยนาท | F54: P | G54: P | H54: P | I54: P | J54: P | K54: P | L54: P | M54: P | N54: P | O54: P | Q54: P | R54: P | S54: P | T54: P | U54: P
A55: 23 | B55: นางสาว | C55: ขนิษฐา ช่วยหาญ | D55: เจ้าพนักงานการเงินและบัญชี | E55: สำนักงานเกษตรและสหกรณ์จังหวัดชัยนาท | F55: P | G55: P | H55: P | I55: P | J55: P | K55: P | L55: P | M55: P | N55: P | O55: P | P55: P | Q55: P | R55: P | S55: P | T55: P
A56: 24 | B56: นางสาว | C56: กมลชนก โพธิ์เหลือ | D56: เจ้าหน้าที่บันทึกข้อมูล | E56: สำนักงานเกษตรและสหกรณ์จังหวัดชัยนาท | F56: P | G56: P | H56: P | I56: P | L56: P | M56: P | N56: P | O56: P | P56: P | Q56: P | R56: P | S56: P | T56: P | U56: P
A57: 25 | B57: นางสาว | C57: ชฎาภัทร์ ประดิษฐ์พงษ์ | D57: เจ้าหน้าที่บันทึกข้อมูล | E57: สำนักงานเกษตรและสหกรณ์จังหวัดชัยนาท | F57: P | G57: P | H57: P | I57: P | J57: P | K57: P | L57: P | M57: P | N57: P | O57: P | P57: P | Q57: P | R57: P | S57: P | T57: P | U57: P
A58: 26 | B58: นางสาว | C58: ลินดา อยู่จันทร์ | D58: คนงาน | E58: สำนักงานเกษตรและสหกรณ์จังหวัดชัยนาท | F58: P | G58: P | H58: P | I58: P | J58: P | K58: P | L58: P | M58: P | N58: P | O58: P | P58: P | Q58: P | R58: P | S58: P | T58: P | U58: P
A59: สำนักงานเกษตรและสหกรณ์ จังหวัดนครนายก
A60: 1 | B60: นาย | C60: สมชาย จงบัญญัติ | D60: เกษตรและสหกรณ์จังหวัดนครนายก | E60: สำนักงานเกษตรและสหกรณ์จังหวัดนครนายก | H60: P | P60: P | T60: P
A61: 2 | B61: นางสาว | C61: พีรชา มณีวงศ์ | D61: นักวิเคราะห์นะโยบายและแผนชำนาญการ | E61: สำนักงานเกษตรและสหกรณ์จังหวัดนครนายก | F61: P | G61: P | H61: P | I61: P | J61: P | K61: P | L61: P | M61: P | N61: P | O61: P | P61: P | Q61: P | R61: P | S61: P | T61: P | U61: P
A62: 3 | B62: นางสาว | C62: จิดาภา หลวงทิพย์ | D62: นักวิเคราะห์นโยบายและแผนชำนาญการ | E62: สำนักงานเกษตรและสหกรณ์จังหวัดนครนายก | F62: P | G62: P | H62: P | I62: P | J62: P | K62: P | L62: P | M62: P | N62: P | O62: P | P62: P | Q62: P | R62: P | S62: P | T62: P | U62: P
A63: 4 | B63: นางสาว | C63: พัชรินทร์ แปลงแดง | D63: นักวิเคราะห์นโยบายและแผนชำนาญการ | E63: สำนักงานเกษตรและสหกรณ์จังหวัดนครนายก | F63: P | H63: P | J63: P | M63: P | P63: P | S63: P
A64: 5 | B64: นาง | C64: อัจฉริยา ผลสวัสดิ์ | D64: นักวิเคราะห์นโยบายและแผนชำนาญการ | E64: สำนักงานเกษตรและสหกรณ์จังหวัดนครนายก | F64: P | G64: P | H64: P | I64: P | J64: P | M64: P | N64: P | O64: P | P64: P | Q64: P | S64: P | T64: P
A65: 6 | B65: นาย | C65: ณัฐวุฒิ ปรีชาชาญ | D65: เจ้าหน้าที่วิเคราะห์นโยบายและแผน | E65: สำนักงานเกษตรและสหกรณ์จังหวัดนครนายก | F65: P | G65: P | H65: P | I65: P | J65: P | K65: P | L65: P | M65: P | N65: P | O65: P | P65: P | Q65: P | R65: P | S65: P | T65: P | U65: P
A66: 7 | B66: นางสาว | C66: นารีรัตน์ แพร่ศิริรักษ์ | D66: เจ้าหน้าที่วิเคราะห์นโยบายและแผน | E66: สำนักงานเกษตรและสหกรณ์จังหวัดนครนายก | F66: P | G66: P | H66: P | I66: P | J66: P | K66: P | L66: P | M66: P | N66: P | O66: P | Q66: P | R66: P | S66: P | T66: P | U66: P
A67: 8 | B67: นางสาว | C67: รุ่งทิพย์ อนันต์เบญจพล | D67: เจ้าหน้าที่วิเคราะห์นโยบายและแผน | E67: สำนักงานเกษตรและสหกรณ์จังหวัดนครนายก | F67: P | G67: P | H67: P | I67: P | J67: P | K67: P | L67: P | M67: P | N67: P | O67: P | P67: P | Q67: P | R67: P | S67: P | T67: P
A68: 9 | B68: นางสาว | C68: สุดาภรณ์ เอมกุศล | D68: เจ้าหน้าที่วิเคราะห์นโยบายและแผน | E68: สำนักงานเกษตรและสหกรณ์จังหวัดนครนายก | G68: P | H68: P | I68: P | M68: P | N68: P | O68: P | R68: P | S68: P
A69: 10 | B69: นางสาว | C69: สุพรรณวจี ต่างใจ | D69: เจ้าหน้าที่วิเคราะห์นโยบายและแผน | E69: สำนักงานเกษตรและสหกรณ์จังหวัดนครนายก | F69: P | G69: P | H69: P | I69: P | J69: P | K69: P | L69: P | M69: P | O69: P | P69: P | Q69: P | R69: P | S69: P | U69: P
A70: 11 | B70: นางสาว | C70: อัญชลีกร วรรณสาตร์ | D70: เจ้าหน้าที่วิเคราะห์นโยบายและแผน | E70: สำนักงานเกษตรและสหกรณ์จังหวัดนครนายก | F70: P | G70: P | H70: P | I70: P | J70: P | K70: P | L70: P | M70: P | N70: P | O70: P | P70: P | Q70: P | R70: P | S70: P | T70: P | U70: P
A71: 12 | B71: นางสาว | C71: วิภาวดี มูลน้อย | D71: เจ้าหน้าที่บันทึกข้อมูล | E71: สำนักงานเกษตรและสหกรณ์จังหวัดนครนายก | F71: P | J71: P | L71: P | N71: P | O71: P | T71: P | U71: P
A72: 13 | B72: นางสาว | C72: ชนัญชิดา ธฤติพันธ์ | D72: เจ้าหน้าที่บริหารทั่วไป | E72: สำนักงานเกษตรและสหกรณ์จังหวัดนครนายก | F72: P | G72: P | H72: P | I72: P | J72: P | K72: P | L72: P | M72: P | N72: P | O72: P | P72: P | Q72: P | R72: P | S72: P | T72: P | U72: P
A73: 14 | B73: นางสาว | C73: ดารัลภรณ์ ศรีทา | D73: เจ้าหน้าที่บริหารงานทั่วไป | E73: สำนักงานเกษตรและสหกรณ์จังหวัดนครนายก | F73: P | G73: P | H73: P | I73: P | J73: P | K73: P | L73: P | M73: P | N73: P | O73: P | P73: P | Q73: P | R73: P | S73: P | T73: P | U73: P
A74: 15 | B74: นางสาว | C74: พลอยนันทฉัตร แก้วโพธิ์ | D74: เจ้าพนักงานธุรการ | E74: สำนักงานเกษตรและสหกรณ์จังหวัดนครนายก | H74: P | M74: P | T74: P
A75: 16 | B75: นาย | C75: ภานุวัฒน์ โถมขำ | D75: จ้างเหมาบริการ | E75: สำนักงานเกษตรและสหกรณ์จังหวัดนครนายก | F75: P | H75: P | J75: P | L75: P | M75: P | N75: P | O75: P | Q75: P | S75: P
A76: 17 | B76: นาย | C76: พงษ์ประเสริฐ รุ่งเรืองดั่งทอง | D76: พนักงานขับรถยนต์ราชการ | E76: สำนักงานเกษตรและสหกรณ์จังหวัดนครนายก | F76: P | G76: P | H76: P | I76: P | J76: P | K76: P | L76: P | M76: P | N76: P | O76: P | P76: P | Q76: P | R76: P | S76: P | T76: P | U76: P
A77: 18 | B77: นาย | C77: พรประสิทธิ์ พาประเสริฐ | D77: พนักงานขัยรถยนต์ | E77: สำนักงานเกษตรและสหกรณ์จังหวัดนครนายก | F77: P | P77: P | T77: P
A78: สำนักงานเกษตรและสหกรณ์ จังหวัดนครปฐม
A79: 1 | B79: นาง | C79: สาริศา นุ่นสังข์ | D79: นักวิเคราะห์นโยบายและแผนชำนาญการ | E79: สำนักงานเกษตรและสหกรณ์จังหวัดนครปฐม | G79: P | H79: P | I79: P | J79: P | K79: P | L79: P | M79: P | N79: P | O79: P | P79: P | Q79: P | R79: P | S79: P
A80: 2 | B80: นาย | C80: คงฤทธิ์ จันทร์ฟู | D80: นักวิเคราะห์นโยบายและแผนชำนาญการ | E80: สำนักงานเกษตรและสหกรณ์จังหวัดนครปฐม | F80: P | G80: P | H80: P | I80: P | J80: P | K80: P | L80: P | M80: P | N80: P | O80: P | P80: P | Q80: P | R80: P | S80: P | T80: P | U80: P
A81: 3 | B81: นางสาว | C81: โสภาพรรณ ศิริทรัพย์ | D81: นักวิเคราะห์นโยบายและแผนชำนาญการ | E81: สำนักงานเกษตรและสหกรณ์จังหวัดนครปฐม | F81: P | G81: P | H81: P | I81: P | J81: P | K81: P | L81: P | M81: P | N81: P | O81: P | P81: P | Q81: P | R81: P | S81: P | T81: P | U81: P
A82: 4 | B82: นางสาว | C82: โยษิตา ชูเชิด | D82: นักวิเคราะห์นโยบายและแผนปฏิบัติการ | E82: สำนักงานเกษตรและสหกรณ์จังหวัดนครปฐม | F82: P | G82: P | H82: P | I82: P | J82: P | K82: P | L82: P | M82: P | N82: P | O82: P | P82: P | Q82: P | R82: P | S82: P | T82: P | U82: P
A83: 5 | B83: นางสาว | C83: ปัทมา แสงสร้อย | D83: เจ้าพนักงานการเงินและบัญชีปฏิบัติงาน | E83: สำนักงานเกษตรและสหกรณ์จังหวัดนครปฐม | F83: P | G83: P | H83: P | I83: P | J83: P | K83: P | L83: P | M83: P | N83: P | O83: P | P83: P | Q83: P | R83: P | S83: P | T83: P | U83: P
A84: 6 | B84: นาง | C84: ศรัณยาณัฏฐ์ ทองยินดี | D84: พนักงานพิมพ์ ส4 | E84: สำนักงานเกษตรและสหกรณ์จังหวัดนครปฐม | F84: P | G84: P | H84: P | I84: P | J84: P | K84: P | L84: P | M84: P | N84: P | O84: P | P84: P | Q84: P | S84: P | T84: P | U84: P
A85: 7 | B85: นางสาว | C85: ปิยมน ทองดี | D85: เจ้าหน้าที่วิเคราะห์นโยบายและแผน | E85: สำนักงานเกษตรและสหกรณ์จังหวัดนครปฐม | F85: P | G85: P | H85: P | I85: P | J85: P | K85: P | L85: P | M85: P | N85: P | O85: P | P85: P | Q85: P | R85: P | S85: P | T85: P | U85: P
A86: 8 | B86: นางสาว | C86: ราตรี โห้พึ่งจู | D86: เจ้าหน้าที่วิเคราะห์นโยบายและแผน | E86: สำนักงานเกษตรและสหกรณ์จังหวัดนครปฐม | F86: P | G86: P | H86: P | I86: P | J86: P | K86: P | L86: P | M86: P | N86: P | O86: P | P86: P | Q86: P | T86: P
A87: 9 | B87: นางสาว | C87: วราภา​ ธีระเสถียร | D87: เจ้าหน้าที่วิเคราะห์นโยบายและแผน | E87: สำนักงานเกษตรและสหกรณ์จังหวัดนครปฐม | F87: P | G87: P | H87: P | I87: P | J87: P | K87: P | L87: P | M87: P | N87: P | O87: P | P87: P | Q87: P | R87: P | S87: P | T87: P | U87: P
A88: 10 | B88: นางสาว | C88: ศิรดา ไทรชมภู | D88: เจ้าหน้าที่บริหารงานทั่วไป | E88: สำนักงานเกษตรและสหกรณ์จังหวัดนครปฐม | F88: P | G88: P | H88: P | I88: P | J88: P | K88: P | L88: P | M88: P | N88: P | O88: P | P88: P | Q88: P | R88: P | S88: P | T88: P | U88: P
A89: 11 | B89: นาง | C89: มณีรัตน์ เสาร์จันทร์ | D89: เจ้าพนักงานธุรการ | E89: สำนักงานเกษตรและสหกรณ์จังหวัดนครปฐม | G89: P | H89: P | I89: P | J89: P | L89: P | M89: P | N89: P | O89: P | P89: P | Q89: P | S89: P | U89: P
A90: สำนักงานเกษตรและสหกรณ์ จังหวัดนนทบุรี
A91: 1 | B91: นาง | C91: วรรณ์ภัสสร ศรีจันทร์ | D91: เกษตรและสหกรณ์จังหวัด | E91: สำนักงานเกษตรและสหกรณ์จังหวัดนนทบุรี | F91: P | G91: P | H91: P | I91: P | J91: P | K91: P | L91: P | M91: P | N91: P | O91: P | P91: P | Q91: P | R91: P | S91: P | T91: P | U91: P
A92: 2 | B92: นาง | C92: ธนภรณ์ นวลละออ | D92: นักวิเคราะห์นโยบายและแผนชำนาญการ | E92: สำนักงานเกษตรและสหกรณ์จังหวัดนนทบุรี | F92: P | L92: P | P92: P | Q92: P | S92: P
A93: 3 | B93: นาย | C93: ทีฆโชติ นัดกิ่ง | D93: นักวิเคราะห์นโยบายและแผนชำนาญการ | E93: สำนักงานเกษตรและสหกรณ์จังหวัดนนทบุรี | H93: P | M93: P | O93: P | Q93: P | R93: P
A94: 4 | B94: นาย | C94: อดิศักดิ์ ทิพย์สมัย | D94: นักวิเคราะห์นโยบายและแผนชำนาญการ | E94: สำนักงานเกษตรและสหกรณ์จังหวัดนนทบุรี | F94: P | G94: P | H94: P | I94: P | J94: P | K94: P | L94: P | M94: P | N94: P | O94: P | P94: P | Q94: P | R94: P | S94: P | T94: P | U94: P
A95: 5 | B95: นาง | C95: จิรภัทร์ ปานอุทัย | D95: นักวิเคราะห์นโยบายและแผนชำนาญการ | E95: สำนักงานเกษตรและสหกรณ์จังหวัดนนทบุรี | F95: P | G95: P | H95: P | I95: P | J95: P | K95: P | L95: P | M95: P | N95: P | O95: P | P95: P | Q95: P | R95: P | S95: P | T95: P | U95: P
A96: 6 | B96: นางสาว | C96: ณัชศุภกานต์ สุภารัตน์ | D96: นักวิเคราะห์นโยบายและแผนปฎิบัติการ | E96: สำนักงานเกษตรและสหกรณ์จังหวัดนนทบุรี | F96: P | G96: P | H96: P | I96: P | J96: P | K96: P | N96: P | O96: P | P96: P | Q96: P | S96: P
A97: 7 | B97: นาง | C97: ปณชล แสนธรรมพล | D97: เจ้าพนักงานธุรการปฎิบัติงาน | E97: สำนักงานเกษตรและสหกรณ์จังหวัดนนทบุรี | F97: P | G97: P | H97: P | I97: P | J97: P | K97: P | L97: P | M97: P | N97: P | O97: P | P97: P | Q97: P | R97: P | S97: P | T97: P | U97: P
A98: 8 | B98: นางสาว | C98: พิมพ์ณิสา สีคำ | D98: เจ้าหน้าที่วิเคราะห์นโยบายและแผน | E98: สำนักงานเกษตรและสหกรณ์จังหวัดนนทบุรี | H98: P | J98: P | K98: P | O98: P | Q98: P
A99: 9 | B99: นางสาว | C99: กมลพร หาดแก้ว | D99: เจ้าหน้าที่วิเคราะห์นโยบายและแผน | E99: สำนักงานเกษตรและสหกรณ์จังหวัดนนทบุรี | F99: P | G99: P | H99: P | I99: P | J99: P | K99: P | M99: P | N99: P | O99: P | P99: P | Q99: P | R99: P | S99: P | T99: P | U99: P
A100: 10 | B100: นาย | C100: ศุภกร สีแพนบาล | D100: เจ้าหน้าที่วิเคราะห์นโยบายและแผน | E100: สำนักงานเกษตรและสหกรณ์จังหวัดนนทบุรี | F100: P | G100: P | H100: P | I100: P | J100: P | K100: P | L100: P | M100: P | N100: P | O100: P | P100: P | Q100: P | R100: P | S100: P | T100: P | U100: P
A101: 11 | B101: นางสาว | C101: ภัทริยา แช่มโสภา | D101: เจ้าหน้าที่วิเคราะห์นโยบายและแผน | E101: สำนักงานเกษตรและสหกรณ์จังหวัดนนทบุรี | F101: P | G101: P | H101: P | I101: P | J101: P | K101: P | L101: P | M101: P | N101: P | O101: P | P101: P | Q101: P | R101: P | S101: P | T101: P | U101: P
...

Sheet กษ. ภาคเหนือ
A1: กิจกรรมตั้งปณิธานความดีของบุคลากร สป.กษ. ประจำปีงบประมาณ พ.ศ. 2565
A3: ลำดับ | B3: คำนำหน้า | C3: ชื่อ-สกุล | D3: ตำแหน่ง | E3: หน่วยงาน | F3: 2.1 ด้านการป้องกันการทุจริต | L3: 2.2 ด้านส่งเสริมคุณธรรมและจริยธรรม | Q3: 2.3 ด้านอื่นๆ
F4: 1. ปฏิบัติงานตามเวลาราชการ (08.30 - 16.30 น.) ไม่เบียดบังเวลาราชการเพื่อประโยชน์ส่วนตน | G4: 2. ปฏิบัติงานตามกฎ ระเบียบ และข้อบังคับ | H4: 3. ปฏิบัติงานด้วยความซื่อสัตย์ สุจริต มีความรับผิดชอบต่อหน้าที่ของตนเอง | I4: 4. ใช้ทรัพย์สินของราชการในการปฏิบัติงานราชการเท่านั้น | J4: 5. ไม่รับ-ไม่ให้ หรือเรียกรับของขวัญและของกำนัล ทรัพย์สินหรือประโยชน์อื่นใดจากการปฏิบัติหน้าที่ | K4: 6. ไม่เพิกเฉยหากพบการกระทำ หรือเหตุการณ์ที่อาจเกิดการทุจริต | L4: 1. เข้าร่วมกิจกรรมจิตอาสาหรือกิจกรรมบำเพ็ญประโยชน์เพื่อส่วนรวม | M4: 2. เสียสละประโยชน์ส่วนตนเพื่อประโยชน์ส่วนรวม ไม่เอารัดเอาเปรียบผู้อื่น | N4: 3. ประพฤติตนเป็นพลเมืองที่ดี รักษาสัญญา มีความขยันขันแข็ง อ่อนน้อมถ่อมตน พูดจาสุภาพ | O4: 4. ยิ้มแย้มแจ่มใส มีมิตรสัมพันธ์ไมตรีจิตอันดีต่อเพื่อนร่วมงาน และผู้มารับบริการ | P4: 5. ประพฤติปฏิบัติตัวตามคำสอนของแต่ละศาสนา เช่น เข้าวัดทำบุญ ตักบาตร ฟังเทศน์ เข้าโบสถ์ มัสยิด หรือประกอบพิธีการต่างๆ ตามศาสนาที่ตนเองนับถือ เป็นต้น | Q4: 1. ค้นคว้าหาความรู้ หมั่นพัฒนาตนเองอยู่เสมอ | R4: 2. มีความริเริ่มสร้างสรรค์ ปรับปรุงพัฒนางานให้ดียิ่งขึ้น | S4: 3. ใช้ทรัพยากรอย่างประหยัดและคุ้มค่า | T4: 4. นำหลักปรัชญาเศรษฐกิจ พอเพียงมาใช้ในการดำเนินชีวิต | U4: 5. สวมใส่เครื่องแต่งกายถูกระเบียบ และอนุรักษ์ชุดผ้าไทยอยู่เสมอเมื่อมีโอกาส
A5: สำนักงานเกษตรและสหกรณ์ จังหวัดกำแพงเพชร
A6: 1 | B6: นาย | C6: อนันต์ โฆษิตพิพัฒน์ | D6: เกษตรและสหกรณ์จังหวัดกำแพงเพชร | E6: สำนักงานเกษตรและสหกรณ์จังหวัดกำแพงเพชร | F6: P | H6: P | J6: P | K6: P | L6: P | M6: P | N6: P | Q6: P | R6: P | U6: P
A7: 2 | B7: นาง | C7: พรทิวา อำนวย | D7: นักวิเคราะห์นโยบายและแผนชำนาญการ | E7: สำนักงานเกษตรและสหกรณ์จังหวัดกำแพงเพชร | F7: P | G7: P | H7: P | I7: P | J7: P | K7: P | L7: P | O7: P | Q7: P | R7: P | T7: P
A8: 3 | B8: นาย | C8: สิรภพ แก้วทุ่ง | D8: นักวิเคราะห์นโยบายและแผนชำนาญการ | E8: สำนักงานเกษตรและสหกรณ์จังหวัดกำแพงเพชร | F8: P | L8: P | N8: P | O8: P | P8: P | Q8: P
A9: 4 | B9: นาย | C9: อดิศร์ ศิริสุทธิ์ | D9: นักวิเคราะห์นโยบายและแผนชำนาญการ | E9: สำนักงานเกษตรและสหกรณ์จังหวัดกำแพงเพชร | F9: P | G9: P | H9: P | I9: P | J9: P | K9: P | M9: P | O9: P | Q9: P | R9: P | S9: P | T9: P | U9: P
A10: 5 | B10: นางสาว | C10: วันทนา ฟูคำ | D10: นักวิเคราะห์นโยบายและแผนปฏิบัติการ | E10: สำนักงานเกษตรและสหกรณ์จังหวัดกำแพงเพชร | F10: P | G10: P | H10: P | I10: P | J10: P | K10: P | L10: P | M10: P | N10: P | O10: P | P10: P | Q10: P | R10: P | S10: P | T10: P | U10: P
A11: 6 | B11: นางสาว | C11: วรมน มูลลคร | D11: นักวิเคราะห์นโยบายและแผน | E11: สำนักงานเกษตรและสหกรณ์จังหวัดกำแพงเพชร | F11: P | G11: P | H11: P | J11: P | K11: P | N11: P | O11: P | P11: P | Q11: P | T11: P | U11: P
A12: 7 | B12: นางสาว | C12: รัสวรรณ ขำศิริ | D12: เจ้าพนักงานธุรการปฏิบัติงาน | E12: สำนักงานเกษตรและสหกรณ์จังหวัดกำแพงเพชร | F12: P | J12: P | K12: P | L12: P | Q12: P | T12: P
A13: 8 | B13: นางสาว | C13: ปิยธิดา วงษ์ฉายา | D13: เจ้าพนักงานการเงินและบัญชีปฏิบัติงาน | E13: สำนักงานเกษตรและสหกรณ์จังหวัดกำแพงเพชร | F13: P | J13: P | K13: P | N13: P | O13: P | P13: P | Q13: P | S13: P | U13: P
A14: 9 | B14: นางสาว | C14: หทัยชนก ทองภูเบศร์ | D14: พนักงานพิมพ์ ส.3 | E14: สำนักงานเกษตรและสหกรณ์จังหวัดกำแพงเพชร | F14: P | G14: P | H14: P | I14: P | J14: P | K14: P | L14: P | M14: P | N14: P | O14: P | P14: P | Q14: P | R14: P | S14: P | T14: P
A15: 10 | B15: นาง | C15: สุนันทา วิบูลวัชริยกุล | D15: พนักงานพิมพ์ ส.3 | E15: สำนักงานเกษตรและสหกรณ์จังหวัดกำแพงเพชร | F15: P | J15: P | K15: P | N15: P | O15: P | Q15: P | R15: P | S15: P
A16: 11 | B16: นางสาว | C16: เกตสิริ เทียมเพชร | D16: เจ้าหน้าที่วิเคราะห์นโยบายและแผนเฉพาะกิจ | E16: สำนักงานเกษตรและสหกรณ์จังหวัดกำแพงเพชร | F16: P | J16: P | K16: P | M16: P | N16: P | O16: P | Q16: P | S16: P | U16: P
A17: 12 | B17: นางสาว | C17: กัญญกร กิตติวงศธร | D17: เจ้าหน้าที่วิเคราะห์นโยบายและแผน | E17: สำนักงานเกษตรและสหกรณ์จังหวัดกำแพงเพชร | F17: P | J17: P | K17: P | N17: P | O17: P | Q17: P | S17: P
A18: 13 | B18: นางสาว | C18: กิติวรรณ จั่นแก้ว | D18: เจ้าหน้าที่วิเคราะห์นโยบายและแผน | E18: สำนักงานเกษตรและสหกรณ์จังหวัดกำแพงเพชร | F18: P | G18: P | H18: P | I18: P | K18: P | M18: P | N18: P | O18: P | Q18: P | R18: P | T18: P | U18: P
A19: 14 | B19: นางสาว | C19: พันทิพา ศรีสวัสดิ์ | D19: เจ้าหน้าที่วิเคราะห์นโยบายและแผน | E19: สำนักงานเกษตรและสหกรณ์จังหวัดกำแพงเพชร | F19: P | J19: P | K19: P | N19: P | O19: P | Q19: P | R19: P
A20: 15 | B20: นาง | C20: รุ่งนภา​ หึมวัง | D20: เจ้าหน้าที่วิเคราะห์นโยบายและแผน | E20: สำนักงานเกษตรและสหกรณ์จังหวัดกำแพงเพชร | F20: P | H20: P | J20: P | N20: P | S20: P | T20: P
A21: 16 | B21: นาง | C21: ภัญศรัตม์ ธีรสกุล | D21: เจ้าหน้าที่วิเคราะนโยบายและแผน | E21: สำนักงานเกษตรและสหกรณ์จังหวัดกำแพงเพชร | F21: P | G21: P | H21: P | I21: P | J21: P | N21: P | O21: P | Q21: P | R21: P | S21: P
A22: 17 | B22: นางสาว | C22: อาภัสสรา เมฆสินธ์ | D22: เจ้าหน้าที่วิเคราะห์นโยบายและแผน | E22: สำนักงานเกษตรและสหกรณ์จังหวัดกำแพงเพชร | F22: P | G22: P | H22: P | I22: P | J22: P | L22: P | N22: P | O22: P | P22: P | Q22: P | T22: P | U22: P
A23: 18 | B23: นาง | C23: พิมพัตรา ศิริชัย | D23: เจ้าหน้าที่บริหารงานทั่วไป | E23: สำนักงานเกษตรและสหกรณ์จังหวัดกำแพงเพชร | F23: P | G23: P | H23: P | I23: P | J23: P | K23: P | L23: P | M23: P | N23: P | O23: P | P23: P | Q23: P | S23: P | U23: P
A24: 19 | B24: นาย | C24: ปฏิวัติ วงค์แก้ว | D24: เจ้าหน้าที่ทั่วไป | E24: สำนักงานเกษตรและสหกรณ์จังหวัดกำแพงเพชร | F24: P | G24: P | H24: P | I24: P | J24: P | K24: P | L24: P | M24: P | N24: P | O24: P | P24: P | Q24: P | S24: P | U24: P
A25: 20 | B25: นางสาว | C25: อ้อยทิพย์ ชมมะลิ | D25: เจ้าพนักงานการเงินและบัญชี | E25: สำนักงานเกษตรและสหกรณ์จังหวัดกำแพงเพชร | F25: P | J25: P | K25: P | L25: P | M25: P | N25: P | O25: P | P25: P | Q25: P | R25: P | S25: P | T25: P
A26: 21 | B26: นางสาว | C26: ปิยนุช รอดเมือง | D26: เจ้าพนักงานธุรการ | E26: สำนักงานเกษตรและสหกรณ์จังหวัดกำแพงเพชร | F26: P | G26: P | H26: P | I26: P | J26: P | K26: P | L26: P | M26: P | N26: P | O26: P | P26: P | Q26: P | R26: P | S26: P | T26: P | U26: P
A27: 22 | B27: นางสาว | C27: โสภิตา​ ถมอินทร์ | D27: เจ้าหน้าที่บันทึกข้อมูล | E27: สำนักงานเกษตรและสหกรณ์จังหวัดกำแพงเพชร | H27: P | N27: P | O27: P | Q27: P | S27: P | U27: P
A28: 23 | B28: นางสาว | C28: รุ่งทิพย์ ทองคำสัมฤทธิ์ | D28: เจ้าหน้าที่โครงการเกษตรกรรมยั่งยืน | E28: สำนักงานเกษตรและสหกรณ์จังหวัดกำแพงเพชร | F28: P | G28: P | H28: P | J28: P | L28: P | N28: P | Q28: P | T28: P | U28: P
A29: 24 | B29: นาย | C29: ณัฐ ม่วงขำ | D29: งานยานพานะ | E29: สำนักงานเกษตรและสหกรณ์จังหวัดกำแพงเพชร | F29: P | J29: P | K29: P | M29: P | N29: P | O29: P | Q29: P | S29: P | U29: P
A30: 25 | B30: นาย | C30: กิจพงษ์ หร่นขำ | D30: พนักงานขับรถยนต์ | E30: สำนักงานเกษตรและสหกรณ์จังหวัดกำแพงเพชร | F30: P | J30: P | K30: P | L30: P | N30: P | O30: P | S30: P | U30: P
A31: 26 | B31: นาง | C31: บุญยัง เอี่ยมพราว | D31: นักการภารโรง | E31: สำนักงานเกษตรและสหกรณ์จังหวัดกำแพงเพชร | F31: P | G31: P | H31: P | I31: P | J31: P | K31: P | L31: P | M31: P | N31: P | O31: P | P31: P | S31: P | T31: P | U31: P
A32: สำนักงานเกษตรและสหกรณ์ จังหวัดเชียงราย
A33: 1 | B33: นาย | C33: อดิศร จันทรประภาเลิศ | D33: เกษตรและสหกรณ์จังหวัดเชียงราย | E33: สำนักงานเกษตรและสหกรณ์จังหวัดเชียงราย | F33: P | G33: P | H33: P | I33: P | J33: P | K33: P | L33: P | M33: P | N33: P | O33: P | P33: P | Q33: P | R33: P | S33: P | T33: P | U33: P
A34: 2 | B34: นางสาว | C34: วณิชชา ดวงสม | D34: นักวิเคราะห์นโยบายและแผนชำนาญการ | E34: สำนักงานเกษตรและสหกรณ์จังหวัดเชียงราย | F34: P | G34: P | H34: P | I34: P | J34: P | K34: P | L34: P | M34: P | N34: P | O34: P | P34: P | Q34: P | R34: P | S34: P | T34: P | U34: P
A35: 3 | B35: นาง | C35: ปรัญฐนี ไชยองค์การ | D35: นักวิเคราะห์นโยบายและแผนชำนาญการ | E35: สำนักงานเกษตรและสหกรณ์จังหวัดเชียงราย | F35: P | G35: P | H35: P | I35: P | J35: P | K35: P | L35: P | M35: P | N35: P | O35: P | P35: P | Q35: P | R35: P | S35: P | T35: P | U35: P
A36: 4 | B36: นางสาว | C36: อรฤทัย เครือจันทร์ | D36: นักวิเคราะห์นโยบายและแผนชำนาญการ | E36: สำนักงานเกษตรและสหกรณ์จังหวัดเชียงราย | F36: P | L36: P | T36: P
A37: 5 | B37: นาง | C37: วิมล สิงคราช | D37: เจ้าพนักงานธุรการชำนาญงาน | E37: สำนักงานเกษตรและสหกรณ์จังหวัดเชียงราย | F37: P | G37: P | H37: P | I37: P | J37: P | K37: P | L37: P | M37: P | N37: P | O37: P | P37: P | Q37: P | R37: P | S37: P | T37: P | U37: P
A38: 6 | B38: นาง | C38: จิดาภา ทวีสมบัติ | D38: เจ้าพนักงานธุรการชำนาญงาน | E38: สำนักงานเกษตรและสหกรณ์จังหวัดเชียงราย | F38: P | G38: P | H38: P | I38: P | J38: P | L38: P | M38: P | N38: P | O38: P | P38: P | Q38: P | R38: P | S38: P | T38: P | U38: P
A39: 7 | B39: นาง | C39: บุปผา สมบูรณชัย | D39: เจ้าพนักงานการและบัญชีปฏิบัติงาน | E39: สำนักงานเกษตรและสหกรณ์จังหวัดเชียงราย | F39: P | G39: P | H39: P | I39: P | J39: P | K39: P | L39: P | M39: P | N39: P | O39: P | P39: P | Q39: P | R39: P | S39: P | T39: P | U39: P
A40: 8 | B40: นางสาว | C40: วิไลวรรณ ไชยเรือน | D40: พนักงานพิมพ์ ส 4 | E40: สำนักงานเกษตรและสหกรณ์จังหวัดเชียงราย | F40: P | G40: P | H40: P | I40: P | J40: P | K40: P | L40: P | M40: P | N40: P | O40: P | P40: P | Q40: P | R40: P | S40: P | T40: P | U40: P
A41: 9 | B41: นางสาว | C41: สาวิภา จันทร์ป้อ | D41: เจ้าหน้าที่วิเคราะห์นโยบายและแผน | E41: สำนักงานเกษตรและสหกรณ์จังหวัดเชียงราย | F41: P | G41: P | H41: P | I41: P | J41: P | K41: P | L41: P | M41: P | N41: P | O41: P | P41: P | Q41: P | R41: P | S41: P | T41: P | U41: P
A42: 10 | B42: นาง | C42: เพ็ญศรี ธนศักดิ์สิริ | D42: เจ้าหน้าที่วิเคราะห์นโยบายและแผน | E42: สำนักงานเกษตรและสหกรณ์จังหวัดเชียงราย | F42: P | L42: P | Q42: P
A43: 11 | B43: นาย | C43: ภาณุพงศ์ โขมะสรานนท์ | D43: เจ้าหน้าที่วิเคราะห์นโยบายและแผน | E43: สำนักงานเกษตรและสหกรณ์จังหวัดเชียงราย | F43: P | G43: P | H43: P | I43: P | J43: P | K43: P | M43: P | N43: P | O43: P | S43: P | T43: P
A44: 12 | B44: นางสาว | C44: ภรพชิรา วรประภากรณ์ | D44: เจ้าหน้าที่วิเคราะห์นโยบายและแผน | E44: สำนักงานเกษตรและสหกรณ์จังหวัดเชียงราย | F44: P | G44: P | H44: P | I44: P | J44: P | K44: P | L44: P | M44: P | N44: P | O44: P | P44: P | Q44: P | R44: P | S44: P | T44: P | U44: P
A45: 13 | B45: นางสาว | C45: รวิกาญจน์ สุขเกษม | D45: เจ้าหน้าที่วิเคราะห์นโยบายและแผน | E45: สำนักงานเกษตรและสหกรณ์จังหวัดเชียงราย | F45: P | G45: P | H45: P | I45: P | J45: P | K45: P | L45: P | M45: P | N45: P | O45: P | P45: P | Q45: P | R45: P | S45: P | T45: P | U45: P
A46: 14 | B46: นาย | C46: ขจรเดช​ สุ​ร​พณิช​ดุล​ | D46: เจ้าหน้าที่ช่วยปฎิบัติงาน​โครงการ​พัฒนา​เกษตรกร​รมยั่งยืน | E46: สำนักงานเกษตรและสหกรณ์จังหวัดเชียงราย | F46: P | G46: P | H46: P | I46: P | J46: P | K46: P | L46: P | M46: P | N46: P | O46: P | P46: P | Q46: P | R46: P | S46: P | T46: P | U46: P
A47: 15 | B47: นาย | C47: ชิตพล กันธะนภี | D47: เจ้าหน้าที่ช่วยปฏิบัติงานโครงการพระราชดำริ | E47: สำนักงานเกษตรและสหกรณ์จังหวัดเชียงราย | F47: P | G47: P | H47: P | I47: P | J47: P | M47: P | N47: P | O47: P | P47: P | Q47: P | R47: P | S47: P | U47: P
A48: 16 | B48: นางสาว | C48: จามจุรี วงค์มูล | D48: เจ้าพนักงานการเงินและบัญชี | E48: สำนักงานเกษตรและสหกรณ์จังหวัดเชียงราย | F48: P | G48: P | H48: P | I48: P | J48: P | K48: P | L48: P | M48: P | N48: P | O48: P | P48: P | Q48: P | R48: P | S48: P | T48: P | U48: P
A49: 17 | B49: นางสาว | C49: กรรณิการ์ สมจีน | D49: เจ้าหน้าที่บันทึกข้อมูล | E49: สำนักงานเกษตรและสหกรณ์จังหวัดเชียงราย | F49: P | G49: P | H49: P | I49: P | J49: P | K49: P | L49: P | M49: P | N49: P | O49: P | P49: P | Q49: P | R49: P | S49: P | T49: P | U49: P
A50: 18 | B50: นาย | C50: สุชาติ สมบูรณ์ชัย | D50: พนักงานขับรถยนต์ | E50: สำนักงานเกษตรและสหกรณ์จังหวัดเชียงราย | F50: P | G50: P | H50: P | I50: P | J50: P | K50: P | L50: P | M50: P | N50: P | O50: P | P50: P | Q50: P | R50: P | S50: P | T50: P | U50: P
A51: สำนักงานเกษตรและสหกรณ์ จังหวัดเชียงใหม่
A52: 1 | B52: นาย | C52: สุรพล​ ปุ​สุรินทร์​ค​ำ​ | D52: นักวิเคราะห์​นโยบาย​และ​แผน​ช​ำ​นา​ญ​การ​พิเศษ​ | E52: สำนักงานเกษตรและสหกรณ์จังหวัดเชียงใหม่ | F52: P | G52: P | H52: P | I52: P | J52: P | K52: P | L52: P | M52: P | N52: P | O52: P | P52: P | Q52: P | R52: P | S52: P | T52: P | U52: P
A53: 2 | B53: นาย | C53: ณวรา ชัยชนะ | D53: นักวิเคราะห์นโยบายและแผนชำนาญการ | E53: สำนักงานเกษตรและสหกรณ์จังหวัดเชียงใหม่ | F53: P | G53: P | H53: P | M53: P | T53: P
A54: 3 | B54: นางสาว | C54: รุ่งนภา ตาอินทร์ | D54: นักวิเคราะห์นโยบายและแผนชำนาญการ | E54: สำนักงานเกษตรและสหกรณ์จังหวัดเชียงใหม่ | F54: P | G54: P | H54: P | I54: P | J54: P | K54: P | L54: P | M54: P | N54: P | O54: P | P54: P | Q54: P | R54: P | S54: P | T54: P | U54: P
A55: 4 | B55: นางสาว | C55: ลักขณา ธัมมากาศ | D55: นักวิเคราะห์นโยบายและแผนชำนาญการ | E55: สำนักงานเกษตรและสหกรณ์จังหวัดเชียงใหม่ | F55: P | G55: P | H55: P | I55: P | J55: P | K55: P | L55: P | M55: P | N55: P | O55: P | P55: P | Q55: P | R55: P | S55: P | T55: P | U55: P
A56: 5 | B56: นาง | C56: อรอุมา ศรีนุต | D56: นักวิเคราะห์นโยบายและแผนชำนาญการ | E56: สำนักงานเกษตรและสหกรณ์จังหวัดเชียงใหม่ | H56: P | M56: P | P56: P | S56: P | U56: P
A57: 6 | B57: นาย | C57: ณัฐนนท์ ปินคำ | D57: นักวิเคราะห์นโยบายและแผนปฏิบัติการ | E57: สำนักงานเกษตรและสหกรณ์จังหวัดเชียงใหม่ | F57: P | G57: P | H57: P | I57: P | J57: P | K57: P | L57: P | M57: P | N57: P | O57: P | P57: P | Q57: P | R57: P | S57: P | T57: P | U57: P
A58: 7 | B58: นางสาว | C58: อรณัน กวินรัตนภัค | D58: นักวิเคราะห์นโยบายและแผนปฏิบัติการ | E58: สำนักงานเกษตรและสหกรณ์จังหวัดเชียงใหม่ | F58: P | H58: P | J58: P | L58: P | M58: P | N58: P | O58: P | P58: P | Q58: P | R58: P | S58: P | T58: P
A59: 8 | B59: นาย | C59: ปฏิพันธ์ พันธ์ภัทรชัย | D59: เจ้าพนักงานธุรการชำนาญงาน | E59: สำนักงานเกษตรและสหกรณ์จังหวัดเชียงใหม่ | F59: P | G59: P | H59: P | I59: P | J59: P | K59: P | L59: P | M59: P | N59: P | O59: P | P59: P | Q59: P | R59: P | S59: P | T59: P | U59: P
A60: 9 | B60: นาย | C60: นิรุตติ์ กิติวงค์ | D60: เจ้าหน้าที่วิเคราะห์นโยบายและแผน | E60: สำนักงานเกษตรและสหกรณ์จังหวัดเชียงใหม่ | F60: P | G60: P | M60: P | N60: P | O60: P | S60: P | T60: P
A61: 10 | B61: นางสาว | C61: เบญญาภา จุ่มติ๊บ | D61: เจ้าหน้าที่วิเคราะห์นโยบายและแผน | E61: สำนักงานเกษตรและสหกรณ์จังหวัดเชียงใหม่ | H61: P | O61: P | S61: P
A62: 11 | B62: นางสาว | C62: พรชิตาพรรณ์ กอนแก้ว | D62: เจ้าหน้าที่วิเคราะห์นโยบายและแผน | E62: สำนักงานเกษตรและสหกรณ์จังหวัดเชียงใหม่ | F62: P | G62: P | H62: P | K62: P | N62: P | O62: P | P62: P | Q62: P | R62: P | S62: P | T62: P
A63: 12 | B63: นางสาว | C63: นราทิพย์ บุญมี | D63: เจ้าหน้าที่วิเคราะห์นโยบายและแผน | E63: สำนักงานเกษตรและสหกรณ์จังหวัดเชียงใหม่ | F63: P | G63: P | H63: P | I63: P | J63: P | K63: P | L63: P | M63: P | N63: P | O63: P | P63: P | Q63: P | R63: P | S63: P | T63: P
A64: 13 | B64: นาย | C64: ดนัยฤทธิ์ เคหา | D64: เจ้าหน้าที่วิเคราะห์นโยบายและแผน | E64: สำนักงานเกษตรและสหกรณ์จังหวัดเชียงใหม่ | F64: P | H64: P | I64: P | J64: P | M64: P | N64: P | O64: P | Q64: P | R64: P | S64: P | U64: P
A65: 14 | B65: นางสาว | C65: นาถนรี​ ปวงจักร์ทา | D65: เจ้าหน้าที่วิเคราะห์นโยบายและแผน | E65: สำนักงานเกษตรและสหกรณ์จังหวัดเชียงใหม่ | F65: P | H65: P | O65: P | P65: P | S65: P | T65: P
A66: 15 | B66: นางสาว | C66: นันท์นภัส การบูรณ์ | D66: เจ้าหน้าที่วิเคราะห์นโยบายและแผน | E66: สำนักงานเกษตรและสหกรณ์จังหวัดเชียงใหม่ | F66: P | G66: P | H66: P | I66: P | J66: P | K66: P | L66: P | M66: P | N66: P | O66: P | P66: P | Q66: P | R66: P | S66: P | T66: P | U66: P
A67: 16 | B67: นางสาว | C67: ฐิติมา ธรรมนูญ | D67: เจ้าหน้าที่วิเคราะห์นโยบายและแผน | E67: สำนักงานเกษตรและสหกรณ์จังหวัดเชียงใหม่ | F67: P | O67: P | S67: P
A68: 17 | B68: นางสาว | C68: พัชรญดา ตันติวิวัฒน์ | D68: เจ้าหน้าที่บันทึกข้อมูล | E68: สำนักงานเกษตรและสหกรณ์จังหวัดเชียงใหม่ | F68: P | G68: P | H68: P | I68: P | J68: P | K68: P | M68: P | N68: P | O68: P | P68: P | Q68: P | R68: P | S68: P | U68: P
A69: 18 | B69: นาย | C69: นิรันดร์ ชัยชนะ | D69: เจ้าหน้าที่บริหารงานทั่วไป | E69: สำนักงานเกษตรและสหกรณ์จังหวัดเชียงใหม่ | G69: P | K69: P | M69: P | N69: P | S69: P | T69: P
A70: 19 | B70: นางสาว | C70: นันทนา ​สุ​แก้ว​ | D70: เจ้าหน้าที่​ธุรการ​ | E70: สำนักงานเกษตรและสหกรณ์จังหวัดเชียงใหม่ | F70: P | G70: P | H70: P | I70: P | J70: P | K70: P | L70: P | M70: P | N70: P | O70: P | P70: P | Q70: P | R70: P | S70: P | T70: P | U70: P
A71: สำนักงานเกษตรและสหกรณ์ จังหวัดตาก
A72: 1 | B72: นางสาว | C72: จิตรา ราชแก้ว | D72: เกษตรและสหกรณ์จังหวัดตาก | E72: สำนักงานเกษตรและสหกรณ์จังหวัดตาก | F72: P | G72: P | H72: P | I72: P | J72: P | K72: P | L72: P | M72: P | N72: P | O72: P | P72: P | Q72: P | R72: P | S72: P | T72: P | U72: P
A73: 2 | B73: นาง | C73: ประเทือง มหาพิรุณ | D73: นักวิเคราะห์นโยบายและแผนชำนาญการพิเศษ | E73: สำนักงานเกษตรและสหกรณ์จังหวัดตาก | F73: P | G73: P | H73: P | J73: P | L73: P | N73: P | O73: P | Q73: P | S73: P | U73: P
A74: 3 | B74: นางสาว | C74: กรรณิกานต์ ทิใหม่ธง | D74: นักวิเคราะห์นโยบายและแผนชำนาญการ | E74: สำนักงานเกษตรและสหกรณ์จังหวัดตาก | F74: P | G74: P | H74: P | I74: P | J74: P | K74: P | L74: P | M74: P | N74: P | O74: P | P74: P | Q74: P | R74: P | S74: P | T74: P | U74: P
A75: 4 | B75: นาง | C75: กฤษณา ลัดครบุรี | D75: นักวิเคราะห์นโยบายและแผนชำนาญการ | E75: สำนักงานเกษตรและสหกรณ์จังหวัดตาก | F75: P | G75: P | H75: P | I75: P | J75: P | K75: P | L75: P | M75: P | N75: P | O75: P | P75: P | Q75: P | R75: P | S75: P | T75: P | U75: P
A76: 5 | B76: นาง | C76: ชลณัช ชัยประเดิมศักดิ์ | D76: นักวิเคราะห์นโยบายและแผนชำนาญการ | E76: สำนักงานเกษตรและสหกรณ์จังหวัดตาก | F76: P | G76: P | H76: P | I76: P | J76: P | K76: P | L76: P | M76: P | N76: P | O76: P | P76: P | Q76: P | R76: P | S76: P | T76: P | U76: P
A77: 6 | B77: นางสาว | C77: ลำพึง นาวีเสถียร | D77: นักวิเคราะห์นโยบายและแผนชำนาญการ | E77: สำนักงานเกษตรและสหกรณ์จังหวัดตาก | F77: P | G77: P | H77: P | L77: P | N77: P | O77: P | P77: P | S77: P | T77: P | U77: P
A78: 7 | B78: นางสาว | C78: สุภัทสร สังข์แก้ว | D78: นักวิเคราะห์นโยบายและแผนชำนาญการ | E78: สำนักงานเกษตรและสหกรณ์จังหวัดตาก | G78: P | H78: P | J78: P | L78: P | M78: P | Q78: P
A79: 8 | B79: นาย | C79: เสริมศักดิ์ ขันแก้ว | D79: นักวิเคราะห์นโยบายและแผนปฏิบัติการ | E79: สำนักงานเกษตรและสหกรณ์จังหวัดตาก | G79: P | H79: P | I79: P | J79: P | L79: P | M79: P | N79: P | O79: P | P79: P | Q79: P | R79: P | S79: P | T79: P
A80: 9 | B80: นาง | C80: โฉมเฉลา เมืองสง | D80: เจ้าพนักงานธุรการชำนาญงาน | E80: สำนักงานเกษตรและสหกรณ์จังหวัดตาก | F80: P | G80: P | H80: P | I80: P | J80: P | K80: P | L80: P | M80: P | N80: P | O80: P | P80: P | Q80: P | R80: P | S80: P | T80: P | U80: P
A81: 10 | B81: นาง | C81: วิไลวรรณ แกระวงค์ | D81: เจ้าพนักงานการเงินและบัญชีชำนาญงาน | E81: สำนักงานเกษตรและสหกรณ์จังหวัดตาก | F81: P | G81: P | H81: P | I81: P | J81: P | K81: P | L81: P | M81: P | N81: P | O81: P | P81: P | Q81: P | R81: P | S81: P | T81: P | U81: P
A82: 11 | B82: นาง | C82: จุฑามาศ เปี้ยวเม่น | D82: เจ้าหน้าที่วิเคราะห์นโยบายและแผน | E82: สำนักงานเกษตรและสหกรณ์จังหวัดตาก | F82: P | G82: P | H82: P | I82: P | J82: P | K82: P | L82: P | M82: P | N82: P | O82: P | P82: P | Q82: P | R82: P | S82: P | T82: P | U82: P
A83: 12 | B83: นางสาว | C83: ชนนิกานต์ ยาใจ | D83: เจ้าหน้าที่วิเคราะห์นโยบายและแผน | E83: สำนักงานเกษตรและสหกรณ์จังหวัดตาก | F83: P | G83: P | H83: P | I83: P | J83: P | K83: P | L83: P | M83: P | N83: P | O83: P | P83: P | Q83: P | R83: P | S83: P | T83: P | U83: P
A84: 13 | B84: นาย | C84: ณัฐพงษ์ เสากุล | D84: เจ้าหน้าที่วิเคราะห์นโยบายและแผน | E84: สำนักงานเกษตรและสหกรณ์จังหวัดตาก | F84: P | H84: P | L84: P | O84: P | Q84: P
A85: 14 | B85: นาย | C85: แดนชัย พุทธวงศ์ | D85: เจ้าหน้าที่วิเคราะห์นโยบายและแผน | E85: สำนักงานเกษตรและสหกรณ์จังหวัดตาก | F85: P | G85: P | H85: P | I85: P | J85: P | K85: P | L85: P | M85: P | N85: P | O85: P | P85: P | Q85: P | R85: P | S85: P | T85: P | U85: P
A86: 15 | B86: นาย | C86: นิพิธพนธ์ อินเอี่ยม | D86: เจ้าหน้าที่วิเคราะห์นโยบายและแผน | E86: สำนักงานเกษตรและสหกรณ์จังหวัดตาก | F86: P | G86: P | H86: P | I86: P | J86: P | K86: P | L86: P | M86: P | N86: P | O86: P | P86: P | Q86: P | R86: P | S86: P | T86: P | U86: P
A87: 16 | B87: นางสาว | C87: ปฐมาวดี โตวารี | D87: เจ้าหน้าที่วิเคราะห์นโยบายและแผน | E87: สำนักงานเกษตรและสหกรณ์จังหวัดตาก | F87: P | G87: P | H87: P | I87: P | J87: P | K87: P | L87: P | M87: P | N87: P | O87: P | P87: P | Q87: P | R87: P | S87: P | T87: P | U87: P
A88: 17 | B88: นางสาว | C88: ปานวดี มีไชโย | D88: เจ้าหน้าที่วิเคราะห์นโยบายและแผน | E88: สำนักงานเกษตรและสหกรณ์จังหวัดตาก | F88: P | G88: P | H88: P | I88: P | J88: P | K88: P | L88: P | M88: P | N88: P | O88: P | P88: P | Q88: P | R88: P | S88: P | T88: P | U88: P
A89: 18 | B89: นางสาว | C89: ปาลิดา เข็มฤทธิ์ | D89: เจ้าหน้าที่วิเคราะห์นโยบายและแผน | E89: สำนักงานเกษตรและสหกรณ์จังหวัดตาก | H89: P | O89: P | Q89: P | R89: P | U89: P
A90: 19 | B90: นางสาว | C90: รังสินี เฝือจู | D90: เจ้าหน้าที่วิเคราะห์นโยบายและแผน | E90: สำนักงานเกษตรและสหกรณ์จังหวัดตาก | F90: P | G90: P | H90: P | I90: P | J90: P | K90: P | L90: P | M90: P | N90: P | O90: P | P90: P | Q90: P | R90: P | S90: P | T90: P | U90: P
A91: 20 | B91: นางสาว | C91: อรอมล มูลรังษี | D91: เจ้าหน้าที่วิเคราะห์นโยบายและแผน | E91: สำนักงานเกษตรและสหกรณ์จังหวัดตาก | F91: P | G91: P | H91: P | I91: P | J91: P | K91: P | L91: P | M91: P | N91: P | O91: P | P91: P | Q91: P | R91: P | S91: P | T91: P | U91: P
A92: 21 | B92: นางสาว | C92: กนกพร ใจบุญ | D92: เจ้าหน้าที่บันทึกข้อมูล | E92: สำนักงานเกษตรและสหกรณ์จังหวัดตาก | F92: P | G92: P | J92: P | K92: P | O92: P | P92: P | Q92: P
A93: 22 | B93: นาง | C93: เสาวรส แก้วโกมุท | D93: เจ้าหน้าที่บริหารงานทั่วไป | E93: สำนักงานเกษตรและสหกรณ์จังหวัดตาก | F93: P | M93: P | N93: P | P93: P | S93: P | U93: P
A94: 23 | B94: นางสาว | C94: แสงดาว ธำรงศักดิ์ | D94: พนักงานทำความสะอาด | E94: สำนักงานเกษตรและสหกรณ์จังหวัดตาก | F94: P | G94: P | H94: P | L94: P | N94: P | O94: P | P94: P | T94: P | U94: P
A95: 24 | B95: นาย | C95: เพ็ง เชียงทา | D95: พนักงานขับรถยนต์ (พนักงานจ้างเหมาบริการ) | E95: สำนักงานเกษตรและสหกรณ์จังหวัดตาก | F95: P | G95: P | H95: P | I95: P | J95: P | K95: P | L95: P | M95: P | N95: P | O95: P | P95: P | Q95: P | R95: P | S95: P | T95: P | U95: P
A96: 25 | B96: นาย | C96: วสันต์ วงษ์เรือน | D96: พนักงานขับรถยนต์ (พนักงานจ้างเหมาบริการ) | E96: สำนักงานเกษตรและสหกรณ์จังหวัดตาก | F96: P | G96: P | H96: P | I96: P | J96: P | K96: P | L96: P | M96: P | N96: P | O96: P | P96: P | Q96: P | R96: P | S96: P | T96: P | U96: P
A97: 26 | B97: ว่าที่ ร.ต. | C97: ธีรพล ผินอินทร์ | D97: พนักงานขับรถยนต์ | E97: สำนักงานเกษตรและสหกรณ์จังหวัดตาก | F97: P | G97: P | H97: P | J97: P | L97: P | M97: P | O97: P | P97: P | Q97: P | S97: P | U97: P
A98: สำนักงานเกษตรและสหกรณ์ จังหวัดนครสวรรค์
A99: 1 | B99: นางสาว | C99: กมลทิพย์ บุญรัตน์ | D99: นักวิเคราะห์นโยบายและแผนชำนาญการ | E99: สำนักงานเกษตรและสหกรณ์จังหวัดนครสวรรค์ | F99: P | N99: P | S99: P
A100: 2 | B100: นาย | C100: ภานุวัฒน์ กำธรสิริพิพัฒน์ | D100: นักวิเคราะห์นโยบายและแผนชำนาญการ | E100: สำนักงานเกษตรและสหกรณ์จังหวัดนครสวรรค์ | F100: P | H100: P | J100: P | L100: P | M100: P | Q100: P | R100: P
A101: 3 | B101: นาง | C101: อัญชลี พฤทธิพงศ์กุล | D101: นักวิเคราะห์นโยบายและแผนชำนาญการ | E101: สำนักงานเกษตรและสหกรณ์จังหวัดนครสวรรค์ | F101: P | G101: P | H101: P | J101: P | L101: P | N101: P | O101: P | P101: P | Q101: P | R101: P | S101: P | U101: P
...

Sheet กษ. ภาคใต้
A1: กิจกรรมตั้งปณิธานความดีของบุคลากร สป.กษ. ประจำปีงบประมาณ พ.ศ. 2565
A3: ลำดับ | B3: คำนำหน้า | C3: ชื่อ-สกุล | D3: ตำแหน่ง | E3: หน่วยงาน | F3: 2.1 ด้านการป้องกันการทุจริต | L3: 2.2 ด้านส่งเสริมคุณธรรมและจริยธรรม | Q3: 2.3 ด้านอื่นๆ
F4: 1. ปฏิบัติงานตามเวลาราชการ (08.30 - 16.30 น.) ไม่เบียดบังเวลาราชการเพื่อประโยชน์ส่วนตน | G4: 2. ปฏิบัติงานตามกฎ ระเบียบ และข้อบังคับ | H4: 3. ปฏิบัติงานด้วยความซื่อสัตย์ สุจริต มีความรับผิดชอบต่อหน้าที่ของตนเอง | I4: 4. ใช้ทรัพย์สินของราชการในการปฏิบัติงานราชการเท่านั้น | J4: 5. ไม่รับ-ไม่ให้ หรือเรียกรับของขวัญและของกำนัล ทรัพย์สินหรือประโยชน์อื่นใดจากการปฏิบัติหน้าที่ | K4: 6. ไม่เพิกเฉยหากพบการกระทำ หรือเหตุการณ์ที่อาจเกิดการทุจริต | L4: 1. เข้าร่วมกิจกรรมจิตอาสาหรือกิจกรรมบำเพ็ญประโยชน์เพื่อส่วนรวม | M4: 2. เสียสละประโยชน์ส่วนตนเพื่อประโยชน์ส่วนรวม ไม่เอารัดเอาเปรียบผู้อื่น | N4: 3. ประพฤติตนเป็นพลเมืองที่ดี รักษาสัญญา มีความขยันขันแข็ง อ่อนน้อมถ่อมตน พูดจาสุภาพ | O4: 4. ยิ้มแย้มแจ่มใส มีมิตรสัมพันธ์ไมตรีจิตอันดีต่อเพื่อนร่วมงาน และผู้มารับบริการ | P4: 5. ประพฤติปฏิบัติตัวตามคำสอนของแต่ละศาสนา เช่น เข้าวัดทำบุญ ตักบาตร ฟังเทศน์ เข้าโบสถ์ มัสยิด หรือประกอบพิธีการต่างๆ ตามศาสนาที่ตนเองนับถือ เป็นต้น | Q4: 1. ค้นคว้าหาความรู้ หมั่นพัฒนาตนเองอยู่เสมอ | R4: 2. มีความริเริ่มสร้างสรรค์ ปรับปรุงพัฒนางานให้ดียิ่งขึ้น | S4: 3. ใช้ทรัพยากรอย่างประหยัดและคุ้มค่า | T4: 4. นำหลักปรัชญาเศรษฐกิจ พอเพียงมาใช้ในการดำเนินชีวิต | U4: 5. สวมใส่เครื่องแต่งกายถูกระเบียบ และอนุรักษ์ชุดผ้าไทยอยู่เสมอเมื่อมีโอกาส
A5: สำนักงานเกษตรและสหกรณ์ จังหวัดกระบี่
A6: 1 | B6: นาย | C6: เกียรติศักดิ์ นารีเลิศ | D6: เกษตรและสหกรณ์จังหวัด | E6: สำนักงานเกษตรและสหกรณ์จังหวัดกระบี่ | F6: P | G6: P | H6: P | I6: P | J6: P | K6: P | L6: P | M6: P | N6: P | O6: P | P6: P | Q6: P | R6: P | S6: P | T6: P | U6: P
A7: 2 | B7: นาง | C7: เบญจวรรณ แสงศรีจันทร์ | D7: นักวิเคราะห์นโยบายและแผนชำนาญการ | E7: สำนักงานเกษตรและสหกรณ์จังหวัดกระบี่ | F7: P | G7: P | H7: P | I7: P | J7: P | K7: P | M7: P | N7: P | O7: P | Q7: P | R7: P | T7: P | U7: P
A8: 3 | B8: นางสาว | C8: ศศิพรรณ โรจนหัสดิน | D8: นักวิเคราะห์นโยบายและแผนชำนาญการ | E8: สำนักงานเกษตรและสหกรณ์จังหวัดกระบี่ | J8: P | P8: P | S8: P
A9: 4 | B9: นาง | C9: กัลยาณี สิทธิไพศาลกุล | D9: นักวิเคราะห์นโยบายและแผนชำนาญการ | E9: สำนักงานเกษตรและสหกรณ์จังหวัดกระบี่ | H9: P | J9: P | L9: P | Q9: P | R9: P
A10: 5 | B10: นาง | C10: กันต์ฤทัย เอ่งฉ้วน | D10: นักจัดการงานทั่วไปชำนาญการ | E10: สำนักงานเกษตรและสหกรณ์จังหวัดกระบี่ | F10: P | G10: P | H10: P | J10: P | L10: P | M10: P | N10: P | O10: P | P10: P | Q10: P | R10: P | U10: P
A11: 6 | B11: นางสาว | C11: อัจฉรีพร สุขเกิด | D11: นักวิเคราะห์นโยบายและแผน | E11: สำนักงานเกษตรและสหกรณ์จังหวัดกระบี่ | J11: P | K11: P | N11: P | Q11: P
A12: 7 | B12: นาง | C12: สายบัว สุภาพ | D12: นักวิเคราะห์นโยบายและแผน | E12: สำนักงานเกษตรและสหกรณ์จังหวัดกระบี่ | F12: P | G12: P | H12: P | I12: P | J12: P | K12: P | L12: P | M12: P | N12: P | O12: P | P12: P | Q12: P | R12: P | S12: P | T12: P | U12: P
A13: 8 | B13: นางสาว | C13: พัชมณ มารถโอสถ | D13: เจ้าพนักงานการเงินและบัญชีปฏิบัติงาน | E13: สำนักงานเกษตรและสหกรณ์จังหวัดกระบี่ | G13: P | H13: P | I13: P | J13: P | K13: P | M13: P | N13: P | O13: P | P13: P | Q13: P | R13: P | S13: P | T13: P
A14: 9 | B14: นางสาว | C14: ปณิตา คงแก้ว | D14: เจ้าหน้าที่วิเคราะห์นโยบายและแผน | E14: สำนักงานเกษตรและสหกรณ์จังหวัดกระบี่ | H14: P | O14: P | S14: P
A15: 10 | B15: นางสาว | C15: พิมพ์ปวีณ์ สุวรรณรัตน์ | D15: เจ้าหน้าที่วิเคราะห์นโยบายและแผน | E15: สำนักงานเกษตรและสหกรณ์จังหวัดกระบี่ | F15: P | G15: P | H15: P | I15: P | J15: P | K15: P | L15: P | M15: P | N15: P | O15: P | P15: P | Q15: P | R15: P | S15: P | T15: P | U15: P
A16: 11 | B16: นางสาว | C16: วิไลวรรณ กาญจนถิ่น | D16: เจ้าหน้าที่วิเคราะห์นโยบายและแผน | E16: สำนักงานเกษตรและสหกรณ์จังหวัดกระบี่ | G16: P | H16: P | J16: P | K16: P | L16: P | M16: P | N16: P | O16: P | P16: P | Q16: P | U16: P
A17: 12 | B17: นางสาว | C17: จิระประภา ปรีดาผล | D17: เจ้าหน้าที่วิเคราะห์นโยบายและแผน | E17: สำนักงานเกษตรและสหกรณ์จังหวัดกระบี่ | F17: P | G17: P | H17: P | I17: P | J17: P | K17: P | L17: P | M17: P | N17: P | O17: P | P17: P | Q17: P | R17: P | S17: P | T17: P | U17: P
A18: 13 | B18: นางสาว | C18: อศัลยา สิงหบำรุง | D18: เจ้าหน้าที่วิเคราะห์นโยบายและแผน | E18: สำนักงานเกษตรและสหกรณ์จังหวัดกระบี่ | F18: P | G18: P | H18: P | I18: P | J18: P | K18: P | L18: P | M18: P | N18: P | O18: P | P18: P | Q18: P | R18: P | S18: P | T18: P | U18: P
A19: 14 | B19: นางสาว | C19: ณัฏฐ์นรี​ แก้ว​ประไพ​ | D19: เจ้าหน้าที่วิเคราะห์นโยบายและแผน | E19: สำนักงานเกษตรและสหกรณ์จังหวัดกระบี่ | F19: P | G19: P | H19: P | I19: P | J19: P | K19: P | L19: P | M19: P | N19: P | O19: P | P19: P | Q19: P | R19: P | S19: P | T19: P | U19: P
A20: 15 | B20: นาย | C20: อราม แสนบอโด | D20: เจ้าหน้าที่วิเคราะห์นโยบายและแผน | E20: สำนักงานเกษตรและสหกรณ์จังหวัดกระบี่ | F20: P | G20: P | H20: P | I20: P | J20: P | K20: P | L20: P | M20: P | N20: P | O20: P | P20: P | Q20: P | S20: P | U20: P
A21: 16 | B21: นางสาว | C21: จิรัฐกานต์ สุวรรณวงศ์ | D21: เจ้าหน้าที่ธุรการ | E21: สำนักงานเกษตรและสหกรณ์จังหวัดกระบี่ | F21: P | G21: P | H21: P | I21: P | J21: P | K21: P | L21: P | M21: P | Q21: P | R21: P | S21: P
A22: 17 | B22: นางสาว | C22: อนุสรา ผิวดี | D22: เจ้าหน้าที่บันทึกข้อมูล | E22: สำนักงานเกษตรและสหกรณ์จังหวัดกระบี่ | F22: P | G22: P | H22: P | I22: P | J22: P | K22: P | L22: P | M22: P | N22: P | O22: P | P22: P | Q22: P | R22: P | S22: P | T22: P | U22: P
A23: 18 | B23: นาย | C23: ศิริพงศ์ เสียมไหม | D23: พนักงานขับรถยนต์ | E23: สำนักงานเกษตรและสหกรณ์จังหวัดกระบี่ | G23: P | H23: P | N23: P | P23: P | S23: P
A24: สำนักงานเกษตรและสหกรณ์ จังหวัดชุมพร
A25: 1 | B25: นาง | C25: อมรรัตน์ กาวชู | D25: เกษตรและสหกรณ์จังหวัด | E25: สำนักงานเกษตรและสหกรณ์จังหวัดชุมพร | F25: P | G25: P | H25: P | I25: P | J25: P | K25: P | L25: P | M25: P | N25: P | O25: P | P25: P | Q25: P | R25: P | S25: P | T25: P | U25: P
A26: 2 | B26: นาง | C26: นงลักษณ์​ ตันสกุล | D26: นักวิเคราะห์นโยบายและแผนชำนาญการ | E26: สำนักงานเกษตรและสหกรณ์จังหวัดชุมพร | H26: P | L26: P | M26: P | T26: P | U26: P
A27: 3 | B27: นาย | C27: วิชิต ชูแนม | D27: นักวิเคราะห์นโยบายและแผนชำนาญการ | E27: สำนักงานเกษตรและสหกรณ์จังหวัดชุมพร | F27: P | G27: P | H27: P | I27: P | J27: P | K27: P | L27: P | M27: P | N27: P | O27: P | P27: P | Q27: P | R27: P | S27: P | T27: P | U27: P
A28: 4 | B28: นางสาว | C28: จันทร คำดา | D28: นักวิเคราะห์นโยบายและแผนชำนาญการ | E28: สำนักงานเกษตรและสหกรณ์จังหวัดชุมพร | F28: P | G28: P | H28: P | I28: P | J28: P | K28: P | L28: P | M28: P | N28: P | O28: P | P28: P | Q28: P | R28: P | S28: P | T28: P | U28: P
A29: 5 | B29: นาย | C29: สมชาย ศรีรุ้ง | D29: นักวิเคราะห์นโยบายและแผนชำนาญการ | E29: สำนักงานเกษตรและสหกรณ์จังหวัดชุมพร | G29: P | M29: P | O29: P | S29: P
A30: 6 | B30: นาง | C30: ปิยนุช อุทธยานมณี | D30: นักวิเคราะห์นโยบายและแผนชำนาญการ | E30: สำนักงานเกษตรและสหกรณ์จังหวัดชุมพร | F30: P | G30: P | H30: P | I30: P | J30: P | K30: P | L30: P | M30: P | N30: P | O30: P | Q30: P | S30: P | T30: P | U30: P
A31: 7 | B31: นางสาว | C31: ญานิศา ทั่งเนียม | D31: นักจัดการงานทั่วไปชำนาญการ | E31: สำนักงานเกษตรและสหกรณ์จังหวัดชุมพร | H31: P | J31: P | L31: P | O31: P | T31: P | U31: P
A32: 8 | B32: นาง | C32: วรรณวิภา พรมพิชัย | D32: เจ้าพนักธุรการปฏิบัติงาน | E32: สำนักงานเกษตรและสหกรณ์จังหวัดชุมพร | G32: P | L32: P | T32: P
A33: 9 | B33: นางสาว | C33: วรรณี คำภูมิวรรณ | D33: เจ้าหน้าที่วิเคราะห์นโยบายและแผน | E33: สำนักงานเกษตรและสหกรณ์จังหวัดชุมพร | F33: P | G33: P | L33: P | O33: P | U33: P
A34: 10 | B34: นางสาว | C34: เอเชีย เปรินทร์ | D34: เจ้าหน้าที่วิเคราะห์นโยบายและแผน | E34: สำนักงานเกษตรและสหกรณ์จังหวัดชุมพร | F34: P | G34: P | H34: P | I34: P | J34: P | K34: P | L34: P | M34: P | N34: P | O34: P | P34: P | Q34: P | R34: P | S34: P | T34: P | U34: P
A35: 11 | B35: นางสาว | C35: ศุภานัน เศลาอนันต์ | D35: เจ้าหน้าที่วิเคราะห์นโยบายและแผน | E35: สำนักงานเกษตรและสหกรณ์จังหวัดชุมพร | F35: P | G35: P | H35: P | I35: P | J35: P | K35: P | L35: P | M35: P | N35: P | Q35: P | R35: P | U35: P
A36: 12 | B36: นางสาว | C36: วรัญญา พวงแก้ว | D36: เจ้าหน้าที่วิเคราะห์แผนและนโยบาย | E36: สำนักงานเกษตรและสหกรณ์จังหวัดชุมพร | F36: P | G36: P | H36: P | I36: P | J36: P | K36: P | M36: P | N36: P | O36: P | Q36: P | R36: P | S36: P
A37: 13 | B37: นาง | C37: มัลลิกา วิเชียรนรา | D37: เจ้าหน้าที่วิเคราะห์นโยบายและแผน | E37: สำนักงานเกษตรและสหกรณ์จังหวัดชุมพร | H37: P | J37: P | L37: P | T37: P
A38: 14 | B38: นาย | C38: ศุภณัฐ วันเพ็ง | D38: เจ้าหน้าที่วิเคราะห์แผนและนโยบาย | E38: สำนักงานเกษตรและสหกรณ์จังหวัดชุมพร | F38: P | G38: P | H38: P | I38: P | K38: P | M38: P | Q38: P | S38: P | U38: P
A39: 15 | B39: นาย | C39: ชัยวัฒน์ รุ่งแก้ว | D39: เจ้าหน้าที่วิเคราะห์นโยบายและแผน | E39: สำนักงานเกษตรและสหกรณ์จังหวัดชุมพร | F39: P | G39: P | H39: P | I39: P | J39: P | K39: P | L39: P | M39: P | N39: P | O39: P | P39: P | Q39: P | R39: P | S39: P | T39: P | U39: P
A40: 16 | B40: นาย | C40: สิทธิชัย นวลศรี | D40: เจ้าหน้าที่โครงการพัฒนาเกษตรกรรมยั่งยืน | E40: สำนักงานเกษตรและสหกรณ์จังหวัดชุมพร | F40: P | I40: P | J40: P | L40: P | N40: P | O40: P | Q40: P | S40: P | T40: P
A41: 17 | B41: นาง | C41: จีรนิตย์ ครุฑปักษี | D41: เจ้าหน้าที่ธุรการ | E41: สำนักงานเกษตรและสหกรณ์จังหวัดชุมพร | F41: P | L41: P | S41: P
A42: 18 | B42: นางสาว | C42: พรรณธิภา เจริญวงศ์สุข | D42: เจ้าหน้าที่ธุรการ | E42: สำนักงานเกษตรและสหกรณ์จังหวัดชุมพร | F42: P | H42: P | L42: P | M42: P | U42: P
A43: 19 | B43: นางสาว | C43: อัญชลี บุญรอด | D43: เจ้าพนักงานการเงินและบัญชี | E43: สำนักงานเกษตรและสหกรณ์จังหวัดชุมพร | F43: P | G43: P | L43: P | S43: P | U43: P
A44: 20 | B44: นางสาว | C44: อนัญญา กาลประยุกต์ | D44: เจ้าหน้าที่บริหารงานทั่วไป | E44: สำนักงานเกษตรและสหกรณ์จังหวัดชุมพร | F44: P | G44: P | H44: P | I44: P | J44: P | K44: P | L44: P | T44: P | U44: P
A45: 21 | B45: นาง | C45: จันทร์ทิรา กาญจนากร | D45: ลูกจ้าง | E45: สำนักงานเกษตรและสหกรณ์จังหวัดชุมพร | F45: P | G45: P | N45: P | O45: P | S45: P
A46: 22 | B46: นาย | C46: สมศักดิ์ ประทุมพันธ์ | D46: พนักงานขับรถยนต์ | E46: สำนักงานเกษตรและสหกรณ์จังหวัดชุมพร | F46: P | G46: P | L46: P | M46: P | S46: P
A47: 23 | B47: นาย | C47: สุภาพ มณีโชติ | D47: พนักงานขับรถยนต์ | E47: สำนักงานเกษตรและสหกรณ์จังหวัดชุมพร | F47: P | G47: P | H47: P | J47: P | K47: P | L47: P | M47: P | N47: P | O47: P | P47: P | Q47: P | S47: P | T47: P | U47: P
A48: สำนักงานเกษตรและสหกรณ์ จังหวัดตรัง
A49: 1 | B49: นาย | C49: จรูญศักดิ์ สุขขุม | D49: เกษตรและสหกรณ์จังหวัดตรัง | E49: สำนักงานเกษตรและสหกรณ์จังหวัดตรัง | F49: P | G49: P | H49: P | I49: P | J49: P | K49: P | L49: P | M49: P | N49: P | O49: P | P49: P | Q49: P | R49: P | S49: P | T49: P | U49: P
A50: 2 | B50: นาย | C50: จิตธิโชติ ชูดำ | D50: นักวิเคราะห์นโยบายและแผนชำนาญการ | E50: สำนักงานเกษตรและสหกรณ์จังหวัดตรัง | F50: P | G50: P | H50: P | I50: P | J50: P | M50: P | N50: P | O50: P | P50: P | T50: P | U50: P
A51: 3 | B51: นางสาว | C51: ชนิตา บุรีรักษ์ | D51: นักวิเคราะห์นโยบายและแผนชำนาญการ | E51: สำนักงานเกษตรและสหกรณ์จังหวัดตรัง | F51: P | G51: P | H51: P | I51: P | J51: P | K51: P | L51: P | M51: P | N51: P | O51: P | P51: P | Q51: P | R51: P | S51: P | T51: P | U51: P
A52: 4 | B52: นาง | C52: ศิวาภรณ์ ก่อกิตติพงศ์ | D52: นักวิเคราะห์นโยบายและแผนชำนาญการ | E52: สำนักงานเกษตรและสหกรณ์จังหวัดตรัง | J52: P | N52: P | U52: P
A53: 5 | B53: นาง | C53: ส​​ริรัตน์​ จันทรเดช | D53: นักวิเคราะห์นโยบายและแผนชำนาญการ | E53: สำนักงานเกษตรและสหกรณ์จังหวัดตรัง | F53: P | G53: P | H53: P | I53: P | J53: P | K53: P | L53: P | M53: P | N53: P | O53: P | P53: P | Q53: P | R53: P | S53: P | T53: P | U53: P
A54: 6 | B54: นางสาว | C54: กรวิกา เจียรมาศ | D54: นักวิเคราะห์นโยบายและแผนปฏิบัติการ | E54: สำนักงานเกษตรและสหกรณ์จังหวัดตรัง | F54: P | G54: P | H54: P | I54: P | J54: P | L54: P | M54: P | N54: P | O54: P | Q54: P | R54: P | U54: P
A55: 7 | B55: นางสาว | C55: เกวลี ปานดำ | D55: นักวิเคราะห์นโยบายและแผนปฏิบัติการ | E55: สำนักงานเกษตรและสหกรณ์จังหวัดตรัง | F55: P | G55: P | H55: P | I55: P | J55: P | K55: P | L55: P | M55: P | N55: P | O55: P | Q55: P | R55: P | S55: P | T55: P | U55: P
A56: 8 | B56: นางสาว | C56: จุรีพร สงชู | D56: นักวิเคราะห์นโยบายและแผนปฏิบัติการ | E56: สำนักงานเกษตรและสหกรณ์จังหวัดตรัง | J56: P | L56: P | Q56: P | R56: P | S56: P
A57: 9 | B57: นางสาว | C57: สาธินี มลิพันธ์ | D57: เจ้าพนักงานการเงินและบัญชีปฏิบัติงาน | E57: สำนักงานเกษตรและสหกรณ์จังหวัดตรัง | F57: P | G57: P | I57: P | J57: P | L57: P | M57: P | N57: P | Q57: P | R57: P | U57: P
A58: 10 | B58: นาง | C58: ภัณฑิรา สังข์สุวรรณ | D58: พนักงานพิมพ์ ส.3 | E58: สำนักงานเกษตรและสหกรณ์จังหวัดตรัง | F58: P | G58: P | H58: P | I58: P | J58: P | K58: P | L58: P | M58: P | N58: P | O58: P | P58: P | Q58: P | R58: P | S58: P | T58: P | U58: P
A59: 11 | B59: นาย | C59: กฤษฎา ชูงาน | D59: เจ้าหน้าที่วิเคราะห์นโยบายและแผน | E59: สำนักงานเกษตรและสหกรณ์จังหวัดตรัง | F59: P | G59: P | H59: P | I59: P | J59: P | K59: P | L59: P | M59: P | N59: P | O59: P | P59: P | Q59: P | R59: P | S59: P | T59: P | U59: P
A60: 12 | B60: นางสาว | C60: ทิพย์เกษร หนูชู | D60: เจ้าหน้าที่วิเคราะห์นโยบายและแผน | E60: สำนักงานเกษตรและสหกรณ์จังหวัดตรัง | F60: P | G60: P | H60: P | I60: P | J60: P | K60: P | L60: P | M60: P | N60: P | O60: P | P60: P | Q60: P | R60: P | S60: P | T60: P | U60: P
A61: 13 | B61: นางสาว | C61: ธัญวรัตม์ ช่วยชาติ | D61: เจ้าหน้าที่วิเคราะห์นโยบายและแผน | E61: สำนักงานเกษตรและสหกรณ์จังหวัดตรัง | F61: P | G61: P | H61: P | I61: P | J61: P | K61: P | L61: P | M61: P | N61: P | O61: P | P61: P | Q61: P | R61: P | S61: P | T61: P | U61: P
A62: 14 | B62: นาง | C62: พิริยกร ทองนุ้ย | D62: เจ้าหน้าที่วิเคราะห์นโยบายและแผน | E62: สำนักงานเกษตรและสหกรณ์จังหวัดตรัง | F62: P | G62: P | H62: P | I62: P | J62: P | K62: P | L62: P | M62: P | N62: P | O62: P | P62: P | Q62: P | R62: P | S62: P | T62: P | U62: P
A63: 15 | B63: นางสาว | C63: มลธิชา ว่องทั่ง | D63: เจ้าหน้าที่วิเคราะห์นโยบายและแผน | E63: สำนักงานเกษตรและสหกรณ์จังหวัดตรัง | F63: P | G63: P | H63: P | I63: P | J63: P | K63: P | L63: P | M63: P | N63: P | O63: P | P63: P | Q63: P | R63: P | S63: P | T63: P | U63: P
A64: 16 | B64: นาง | C64: มะลิวัลย์ เมืองสองศรี | D64: เจ้าหน้าที่วิเคราะห์นโยบายและแผน | E64: สำนักงานเกษตรและสหกรณ์จังหวัดตรัง | F64: P | G64: P | H64: P | I64: P | J64: P | K64: P | L64: P | M64: P | N64: P | O64: P | P64: P | Q64: P | R64: P | S64: P | T64: P | U64: P
A65: 17 | B65: นางสาว | C65: รสจมา จันทร์ฝาก | D65: เจ้าหน้าที่วิเคราะห์นโยบายและแผน | E65: สำนักงานเกษตรและสหกรณ์จังหวัดตรัง | F65: P | G65: P | H65: P | I65: P | J65: P | K65: P | L65: P | M65: P | N65: P | O65: P | P65: P | Q65: P | R65: P | S65: P | T65: P | U65: P
A66: 18 | B66: นางสาว | C66: วาสินี คงแคล้ว | D66: เจ้าหน้าที่วิเคราะห์นโยบายและแผน | E66: สำนักงานเกษตรและสหกรณ์จังหวัดตรัง | F66: P | G66: P | H66: P | L66: P | M66: P | N66: P | O66: P | P66: P | Q66: P | R66: P | S66: P | T66: P | U66: P
A67: 19 | B67: นาย | C67: ศักดิ์สิทธิ์ อินะมูนา | D67: เจ้าหน้าที่วิเคราะห์นโยบายและแผน | E67: สำนักงานเกษตรและสหกรณ์จังหวัดตรัง | F67: P | G67: P | H67: P | I67: P | J67: P | K67: P | L67: P | M67: P | N67: P | O67: P | P67: P | Q67: P | R67: P | S67: P | T67: P | U67: P
A68: 20 | B68: นางสาว | C68: ศุภิสรา เพชรรักษ์ | D68: เจ้าหน้าที่วิเคราะห์นโยบายและแผน | E68: สำนักงานเกษตรและสหกรณ์จังหวัดตรัง | F68: P | G68: P | H68: P | N68: P | O68: P | R68: P | S68: P
A69: 21 | B69: นาย | C69: จิระวัฒน์ ไกรสุทธิ์ | D69: เจ้าหน้าที่บริหารงานทั่วไป | E69: สำนักงานเกษตรและสหกรณ์จังหวัดตรัง | F69: P | G69: P | H69: P | I69: P | J69: P | K69: P | L69: P | M69: P | N69: P | O69: P | P69: P | Q69: P | R69: P | S69: P | T69: P | U69: P
A70: 22 | B70: นางสาว | C70: มนต์นภา พิชัยรัตน์ | D70: เจ้าหน้าที่โครงการพัฒนาเกษตรกรรมยั่งยืน | E70: สำนักงานเกษตรและสหกรณ์จังหวัดตรัง | F70: P | L70: P | Q70: P
A71: 23 | B71: นางสาว | C71: วรรณา กกแก้ว | D71: พนักงานทำความสะอาด | E71: สำนักงานเกษตรและสหกรณ์จังหวัดตรัง | F71: P | G71: P | H71: P | I71: P | J71: P | K71: P | L71: P | M71: P | N71: P | O71: P | P71: P | Q71: P | R71: P | S71: P | T71: P | U71: P
A72: 24 | B72: นาย | C72: ชัยชาญ แสงสุวรรณ | D72: พนักงานขับรถยนต์ | E72: สำนักงานเกษตรและสหกรณ์จังหวัดตรัง | F72: P | G72: P | H72: P | I72: P | J72: P | K72: P | L72: P | M72: P | N72: P | O72: P | P72: P | Q72: P | R72: P | S72: P | T72: P | U72: P
A73: 25 | B73: นาย | C73: วีรยุทธ ช่วยศรี | D73: พนักงานขับรถยนต์ | E73: สำนักงานเกษตรและสหกรณ์จังหวัดตรัง | F73: P | G73: P | H73: P | L73: P | M73: P | N73: P | Q73: P | R73: P | S73: P
A74: สำนักงานเกษตรและสหกรณ์ จังหวัดนครศรีธรรมราช
A75: 1 | B75: นาย | C75: อุดมเกียรติ เกิดสม | D75: เกษตรและสหกรณ์จังหวัดนครศรีธรรมราช | E75: สำนักงานเกษตรและสหกรณ์จังหวัดนครศรีธรรมราช | F75: P | G75: P | H75: P | I75: P | J75: P | K75: P | L75: P | M75: P | N75: P | O75: P | P75: P | Q75: P | R75: P | S75: P | T75: P | U75: P
A76: 2 | B76: นาย | C76: กิตติรัตน์ ชูแสง | D76: นักวิเคราะห์นโยบายและแผนชำนาญการพิเศษ | E76: สำนักงานเกษตรและสหกรณ์จังหวัดนครศรีธรรมราช | F76: P | G76: P | H76: P | I76: P | J76: P | K76: P | L76: P | M76: P | N76: P | O76: P | P76: P | Q76: P | R76: P | S76: P | T76: P | U76: P
A77: 3 | B77: นางสาว | C77: ศิริรัตน์ สุทธิรักษ์ | D77: นักวิเคราะห์นโยบายและแผนชำนาญการ | E77: สำนักงานเกษตรและสหกรณ์จังหวัดนครศรีธรรมราช | F77: P | G77: P | H77: P | I77: P | J77: P | K77: P | L77: P | M77: P | N77: P | O77: P | P77: P | Q77: P | R77: P | S77: P | T77: P | U77: P
A78: 4 | B78: นางสาว | C78: สิรินทร์ยา เทพยา | D78: นักวิเคราะห์นโยบายและแผนชำนาญการ | E78: สำนักงานเกษตรและสหกรณ์จังหวัดนครศรีธรรมราช | F78: P | G78: P | H78: P | I78: P | J78: P | K78: P | L78: P | M78: P | N78: P | O78: P | Q78: P | R78: P | S78: P | T78: P | U78: P
A79: 5 | B79: นาง | C79: สุพรรณณี เอียดสี | D79: นักวิเคราะห์นโยบายและแผนชำนาญการ | E79: สำนักงานเกษตรและสหกรณ์จังหวัดนครศรีธรรมราช | F79: P | G79: P | H79: P | I79: P | J79: P | K79: P | L79: P | M79: P | N79: P | O79: P | P79: P | Q79: P | R79: P | S79: P | T79: P | U79: P
A80: 6 | B80: นาง | C80: อรัญญา อินรงค์ | D80: นักวิเคราะห์นโยบายและแผนชำนาญการ | E80: สำนักงานเกษตรและสหกรณ์จังหวัดนครศรีธรรมราช | F80: P | G80: P | H80: P | I80: P | J80: P | K80: P | L80: P | M80: P | N80: P | O80: P | P80: P | Q80: P | R80: P | S80: P | T80: P | U80: P
A81: 7 | B81: นาง | C81: สุรีภรณ์​ สุทธิ​พันธ์​ | D81: นักวิเคราะห์​นโยบาย​และแผนชำนาญการ | E81: สำนักงานเกษตรและสหกรณ์จังหวัดนครศรีธรรมราช | F81: P | G81: P | H81: P | I81: P | J81: P | K81: P | L81: P | M81: P | N81: P | O81: P | P81: P | Q81: P | R81: P | S81: P | T81: P | U81: P
A82: 8 | B82: นาย | C82: วิทยา หุตางกูร | D82: นักวิเคราะห์นโยบายและแผนปฏิบัติการ | E82: สำนักงานเกษตรและสหกรณ์จังหวัดนครศรีธรรมราช | F82: P | G82: P | H82: P | I82: P | J82: P | K82: P | L82: P | M82: P | N82: P | O82: P | P82: P | Q82: P | R82: P | S82: P | T82: P | U82: P
A83: 9 | B83: นางสาว | C83: มนฤดี เชื้อวงจันทร์ | D83: เจ้าพนักงานธุรการชำนาญงาน | E83: สำนักงานเกษตรและสหกรณ์จังหวัดนครศรีธรรมราช | F83: P | G83: P | H83: P | J83: P | K83: P | L83: P | M83: P | N83: P | O83: P | P83: P | Q83: P | S83: P | T83: P | U83: P
A84: 10 | B84: นางสาว | C84: ปิยะดา มาศจด | D84: เจ้าพนักงานการเงินและบัญชีชำนาญงาน | E84: สำนักงานเกษตรและสหกรณ์จังหวัดนครศรีธรรมราช | F84: P | G84: P | N84: P | Q84: P | S84: P
A85: 11 | B85: นาง | C85: จริยา จองเดิน | D85: เจ้าพนักงานธุรการปฏิบัติงาน | E85: สำนักงานเกษตรและสหกรณ์จังหวัดนครศรีธรรมราช | G85: P | H85: P | I85: P | J85: P | M85: P | N85: P | O85: P | Q85: P | R85: P | S85: P | T85: P
A86: 12 | B86: นาง | C86: นงลักษณ์ ภูสุมาศ | D86: พนักงานพิมพ์ ส 4 | E86: สำนักงานเกษตรและสหกรณ์จังหวัดนครศรีธรรมราช | G86: P | L86: P | O86: P | P86: P | R86: P | T86: P
A87: 13 | B87: นางสาว | C87: เกียรติสุดา ลัทธิพรหม | D87: นักจัดการงานทั่วไป | E87: สำนักงานเกษตรและสหกรณ์จังหวัดนครศรีธรรมราช | F87: P | J87: P | O87: P | Q87: P | U87: P
A88: 14 | B88: นางสาว | C88: วิไลลักษณ์ ขุนนัดเชียร | D88: เจ้าพนักงานราชการ | E88: สำนักงานเกษตรและสหกรณ์จังหวัดนครศรีธรรมราช | F88: P | H88: P | M88: P | O88: P | Q88: P
A89: 15 | B89: นางสาว | C89: ปิยะรัตน์ สุทธิพันธ์ | D89: เจ้าหน้าที่วิเคราะห์นโยบายและแผน | E89: สำนักงานเกษตรและสหกรณ์จังหวัดนครศรีธรรมราช | F89: P | H89: P | J89: P | N89: P | O89: P | S89: P | U89: P
A90: 16 | B90: นางสาว | C90: ชรินรัตน์ ศรีคำผึ้ง | D90: เจ้าหน้าที่วิเคราะห์นโยบายและแผน | E90: สำนักงานเกษตรและสหกรณ์จังหวัดนครศรีธรรมราช | F90: P | G90: P | H90: P | I90: P | N90: P | O90: P | Q90: P | R90: P | S90: P | T90: P
A91: 17 | B91: นางสาว | C91: ศิรดา สันตจิต | D91: เจ้าหน้าที่วิเคราะห์นโยบายและแผน | E91: สำนักงานเกษตรและสหกรณ์จังหวัดนครศรีธรรมราช | F91: P | G91: P | H91: P | L91: P | Q91: P | R91: P
A92: 18 | B92: นาย | C92: พีรวิชญ์ เกื้อกูล | D92: เจ้าหน้าที่วิเคราะห์นโยบายและแผน | E92: สำนักงานเกษตรและสหกรณ์จังหวัดนครศรีธรรมราช | F92: P | G92: P | H92: P | I92: P | J92: P | K92: P | L92: P | M92: P | N92: P | O92: P | P92: P | Q92: P | R92: P | S92: P | T92: P | U92: P
A93: 19 | B93: นางสาว | C93: วิไลพร บุญล้ำ | D93: เจ้าหน้าที่วิเคราะห์นโยบายและแผน | E93: สำนักงานเกษตรและสหกรณ์จังหวัดนครศรีธรรมราช | G93: P | H93: P | M93: P | N93: P | O93: P | Q93: P | R93: P | U93: P
A94: 20 | B94: นางสาว | C94: เบญจภา สุขเอก | D94: เจ้าหน้าที่วิเคราะห์นโยบายและแผน | E94: สำนักงานเกษตรและสหกรณ์จังหวัดนครศรีธรรมราช | F94: P | G94: P | H94: P | I94: P | J94: P | K94: P | L94: P | M94: P | N94: P | O94: P | P94: P | Q94: P | R94: P | S94: P | T94: P | U94: P
A95: 21 | B95: นาย | C95: ดนุรุจ อินทอง | D95: เจ้าหน้าที่วิเคราะห์นโยบายและแผน | E95: สำนักงานเกษตรและสหกรณ์จังหวัดนครศรีธรรมราช | F95: P | M95: P | Q95: P
A96: 22 | B96: นาย | C96: แสนภูมิ บุญล้ำ | D96: เจ้าหน้าที่วิเคราะห์นโยบายเเละแผน | E96: สำนักงานเกษตรและสหกรณ์จังหวัดนครศรีธรรมราช | F96: P | G96: P | H96: P | I96: P | J96: P | K96: P | L96: P | M96: P | N96: P | O96: P | P96: P | Q96: P | R96: P | S96: P | T96: P | U96: P
A97: 23 | B97: นางสาว | C97: ขวัญฤทัย ประกอบกิจ | D97: จนท.ช่วยปฏิบัติงานโครงการพัฒนาพื้นที่ลุ่มน้ำปากพนังฯ | E97: สำนักงานเกษตรและสหกรณ์จังหวัดนครศรีธรรมราช | F97: P | G97: P | H97: P | I97: P | J97: P | K97: P | L97: P | M97: P | N97: P | O97: P | P97: P | Q97: P | R97: P | S97: P | T97: P | U97: P
A98: 24 | B98: นางสาว | C98: กัลยาณี ศรีจันทร์ | D98: เจ้าหน้าที่บันทึกข้อมูล | E98: สำนักงานเกษตรและสหกรณ์จังหวัดนครศรีธรรมราช | F98: P | G98: P | H98: P | I98: P | J98: P | K98: P | L98: P | M98: P | N98: P | O98: P | P98: P | Q98: P | R98: P | S98: P | T98: P | U98: P
A99: 25 | B99: นาง | C99: ปิยะนันท์ เต็มภาชนะ | D99: เจ้าหน้าที่บริหารงานทั่วไป | E99: สำนักงานเกษตรและสหกรณ์จังหวัดนครศรีธรรมราช | F99: P | G99: P | H99: P | I99: P | J99: P | K99: P | L99: P | M99: P | N99: P | O99: P | P99: P | Q99: P | R99: P | S99: P | T99: P | U99: P
A100: 26 | B100: นางสาว | C100: ชลดา เหมทานนท์ | D100: เจ้าหน้าที่ช่วยปฏิบัติงานโครงการฯ | E100: สำนักงานเกษตรและสหกรณ์จังหวัดนครศรีธรรมราช | F100: P | H100: P | N100: P | O100: P | Q100: P
A101: 27 | B101: นางสาว | C101: ปริญญาภรณ์ สวัสดิภาพ | D101: เจ้าพนักงานการเงินและบัญชี | E101: สำนักงานเกษตรและสหกรณ์จังหวัดนครศรีธรรมราช | F101: P | G101: P | H101: P | J101: P | L101: P | N101: P | O101: P | U101: P
...

Sheet กษ. ภาคตะวันออกเฉียงเหนือ
A1: กิจกรรมตั้งปณิธานความดีของบุคลากร สป.กษ. ประจำปีงบประมาณ พ.ศ. 2565
A3: ลำดับ | B3: คำนำหน้า | C3: ชื่อ-สกุล | D3: ตำแหน่ง | E3: หน่วยงาน | F3: 2.1 ด้านการป้องกันการทุจริต | L3: 2.2 ด้านส่งเสริมคุณธรรมและจริยธรรม | Q3: 2.3 ด้านอื่นๆ
F4: 1. ปฏิบัติงานตามเวลาราชการ (08.30 - 16.30 น.) ไม่เบียดบังเวลาราชการเพื่อประโยชน์ส่วนตน | G4: 2. ปฏิบัติงานตามกฎ ระเบียบ และข้อบังคับ | H4: 3. ปฏิบัติงานด้วยความซื่อสัตย์ สุจริต มีความรับผิดชอบต่อหน้าที่ของตนเอง | I4: 4. ใช้ทรัพย์สินของราชการในการปฏิบัติงานราชการเท่านั้น | J4: 5. ไม่รับ-ไม่ให้ หรือเรียกรับของขวัญและของกำนัล ทรัพย์สินหรือประโยชน์อื่นใดจากการปฏิบัติหน้าที่ | K4: 6. ไม่เพิกเฉยหากพบการกระทำ หรือเหตุการณ์ที่อาจเกิดการทุจริต | L4: 1. เข้าร่วมกิจกรรมจิตอาสาหรือกิจกรรมบำเพ็ญประโยชน์เพื่อส่วนรวม | M4: 2. เสียสละประโยชน์ส่วนตนเพื่อประโยชน์ส่วนรวม ไม่เอารัดเอาเปรียบผู้อื่น | N4: 3. ประพฤติตนเป็นพลเมืองที่ดี รักษาสัญญา มีความขยันขันแข็ง อ่อนน้อมถ่อมตน พูดจาสุภาพ | O4: 4. ยิ้มแย้มแจ่มใส มีมิตรสัมพันธ์ไมตรีจิตอันดีต่อเพื่อนร่วมงาน และผู้มารับบริการ | P4: 5. ประพฤติปฏิบัติตัวตามคำสอนของแต่ละศาสนา เช่น เข้าวัดทำบุญ ตักบาตร ฟังเทศน์ เข้าโบสถ์ มัสยิด หรือประกอบพิธีการต่างๆ ตามศาสนาที่ตนเองนับถือ เป็นต้น | Q4: 1. ค้นคว้าหาความรู้ หมั่นพัฒนาตนเองอยู่เสมอ | R4: 2. มีความริเริ่มสร้างสรรค์ ปรับปรุงพัฒนางานให้ดียิ่งขึ้น | S4: 3. ใช้ทรัพยากรอย่างประหยัดและคุ้มค่า | T4: 4. นำหลักปรัชญาเศรษฐกิจ พอเพียงมาใช้ในการดำเนินชีวิต | U4: 5. สวมใส่เครื่องแต่งกายถูกระเบียบ และอนุรักษ์ชุดผ้าไทยอยู่เสมอเมื่อมีโอกาส
A5: สำนักงานเกษตรและสหกรณ์ จังหวัดกาฬสินธุ์
A6: 1 | B6: นาย | C6: ศักดิ์ชาย เพ็งอารีย์ | D6: เกษตรและสหกรณ์จังหวัดกาฬสินธุ์ | E6: สำนักงานเกษตรและสหกรณ์จังหวัดกาฬสินธุ์ | F6: P | G6: P | H6: P | I6: P | J6: P | K6: P | L6: P | M6: P | N6: P | O6: P | P6: P | Q6: P | R6: P | S6: P | T6: P | U6: P
A7: 2 | B7: นางสาว | C7: อัมพรพรรณ อภิรักษากร | D7: นักวิเคราะห์นโยบายและแผนชำนาญการพิเศษ | E7: สำนักงานเกษตรและสหกรณ์จังหวัดกาฬสินธุ์ | F7: P | G7: P | H7: P | J7: P | K7: P | M7: P | N7: P | O7: P | P7: P | Q7: P | R7: P | S7: P | T7: P | U7: P
A8: 3 | B8: นาย | C8: ปณต กลิ่นเชิดชู | D8: นักวิเคราะห์นโยบายและแผนชำนาญการ | E8: สำนักงานเกษตรและสหกรณ์จังหวัดกาฬสินธุ์ | G8: P | J8: P | M8: P | N8: P | Q8: P | S8: P
A9: 4 | B9: นาง | C9: วิไลวรรณ กายาผาด | D9: นักวิเคราะห์นโยบายและแผนชำนาญการ | E9: สำนักงานเกษตรและสหกรณ์จังหวัดกาฬสินธุ์ | H9: P | J9: P | N9: P | O9: P | Q9: P | U9: P
A10: 5 | B10: นาง | C10: สมจิต ภูจอมจิตร | D10: นักวิเคราะห์นโยบายและแผนชำนาญการ | E10: สำนักงานเกษตรและสหกรณ์จังหวัดกาฬสินธุ์ | F10: P | G10: P | H10: P | I10: P | J10: P | K10: P | L10: P | M10: P | N10: P | O10: P | P10: P | Q10: P | R10: P | S10: P | T10: P | U10: P
A11: 6 | B11: นาย | C11: สามารถ มูลคำ | D11: นักวิเคราะห์นโยบายและแผนชำนาญการ | E11: สำนักงานเกษตรและสหกรณ์จังหวัดกาฬสินธุ์ | F11: P | G11: P | H11: P | I11: P | K11: P | L11: P | M11: P | O11: P | Q11: P | R11: P | S11: P | T11: P
A12: 7 | B12: นาย | C12: ศักดิ์ราวี ขันทอง | D12: นักวิเคราะห์นโยบายและแผนปฏิบัติการ | E12: สำนักงานเกษตรและสหกรณ์จังหวัดกาฬสินธุ์ | F12: P | G12: P | H12: P | I12: P | J12: P | M12: P | N12: P | O12: P | Q12: P | S12: P | U12: P
A13: 8 | B13: นาง | C13: นิจชญาน์ ฤทธิรงค์ | D13: เจ้าพนักงานธุรการชำนาญงาน | E13: สำนักงานเกษตรและสหกรณ์จังหวัดกาฬสินธุ์ | G13: P | H13: P | O13: P | P13: P | S13: P | U13: P
A14: 9 | B14: นาง | C14: พัชราภรณ์ มูลคำ | D14: เจ้าพนักงานการเงินและบัญชีชำนาญงาน | E14: สำนักงานเกษตรและสหกรณ์จังหวัดกาฬสินธุ์ | F14: P | G14: P | H14: P | I14: P | J14: P | K14: P | M14: P | N14: P | O14: P | S14: P | T14: P
A15: 10 | B15: นางสาว | C15: กรรณิการ์ โสมา | D15: เจ้าหน้าที่วิเคราะห์นโยบายและแผน | E15: สำนักงานเกษตรและสหกรณ์จังหวัดกาฬสินธุ์ | F15: P | G15: P | H15: P | I15: P | J15: P | K15: P | L15: P | M15: P | N15: P | O15: P | P15: P | Q15: P | R15: P | S15: P | T15: P | U15: P
A16: 11 | B16: นางสาว | C16: เกวลี ภูพุทธา | D16: เจ้าหน้าที่วิเคราะห์นโยบายและแผน | E16: สำนักงานเกษตรและสหกรณ์จังหวัดกาฬสินธุ์ | F16: P | G16: P | H16: P | I16: P | J16: P | K16: P | L16: P | M16: P | N16: P | O16: P | P16: P | Q16: P | R16: P | S16: P | T16: P | U16: P
A17: 12 | B17: นาย | C17: ไชยประสิทธ์ ศรีวิเศษ | D17: เจ้าหน้าที่วิเคราะห์นโยบายและแผน | E17: สำนักงานเกษตรและสหกรณ์จังหวัดกาฬสินธุ์ | F17: P | G17: P | H17: P | I17: P | J17: P | K17: P | L17: P | M17: P | N17: P | O17: P | P17: P | Q17: P | R17: P | S17: P | T17: P | U17: P
A18: 13 | B18: นาย | C18: ธัญวิทย์ เพชรผ่องพันธุ์ | D18: เจ้าหน้าที่วิเคราะห์นโยบายและแผน | E18: สำนักงานเกษตรและสหกรณ์จังหวัดกาฬสินธุ์ | F18: P | G18: P | H18: P | I18: P | J18: P | K18: P | L18: P | M18: P | N18: P | O18: P | P18: P | Q18: P | R18: P | S18: P | T18: P | U18: P
A19: 14 | B19: นาย | C19: ปิยราช พรรณะ | D19: เจ้าหน้าที่วิเคราะห์นโยบายและแผน | E19: สำนักงานเกษตรและสหกรณ์จังหวัดกาฬสินธุ์ | F19: P | G19: P | H19: P | J19: P | L19: P | N19: P | U19: P
A20: 15 | B20: นางสาว | C20: เพ็ญนิดา ภูกิจนาค | D20: เจ้าหน้าที่วิเคราะห์นโยบายและแผน | E20: สำนักงานเกษตรและสหกรณ์จังหวัดกาฬสินธุ์ | F20: P | G20: P | H20: P | I20: P | J20: P | K20: P | L20: P | M20: P | N20: P | O20: P | P20: P | Q20: P | R20: P | S20: P | T20: P | U20: P
A21: 16 | B21: นาง | C21: ยุภาพร วิชัยพรม | D21: เจ้าหน้าที่วิเคราะห์นโยบายและแผน | E21: สำนักงานเกษตรและสหกรณ์จังหวัดกาฬสินธุ์ | F21: P | G21: P | H21: P | J21: P | L21: P | N21: P | Q21: P | U21: P
A22: 17 | B22: นาย | C22: สิริพงษ์ ครบอุดม | D22: เจ้าหน้าที่วิเคราะห์นโยบายและแผน | E22: สำนักงานเกษตรและสหกรณ์จังหวัดกาฬสินธุ์ | F22: P | G22: P | H22: P | I22: P | J22: P | K22: P | L22: P | M22: P | N22: P | O22: P | P22: P | Q22: P | R22: P | S22: P | T22: P | U22: P
A23: 18 | B23: นาง | C23: สุจิตตา ขันทอง | D23: เจ้าหน้าที่วิเคราะห์นโยบายและแผน | E23: สำนักงานเกษตรและสหกรณ์จังหวัดกาฬสินธุ์ | F23: P | H23: P | M23: P | N23: P | S23: P | U23: P
A24: 19 | B24: นางสาว | C24: วชิราพร อุ่นบุญเรือง | D24: เจ้าหน้าที่บันทึกข้อมูลโครงการฯ | E24: สำนักงานเกษตรและสหกรณ์จังหวัดกาฬสินธุ์ | F24: P | M24: P | N24: P | O24: P | Q24: P | S24: P | U24: P
A25: 20 | B25: นางสาว | C25: ศิริประภา ภูน้ำดี | D25: เจ้าพนักงานการเงินและบัญชี | E25: สำนักงานเกษตรและสหกรณ์จังหวัดกาฬสินธุ์ | F25: P | G25: P | H25: P | I25: P | J25: P | K25: P | L25: P | M25: P | N25: P | O25: P | P25: P | Q25: P | U25: P
A26: สำนักงานเกษตรและสหกรณ์ จังหวัดขอนแก่น
A27: 1 | B27: นาย | C27: พัฒนา นุศรีอัน | D27: เกษตรและสหกรณ์จังหวัด | E27: สำนักงานเกษตรและสหกรณ์จังหวัดขอนแก่น | F27: P | G27: P | H27: P | K27: P | L27: P | M27: P | N27: P | O27: P | P27: P | Q27: P | R27: P | U27: P
A28: 2 | B28: นาย | C28: ชานนท์ ไกรศรีวรรธนะ | D28: นักวิเคราะห์นโยบายและแผนชำนาญการ | E28: สำนักงานเกษตรและสหกรณ์จังหวัดขอนแก่น | H28: P | J28: P | M28: P | N28: P | T28: P
A29: 3 | B29: นาย | C29: ณัฐฏ์ฐนนท์ พรหมถาวร | D29: นักวิเคราะห์นโยบายและแผนชำนาญการ | E29: สำนักงานเกษตรและสหกรณ์จังหวัดขอนแก่น | H29: P | L29: P | Q29: P
A30: 4 | B30: นาย | C30: ทรงศักดิ์ โวหาร | D30: นักวิเคราะห์นโยบายและแผนชำนาญการ | E30: สำนักงานเกษตรและสหกรณ์จังหวัดขอนแก่น | H30: P | J30: P | M30: P | O30: P | Q30: P | R30: P | S30: P
A31: 5 | B31: นางสาว | C31: ภัคจิรา สร้อยบับ | D31: นักวิเคราะห์นโยบายและแผนชำนาญการ | E31: สำนักงานเกษตรและสหกรณ์จังหวัดขอนแก่น | F31: P | G31: P | H31: P | I31: P | J31: P | K31: P | L31: P | M31: P | N31: P | O31: P | P31: P | Q31: P | R31: P | S31: P | T31: P | U31: P
A32: 6 | B32: นาย | C32: สมพร​ ศรี​ศิลป์​ | D32: นักวิเคราะห์​นโยบาย​และ​แผน​ช​ำ​นา​ญ​การ​ | E32: สำนักงานเกษตรและสหกรณ์จังหวัดขอนแก่น | F32: P | G32: P | H32: P | I32: P | J32: P | K32: P | L32: P | M32: P | N32: P | O32: P | P32: P | Q32: P | R32: P | S32: P | T32: P | U32: P
A33: 7 | B33: นาย | C33: มหรรณพ มงคล | D33: นักวิเคราะห์นโยบายและแผน | E33: สำนักงานเกษตรและสหกรณ์จังหวัดขอนแก่น | F33: P | G33: P | H33: P | L33: P | M33: P | O33: P | Q33: P | R33: P | U33: P
A34: 8 | B34: นาย | C34: เอกรัตน์ สัชฌุกร | D34: นักวิเคราะห์นโยบายและแผน | E34: สำนักงานเกษตรและสหกรณ์จังหวัดขอนแก่น | F34: P | G34: P | H34: P | I34: P | J34: P | K34: P | L34: P | M34: P | N34: P | O34: P | P34: P | Q34: P | R34: P | S34: P | T34: P | U34: P
A35: 9 | B35: นาย | C35: วรเชษฐ์​ ชาวเหนือ | D35: นักวิเคราะห์​นโยบายและแผน | E35: สำนักงานเกษตรและสหกรณ์จังหวัดขอนแก่น | F35: P | L35: P | T35: P
A36: 10 | B36: นาง | C36: นุชดา ทองสา | D36: เจ้าพนักงานธุรการชำนาญงาน | E36: สำนักงานเกษตรและสหกรณ์จังหวัดขอนแก่น | G36: P | H36: P | J36: P | L36: P | M36: P | N36: P | O36: P | P36: P | Q36: P | R36: P | S36: P | T36: P | U36: P
A37: 11 | B37: นาง | C37: ปรานอม ชินวงษ์ | D37: เจ้าพนักงานธุรการชำนาญงาน | E37: สำนักงานเกษตรและสหกรณ์จังหวัดขอนแก่น | F37: P | G37: P | H37: P | L37: P | M37: P | N37: P | O37: P | P37: P | Q37: P | S37: P | T37: P | U37: P
A38: 12 | B38: นางสาว | C38: พรพิมล ภานุพงศ์วรรธกา | D38: เจ้าพนักงานธุรการชำนาญงาน | E38: สำนักงานเกษตรและสหกรณ์จังหวัดขอนแก่น | G38: P | H38: P | L38: P | N38: P | O38: P | P38: P | Q38: P | T38: P | U38: P
A39: 13 | B39: นางสาว | C39: อมรรัตน์ ภูกองชะนะ | D39: เจ้าพนักงานการเงินและบัญชีปฏิบัติงาน | E39: สำนักงานเกษตรและสหกรณ์จังหวัดขอนแก่น | G39: P | H39: P | J39: P | K39: P | N39: P | O39: P | P39: P | Q39: P | S39: P | T39: P
A40: 14 | B40: นาง | C40: ดวงรัก สุธาธรรม | D40: พนักงานพิมพ์ ส3 | E40: สำนักงานเกษตรและสหกรณ์จังหวัดขอนแก่น | F40: P | G40: P | H40: P | I40: P | J40: P | K40: P | L40: P | M40: P | N40: P | O40: P | P40: P | Q40: P | R40: P | S40: P | T40: P | U40: P
A41: 15 | B41: ส.อ. | C41: คณิต สุธาธรรม | D41: พนักงานขับรถยนต์ ส2 | E41: สำนักงานเกษตรและสหกรณ์จังหวัดขอนแก่น | F41: P | G41: P | H41: P | I41: P | J41: P | K41: P | L41: P | M41: P | N41: P | O41: P | P41: P | Q41: P | R41: P | S41: P | T41: P | U41: P
A42: 16 | B42: นางสาว | C42: อารียา ดวงแสงจันทร์ | D42: เจ้าหน้าวิเคราะห์นโยบายและแผน | E42: สำนักงานเกษตรและสหกรณ์จังหวัดขอนแก่น | F42: P | G42: P | H42: P | I42: P | J42: P | K42: P | L42: P | M42: P | N42: P | O42: P | P42: P | Q42: P | R42: P | S42: P | T42: P | U42: P
A43: 17 | B43: นางสาว | C43: ขวัญฤดี ปะละชัย | D43: เจ้าหน้าที่วิเคราะห์นโยบายและแผน | E43: สำนักงานเกษตรและสหกรณ์จังหวัดขอนแก่น | F43: P | G43: P | H43: P | I43: P | J43: P | K43: P | L43: P | M43: P | N43: P | O43: P | P43: P | Q43: P | R43: P | S43: P | T43: P | U43: P
A44: 18 | B44: นาย | C44: ชวมินทร์ ประถมเสาวนีย์ | D44: เจ้าหน้าที่วิเคราะห์นโยบายและแผน | E44: สำนักงานเกษตรและสหกรณ์จังหวัดขอนแก่น | F44: P | G44: P | H44: P | I44: P | J44: P | K44: P | L44: P | M44: P | N44: P | O44: P | P44: P | Q44: P | R44: P | S44: P | T44: P | U44: P
A45: 19 | B45: นาย | C45: ระวี นามแดง | D45: เจ้าหน้าที่วิเคราะห์นโยบายและแผน | E45: สำนักงานเกษตรและสหกรณ์จังหวัดขอนแก่น | F45: P | G45: P | H45: P | I45: P | J45: P | L45: P | M45: P | N45: P | O45: P | P45: P | Q45: P | R45: P | S45: P | T45: P | U45: P
A46: 20 | B46: นางสาว | C46: ศิริพร พรมสิทธิ์ | D46: เจ้าหน้าที่วิเคราะห์นโยบายและแผน | E46: สำนักงานเกษตรและสหกรณ์จังหวัดขอนแก่น | G46: P | H46: P | I46: P | J46: P | L46: P | M46: P | N46: P | O46: P | P46: P | S46: P | T46: P | U46: P
A47: 21 | B47: นาย | C47: ศิวัช เอี่ยมทอง | D47: เจ้าหน้าที่วิเคราะห์นโยบายและแผน | E47: สำนักงานเกษตรและสหกรณ์จังหวัดขอนแก่น | F47: P | G47: P | H47: P | I47: P | J47: P | L47: P | M47: P | N47: P | O47: P | P47: P | Q47: P | R47: P | S47: P | T47: P | U47: P
A48: 22 | B48: นางสาว | C48: สิริญญา ด่านซ้าย | D48: เจ้าหน้าที่วิเคราะห์นโยบายและแผน | E48: สำนักงานเกษตรและสหกรณ์จังหวัดขอนแก่น | F48: P | G48: P | H48: P | I48: P | J48: P | K48: P | L48: P | M48: P | N48: P | O48: P | P48: P | Q48: P | R48: P | S48: P | T48: P | U48: P
A49: 23 | B49: นางสาว | C49: สุดารัตน นาใจทน | D49: เจ้าหน้าที่วิเคราะห์นโยบายและแผน | E49: สำนักงานเกษตรและสหกรณ์จังหวัดขอนแก่น | H49: P | O49: P | T49: P
A50: 24 | B50: นางสาว | C50: สุวนันท์ ไชยยงค์ | D50: เจ้าหน้าที่วิเคราะห์นโยบายและแผน | E50: สำนักงานเกษตรและสหกรณ์จังหวัดขอนแก่น | G50: P | H50: P | L50: P | N50: P | O50: P | Q50: P | S50: P
A51: 25 | B51: นาย | C51: อธิวัฒน์ วงษ์มั่น | D51: เจ้าหน้าที่วิเคราะห์นโยบายและแผน | E51: สำนักงานเกษตรและสหกรณ์จังหวัดขอนแก่น | F51: P | G51: P | H51: P | I51: P | J51: P | K51: P | L51: P | M51: P | N51: P | O51: P | P51: P | Q51: P | R51: P | S51: P | T51: P | U51: P
A52: 26 | B52: นาง | C52: สุรีรัตน์ ชอบมาก | D52: เจ้าหน้าที่บันทึกข้อมูล | E52: สำนักงานเกษตรและสหกรณ์จังหวัดขอนแก่น | F52: P | G52: P | H52: P | M52: P | O52: P | P52: P | Q52: P | R52: P | T52: P | U52: P
A53: 27 | B53: นางสาว | C53: สมจิตร วรรณวิจิตร | D53: เจ้าหน้าทีบริหารงานทั่วไป | E53: สำนักงานเกษตรและสหกรณ์จังหวัดขอนแก่น | H53: P | L53: P | T53: P
A54: 28 | B54: นาย | C54: จิตติ ปิ่นประดับ | D54: เจ้าหน้าที่ธุรการ | E54: สำนักงานเกษตรและสหกรณ์จังหวัดขอนแก่น | F54: P | G54: P | H54: P | I54: P | J54: P | K54: P | L54: P | M54: P | N54: P | O54: P | Q54: P | R54: P | S54: P | T54: P | U54: P
A55: 29 | B55: นาง | C55: ณิชมน ไกรศรีวรรธนะ | D55: เจ้าหน้าที่โครงการเกษตรกรรมยั่งยืน | E55: สำนักงานเกษตรและสหกรณ์จังหวัดขอนแก่น | F55: P | G55: P | H55: P | I55: P | J55: P | K55: P | L55: P | M55: P | N55: P | O55: P | P55: P | Q55: P | R55: P | S55: P | T55: P | U55: P
A56: 30 | B56: นาย | C56: ถวัลย์​ ภารการ | D56: เจ้าพนักงานการเงินและบัญชี | E56: สำนักงานเกษตรและสหกรณ์จังหวัดขอนแก่น | F56: P | G56: P | H56: P | I56: P | J56: P | K56: P | L56: P | M56: P | N56: P | O56: P | P56: P | Q56: P | R56: P | S56: P | T56: P | U56: P
A57: 31 | B57: นาย | C57: พิเชษฐ์ กลางเภา | D57: พนักงานขับรถยนต์ | E57: สำนักงานเกษตรและสหกรณ์จังหวัดขอนแก่น | F57: P | G57: P | H57: P | I57: P | J57: P | K57: P | L57: P | M57: P | N57: P | O57: P | S57: P | T57: P
A58: 32 | B58: นาย | C58: บันดาล บุตตัสสะ | D58: พนักงานขับรถยนต์ | E58: สำนักงานเกษตรและสหกรณ์จังหวัดขอนแก่น | F58: P | G58: P | H58: P | I58: P | J58: P | K58: P | L58: P | M58: P | N58: P | O58: P | P58: P | Q58: P | R58: P | S58: P | T58: P | U58: P
A59: 33 | B59: นางสาว | C59: นิภาพร จันทะราช | D59: แม่บ้าน | E59: สำนักงานเกษตรและสหกรณ์จังหวัดขอนแก่น | F59: P | G59: P | H59: P | I59: P | J59: P | K59: P | L59: P | M59: P | N59: P | O59: P | P59: P | Q59: P | R59: P | S59: P | T59: P | U59: P
A60: 34 | B60: นาง | C60: ยุวดี เชษฐา | D60: แม่บ้าน | E60: สำนักงานเกษตรและสหกรณ์จังหวัดขอนแก่น | F60: P | G60: P | H60: P | I60: P | J60: P | K60: P | L60: P | M60: P | N60: P | O60: P | P60: P | Q60: P | R60: P | S60: P | T60: P | U60: P
A61: สำนักงานเกษตรและสหกรณ์ จังหวัดชัยภูมิ
A62: 1 | B62: นางสาว | C62: จิราภรณ์ บุญคำ | D62: นักวิเคราะห์นโยบายและแผนชำนาญการ | E62: สำนักงานเกษตรและสหกรณ์จังหวัดชัยภูมิ | H62: P | M62: P | Q62: P
A63: 2 | B63: นางสาว | C63: ทิพย์วรรณ อรุณศรี | D63: นักวิเคราะห์นโยบายและแผนชำนาญการ | E63: สำนักงานเกษตรและสหกรณ์จังหวัดชัยภูมิ | F63: P | G63: P | H63: P | I63: P | J63: P | K63: P | L63: P | M63: P | N63: P | O63: P | P63: P | Q63: P | R63: P | S63: P | T63: P | U63: P
A64: 3 | B64: นาง | C64: นันฐิกา ตรงด่านกลาง | D64: นักวิเคราะห์นโยบายและแผนชำนาญการ | E64: สำนักงานเกษตรและสหกรณ์จังหวัดชัยภูมิ | F64: P | G64: P | H64: P | I64: P | J64: P | K64: P | L64: P | M64: P | N64: P | O64: P | P64: P | Q64: P | R64: P | S64: P | T64: P | U64: P
A65: 4 | B65: นางสาว | C65: นัยนา คำภักดี | D65: นักวิเคราะห์นโยบายและแผนชำนาญการ | E65: สำนักงานเกษตรและสหกรณ์จังหวัดชัยภูมิ | F65: P | G65: P | H65: P | I65: P | J65: P | K65: P | L65: P | M65: P | N65: P | O65: P | P65: P | Q65: P | R65: P | S65: P | T65: P | U65: P
A66: 5 | B66: นาง | C66: สมใจ แสงฮาด | D66: นักวิเคราะห์นโยบายและแผนชำนาญการ | E66: สำนักงานเกษตรและสหกรณ์จังหวัดชัยภูมิ | F66: P | L66: P | S66: P
A67: 6 | B67: นาง | C67: สุธาสินี จันทร์แดง | D67: นักวิเคราะห์นโยบายและแผนชำนาญการ | E67: สำนักงานเกษตรและสหกรณ์จังหวัดชัยภูมิ | F67: P | G67: P | H67: P | I67: P | J67: P | K67: P | L67: P | M67: P | N67: P | O67: P | P67: P | Q67: P | R67: P | S67: P | T67: P | U67: P
A68: 7 | B68: นางสาว | C68: ธมลวรรณ กาลวิบูลย์ | D68: นักวิเคราะห์นโยบายและแผนปฏิบัติการ | E68: สำนักงานเกษตรและสหกรณ์จังหวัดชัยภูมิ | G68: P | H68: P | O68: P | P68: P | Q68: P | R68: P | S68: P | U68: P
A69: 8 | B69: นาง | C69: สุจิตรา ภูมูล | D69: เจ้าพนักงานธุรการชำนาญงาน | E69: สำนักงานเกษตรและสหกรณ์จังหวัดชัยภูมิ | F69: P | H69: P | J69: P | O69: P | S69: P
A70: 9 | B70: นางสาว | C70: แสงเดือน โคตรนาวัง | D70: เจ้าพนักงานการเงินและบัญชีชำนาญงาน | E70: สำนักงานเกษตรและสหกรณ์จังหวัดชัยภูมิ | G70: P | L70: P | U70: P
A71: 10 | B71: นางสาว | C71: กอบเงิน โฉมฉาย | D71: เจ้าหน้าที่วิเคราะห์นโยบายและแผน | E71: สำนักงานเกษตรและสหกรณ์จังหวัดชัยภูมิ | F71: P | G71: P | H71: P | I71: P | J71: P | K71: P | L71: P | M71: P | N71: P | O71: P | P71: P | Q71: P | R71: P | S71: P | T71: P | U71: P
A72: 11 | B72: นางสาว | C72: นภัทรสินธ์ ตะสัก | D72: เจ้าหน้าที่วิเคราะห์นโยบายและแผน | E72: สำนักงานเกษตรและสหกรณ์จังหวัดชัยภูมิ | F72: P | G72: P | H72: P | I72: P | J72: P | K72: P | L72: P | M72: P | N72: P | O72: P | P72: P | Q72: P | R72: P | S72: P | T72: P | U72: P
A73: 12 | B73: นางสาว | C73: ประวีณ ประชากูล | D73: เจ้าหน้าที่วิเคราะห์นโยบายและแผน | E73: สำนักงานเกษตรและสหกรณ์จังหวัดชัยภูมิ | F73: P | G73: P | H73: P | I73: P | J73: P | K73: P | L73: P | M73: P | N73: P | O73: P | P73: P | Q73: P | R73: P | S73: P | T73: P | U73: P
A74: 13 | B74: นาย | C74: พิพัฒน์ ผ่องพันธ์ | D74: เจ้าหน้าที่วิเคราะห์นโยบายและแผน | E74: สำนักงานเกษตรและสหกรณ์จังหวัดชัยภูมิ | F74: P | G74: P | H74: P | I74: P | K74: P | L74: P | M74: P | N74: P | O74: P | P74: P | Q74: P | R74: P | S74: P | T74: P | U74: P
A75: 14 | B75: นาย | C75: ภานุพงศ์ ชำนาญพงษ์ | D75: เจ้าหน้าที่วิเคราะห์นโยบายและแผน | E75: สำนักงานเกษตรและสหกรณ์จังหวัดชัยภูมิ | F75: P | G75: P | H75: P | I75: P | J75: P | K75: P | L75: P | M75: P | N75: P | O75: P | P75: P | Q75: P | R75: P | S75: P | T75: P | U75: P
A76: 15 | B76: นางสาว | C76: มธุรส หมั่นแคน | D76: เจ้าหน้าที่วิเคราะห์นโยบายและแผน | E76: สำนักงานเกษตรและสหกรณ์จังหวัดชัยภูมิ | F76: P | G76: P | H76: P | I76: P | J76: P | K76: P | L76: P | M76: P | N76: P | O76: P | P76: P | Q76: P | R76: P | S76: P | T76: P | U76: P
A77: 16 | B77: นางสาว | C77: วิรันชิสา ช่างเหล็ก | D77: เจ้าหน้าที่วิเคราะห์นโยบายและแผน | E77: สำนักงานเกษตรและสหกรณ์จังหวัดชัยภูมิ | F77: P | G77: P | H77: P | I77: P | J77: P | K77: P | L77: P | N77: P | O77: P | P77: P | Q77: P | R77: P | S77: P | T77: P | U77: P
A78: 17 | B78: นางสาว | C78: สุดารัตน์ ไชยสีมา | D78: เจ้าหน้าที่วิเคราะห์นโยบายและแผน | E78: สำนักงานเกษตรและสหกรณ์จังหวัดชัยภูมิ | K78: P | L78: P | T78: P
A79: 18 | B79: นางสาว | C79: เสาวนีย์ พรมกุดตุ้ม | D79: เจ้าหน้าที่บันทึกข้อมูล | E79: สำนักงานเกษตรและสหกรณ์จังหวัดชัยภูมิ | F79: P | G79: P | H79: P | I79: P | J79: P | K79: P | L79: P | M79: P | N79: P | O79: P | P79: P | Q79: P | R79: P | S79: P | T79: P | U79: P
A80: 19 | B80: นาง | C80: เปมิกา เชสเตอร์ | D80: เจ้าหน้าที่บริหารงานทั่วไป | E80: สำนักงานเกษตรและสหกรณ์จังหวัดชัยภูมิ | F80: P | G80: P | H80: P | I80: P | J80: P | K80: P | L80: P | M80: P | N80: P | O80: P | P80: P | Q80: P | R80: P | S80: P | T80: P | U80: P
A81: 20 | B81: นาย | C81: วัชรินทร์ โตชัยภูมิ | D81: เจ้าหน้าที่ธุรการ | E81: สำนักงานเกษตรและสหกรณ์จังหวัดชัยภูมิ | F81: P | G81: P | H81: P | I81: P | J81: P | K81: P | L81: P | M81: P | N81: P | O81: P | P81: P | Q81: P | S81: P | T81: P | U81: P
A82: 21 | B82: นางสาว | C82: รุ่งทิพย์ ชัยชนะ | D82: เจ้าหน้าที่ช่วยปฏิบัติงานโครงการฯ | E82: สำนักงานเกษตรและสหกรณ์จังหวัดชัยภูมิ | F82: P | G82: P | H82: P | I82: P | J82: P | K82: P | L82: P | M82: P | N82: P | O82: P | P82: P | Q82: P | R82: P | S82: P | T82: P | U82: P
A83: สำนักงานเกษตรและสหกรณ์ จังหวัดนครพนม
A84: 1 | B84: นางสาว | C84: ไพร​วัลย์​ ปัชชามาตร | D84: เกษตรและสหกรณ์​จังหวัด​ | E84: สำนักงานเกษตรและสหกรณ์จังหวัดนครพนม | F84: P | G84: P | H84: P | I84: P | J84: P | K84: P | L84: P | M84: P | N84: P | O84: P | P84: P | Q84: P | R84: P | S84: P | T84: P | U84: P
A85: 2 | B85: นาง | C85: วรวรรณ​ อุ​คำ​พันธ์​ | D85: เจ้าพนักงานธุรการอาวุโส | E85: สำนักงานเกษตรและสหกรณ์จังหวัดนครพนม | G85: P | H85: P | J85: P | L85: P | P85: P | Q85: P | S85: P | T85: P
A86: 3 | B86: นาง | C86: วราภรณ์ พรหมจักร | D86: นักวิเคราะห์นโยบายและแผนชำนาญการ | E86: สำนักงานเกษตรและสหกรณ์จังหวัดนครพนม | F86: P | G86: P | H86: P | I86: P | J86: P | K86: P | L86: P | M86: P | N86: P | O86: P | P86: P | Q86: P | R86: P | S86: P | T86: P | U86: P
A87: 4 | B87: นางสาว | C87: นฤดี มณีประกรณ์ | D87: นักวิเคราะห์นโยบายและแผนชำนาญการ | E87: สำนักงานเกษตรและสหกรณ์จังหวัดนครพนม | F87: P | G87: P | H87: P | I87: P | J87: P | K87: P | L87: P | M87: P | N87: P | O87: P | P87: P | Q87: P | R87: P | S87: P | T87: P | U87: P
A88: 5 | B88: นางสาว | C88: ปภาสร บุญเทียม | D88: นักวิเคราะห์นโยบายและแผนชำนาญการ | E88: สำนักงานเกษตรและสหกรณ์จังหวัดนครพนม | G88: P | H88: P | I88: P | J88: P | L88: P | M88: P | N88: P | O88: P | P88: P | Q88: P | R88: P | S88: P | T88: P | U88: P
A89: 6 | B89: นางสาว | C89: อรอนงค์ วงศ์ดี | D89: นักวิเคราะห์นโยบายและแผนชำนาญการ | E89: สำนักงานเกษตรและสหกรณ์จังหวัดนครพนม | G89: P | P89: P | Q89: P
A90: 7 | B90: นาง | C90: อรณิชชา ประทุมทอง | D90: นักวิเคราะห์นโยบายและแผนปฏิบัติการ | E90: สำนักงานเกษตรและสหกรณ์จังหวัดนครพนม | F90: P | G90: P | H90: P | I90: P | J90: P | K90: P | L90: P | M90: P | N90: P | O90: P | P90: P | Q90: P | R90: P | S90: P | T90: P | U90: P
A91: 8 | B91: นางสาว | C91: มิ่งขวัญ รูปดี | D91: เจ้าหน้าที่วิเคราะห์นโยบายและแผน | E91: สำนักงานเกษตรและสหกรณ์จังหวัดนครพนม | F91: P | G91: P | H91: P | I91: P | J91: P | K91: P | L91: P | M91: P | N91: P | O91: P | T91: P
A92: 9 | B92: นาย | C92: ศุภชัย ชัยวิชา | D92: เจ้าหน้าที่วิเคราะห์นโยบายและแผน | E92: สำนักงานเกษตรและสหกรณ์จังหวัดนครพนม | F92: P | G92: P | H92: P | I92: P | J92: P | K92: P | L92: P | M92: P | N92: P | O92: P | P92: P | Q92: P | R92: P | S92: P | T92: P | U92: P
A93: 10 | B93: นางสาว | C93: ศศิวรรณ รามฤทธิ์ | D93: เจ้าหน้าที่วิเคราะห์นโยบายและแผน | E93: สำนักงานเกษตรและสหกรณ์จังหวัดนครพนม | F93: P | G93: P | H93: P | I93: P | J93: P | K93: P | L93: P | M93: P | N93: P | O93: P | P93: P | Q93: P | R93: P | S93: P | T93: P | U93: P
A94: 11 | B94: นางสาว | C94: สหัธยา รมย์รส | D94: เจ้าหน้าที่วิเคราะห์นโยบายและแผน | E94: สำนักงานเกษตรและสหกรณ์จังหวัดนครพนม | F94: P | G94: P | H94: P | I94: P | J94: P | K94: P | L94: P | M94: P | N94: P | O94: P | P94: P | Q94: P | R94: P | S94: P | T94: P | U94: P
A95: 12 | B95: นาย | C95: ณัฐพล นิลแสง | D95: เจ้าหน้าที่วิเคราะห์นโยบายและแผน | E95: สำนักงานเกษตรและสหกรณ์จังหวัดนครพนม | F95: P | G95: P | H95: P | I95: P | J95: P | K95: P | L95: P | M95: P | N95: P | O95: P | P95: P | Q95: P | R95: P | S95: P | T95: P | U95: P
A96: 13 | B96: นาย | C96: จิรายุส อุคำพันธ์ | D96: เจ้าหน้าที่วิเคราะห์นโยบายและแผน | E96: สำนักงานเกษตรและสหกรณ์จังหวัดนครพนม | F96: P | G96: P | H96: P | I96: P | J96: P | K96: P | L96: P | M96: P | N96: P | O96: P | P96: P | Q96: P | R96: P | S96: P | T96: P | U96: P
A97: 14 | B97: นางสาว | C97: เจนจิรา จำปาซ้อน | D97: เจ้าหน้าที่วิเคราะห์นโยบายและแผน | E97: สำนักงานเกษตรและสหกรณ์จังหวัดนครพนม | F97: P | G97: P | H97: P | I97: P | J97: P | K97: P | L97: P | M97: P | N97: P | O97: P | P97: P | Q97: P | R97: P | S97: P | T97: P | U97: P
A98: 15 | B98: นางสาว | C98: มาลัย ทรายทวีป | D98: เจ้าหน้าที่วิเคราะห์นโยบายและแผน | E98: สำนักงานเกษตรและสหกรณ์จังหวัดนครพนม | F98: P | G98: P | H98: P | I98: P | J98: P | K98: P | L98: P | M98: P | N98: P | O98: P | P98: P | Q98: P | R98: P | S98: P | T98: P | U98: P
A99: 16 | B99: นาย | C99: ภานุกร ศรีเฉลา | D99: เจ้าหน้าที่วิเคราะห์นโยบายและแผน | E99: สำนักงานเกษตรและสหกรณ์จังหวัดนครพนม | F99: P | G99: P | H99: P | I99: P | J99: P | K99: P | L99: P | M99: P | N99: P | O99: P | P99: P | Q99: P | R99: P | S99: P | T99: P | U99: P
A100: 17 | B100: นางสาว | C100: กนกนิตย์ แก้วก่า | D100: เจ้าหน้าวิเคราะห์นโยบายและแผน | E100: สำนักงานเกษตรและสหกรณ์จังหวัดนครพนม | F100: P | G100: P | H100: P | I100: P | J100: P | K100: P | L100: P | M100: P | N100: P | O100: P | P100: P | Q100: P | R100: P | S100: P | T100: P | U100: P
A101: 18 | B101: นางสาว | C101: ศรัณย์รัชต์ แก้วสีคร้าม | D101: เจ้าหน้าที่บันทึกข้อมูล | E101: สำนักงานเกษตรและสหกรณ์จังหวัดนครพนม | F101: P | G101: P | H101: P | I101: P | J101: P | K101: P | L101: P | M101: P | N101: P | O101: P | P101: P | Q101: P | R101: P | S101: P | T101: P | U101: P
...

Sheet กษ. ภาคตะวันออก
A1: กิจกรรมตั้งปณิธานความดีของบุคลากร สป.กษ. ประจำปีงบประมาณ พ.ศ. 2565
A3: ลำดับ | B3: คำนำหน้า | C3: ชื่อ-สกุล | D3: ตำแหน่ง | E3: หน่วยงาน | F3: 2.1 ด้านการป้องกันการทุจริต | L3: 2.2 ด้านส่งเสริมคุณธรรมและจริยธรรม | Q3: 2.3 ด้านอื่นๆ
F4: 1. ปฏิบัติงานตามเวลาราชการ (08.30 - 16.30 น.) ไม่เบียดบังเวลาราชการเพื่อประโยชน์ส่วนตน | G4: 2. ปฏิบัติงานตามกฎ ระเบียบ และข้อบังคับ | H4: 3. ปฏิบัติงานด้วยความซื่อสัตย์ สุจริต มีความรับผิดชอบต่อหน้าที่ของตนเอง | I4: 4. ใช้ทรัพย์สินของราชการในการปฏิบัติงานราชการเท่านั้น | J4: 5. ไม่รับ-ไม่ให้ หรือเรียกรับของขวัญและของกำนัล ทรัพย์สินหรือประโยชน์อื่นใดจากการปฏิบัติหน้าที่ | K4: 6. ไม่เพิกเฉยหากพบการกระทำ หรือเหตุการณ์ที่อาจเกิดการทุจริต | L4: 1. เข้าร่วมกิจกรรมจิตอาสาหรือกิจกรรมบำเพ็ญประโยชน์เพื่อส่วนรวม | M4: 2. เสียสละประโยชน์ส่วนตนเพื่อประโยชน์ส่วนรวม ไม่เอารัดเอาเปรียบผู้อื่น | N4: 3. ประพฤติตนเป็นพลเมืองที่ดี รักษาสัญญา มีความขยันขันแข็ง อ่อนน้อมถ่อมตน พูดจาสุภาพ | O4: 4. ยิ้มแย้มแจ่มใส มีมิตรสัมพันธ์ไมตรีจิตอันดีต่อเพื่อนร่วมงาน และผู้มารับบริการ | P4: 5. ประพฤติปฏิบัติตัวตามคำสอนของแต่ละศาสนา เช่น เข้าวัดทำบุญ ตักบาตร ฟังเทศน์ เข้าโบสถ์ มัสยิด หรือประกอบพิธีการต่างๆ ตามศาสนาที่ตนเองนับถือ เป็นต้น | Q4: 1. ค้นคว้าหาความรู้ หมั่นพัฒนาตนเองอยู่เสมอ | R4: 2. มีความริเริ่มสร้างสรรค์ ปรับปรุงพัฒนางานให้ดียิ่งขึ้น | S4: 3. ใช้ทรัพยากรอย่างประหยัดและคุ้มค่า | T4: 4. นำหลักปรัชญาเศรษฐกิจ พอเพียงมาใช้ในการดำเนินชีวิต | U4: 5. สวมใส่เครื่องแต่งกายถูกระเบียบ และอนุรักษ์ชุดผ้าไทยอยู่เสมอเมื่อมีโอกาส
A5: สำนักงานเกษตรและสหกรณ์ จังหวัดจันทบุรี
A6: 1 | B6: นางสาว | C6: ธารารัตน โพธิ์ศรี | D6: เกษตรและสหกรณ์จังหวัดจันทบุรี | E6: สำนักงานเกษตรและสหกรณ์จังหวัดจันทบุรี | G6: P | H6: P | J6: P | L6: P | M6: P | Q6: P | R6: P
A7: 2 | B7: นางสาว | C7: จุรีรัตน์ กานต์ธีระกุล | D7: นักวิเคราะห์นโยบายและแผนปฏิบัติการ | E7: สำนักงานเกษตรและสหกรณ์จังหวัดจันทบุรี | G7: P | J7: P | K7: P | P7: P | S7: . | T7: P
A8: 3 | B8: นางสาว | C8: ณพิชญา วาจามธุระ | D8: นักวิเคราะห์นโยบายและแผนชำนาญการ | E8: สำนักงานเกษตรและสหกรณ์จังหวัดจันทบุรี | F8: P | G8: P | H8: P | J8: P | L8: P | M8: P | N8: P | O8: P | P8: P | Q8: P | R8: P
A9: 4 | B9: นางสาว | C9: เจนจิรา โสพิมพ์ | D9: เจ้าพนักงานการเงินและบัญชีชำนาญงาน | E9: สำนักงานเกษตรและสหกรณ์จังหวัดจันทบุรี | F9: P | G9: P | H9: P | I9: P | L9: P
A10: 5 | B10: นางสาว | C10: ณัฏฐนภัส อยู่เกษม | D10: เจ้าพนักงานการเงินและบัญชีชำนาญงาน | E10: สำนักงานเกษตรและสหกรณ์จังหวัดจันทบุรี | F10: P | G10: P | O10: P | Q10: P | S10: P
A11: 6 | B11: นาย | C11: ปัญญา สารศิลป์ | D11: พนักงานพิมพ์ ส 3 | E11: สำนักงานเกษตรและสหกรณ์จังหวัดจันทบุรี | F11: P | I11: P | L11: P | T11: P | U11: P
A12: 7 | B12: นาง | C12: กฤษติยา กิติคุณ | D12: นักวิเคราะห์นโยบายและแผน | E12: สำนักงานเกษตรและสหกรณ์จังหวัดจันทบุรี | F12: P | O12: P | P12: P | S12: P | U12: P
A13: 8 | B13: นาย | C13: ชนินทร์ สุวรรณ | D13: เจ้าหน้าที่วิเคราะห์นโยบายและแผน | E13: สำนักงานเกษตรและสหกรณ์จังหวัดจันทบุรี | H13: P | N13: P | O13: P | Q13: P | S13: P
A14: 9 | B14: นางสาว | C14: ฐิณัฏฐ์ชญา แก้ววิเชียร | D14: เจ้าหน้าที่วิเคราะห์นโยบายและแผน | E14: สำนักงานเกษตรและสหกรณ์จังหวัดจันทบุรี | F14: P | G14: P | H14: P | L14: P | N14: P | S14: P | T14: P
A15: 10 | B15: นาย | C15: ณัฐวุฒิ เฝ้าถนอม | D15: เจ้าหน้าที่วิเคราะห์นโยบายและแผน | E15: สำนักงานเกษตรและสหกรณ์จังหวัดจันทบุรี | F15: P | G15: P | H15: P | L15: P | M15: P | N15: P | R15: P | T15: P
A16: 11 | B16: นาง | C16: นิภาวรรณ วลาบูรณ์ | D16: เจ้าหน้าที่วิเคราะห์นโยบายและแผน | E16: สำนักงานเกษตรและสหกรณ์จังหวัดจันทบุรี | F16: P | P16: P | S16: P | T16: P | U16: P
A17: 12 | B17: นางสาว | C17: นิสสนาถ บุญลาภ | D17: เจ้าหน้าที่วิเคราะห์นโยบายและแผน | E17: สำนักงานเกษตรและสหกรณ์จังหวัดจันทบุรี | F17: P | G17: P | H17: P | I17: P | J17: P | K17: P | L17: P | M17: P | N17: P | O17: P | S17: P
A18: 13 | B18: นาย | C18: วสุพล ตะเพียนทอง | D18: เจ้าหน้าที่วิเคราะห์นโยบายและแผน | E18: สำนักงานเกษตรและสหกรณ์จังหวัดจันทบุรี | G18: P | I18: P | N18: P | O18: P | S18: P
A19: 14 | B19: นางสาว | C19: อรุณรัตน์ ผลบำรุง | D19: เจ้าหน้าที่วิเคราะห์นโยบายและแผน | E19: สำนักงานเกษตรและสหกรณ์จังหวัดจันทบุรี | G19: P | H19: P | I19: P | L19: P | N19: P | Q19: P | S19: P
A20: 15 | B20: นาย | C20: ธวัชชัย พูลสมบัติ | D20: เจ้าหน้าที่วิเคราะห์นโยบายและแผน | E20: สำนักงานเกษตรและสหกรณ์จังหวัดจันทบุรี | H20: P | N20: P | O20: P | Q20: P | T20: P
A21: 16 | B21: นาย | C21: พีรพงศ์ คงรอต | D21: เจ้าหน้าที่วิเคราะห์นโยบายและแผน | E21: สำนักงานเกษตรและสหกรณ์จังหวัดจันทบุรี | F21: P | H21: P | J21: P | M21: P | S21: P
A22: 17 | B22: นางสาว | C22: ศิริขวัญ วงศ์กำปั่น | D22: เจ้าหน้าที่บริหารงานทั่วไป | E22: สำนักงานเกษตรและสหกรณ์จังหวัดจันทบุรี | G22: P | H22: P | I22: P | J22: P | L22: P | Q22: P
A23: 18 | B23: นางสาว | C23: ศิริวรรณ ธิติอนันต์ปกรณ์ | D23: เจ้าพนักงานธุรการชำนาญงาน | E23: สำนักงานเกษตรและสหกรณ์จังหวัดจันทบุรี | F23: P | G23: P | H23: P | I23: P | J23: P | M23: P | N23: P | O23: P | Q23: P | R23: P | S23: P | T23: P
A24: 19 | B24: นางสาว | C24: สุภาภรณ์ บุญเรือง | D24: เจ้าพนักงานธุรการ | E24: สำนักงานเกษตรและสหกรณ์จังหวัดจันทบุรี | F24: P | J24: P | L24: P | P24: P | U24: P
A25: สำนักงานเกษตรและสหกรณ์ จังหวัดฉะเชิงเทรา
A26: 1 | B26: นางสาว | C26: สุพัชรรงค์ สุมารินทร์ | D26: นักวิเคราะห์นโยบายและแผนชำนาญการ | E26: สำนักงานเกษตรและสหกรณ์จังหวัดฉะเชิงเทรา | G26: P | J26: P | K26: P | N26: P | O26: P | Q26: P | R26: P | U26: P
A27: 2 | B27: ว่าที่พันตรี | C27: วราห์ ประดับพงษ์ | D27: นักวิเคราะห์นโยบายและแผนชำนาญการ | E27: สำนักงานเกษตรและสหกรณ์จังหวัดฉะเชิงเทรา | F27: P | G27: P | H27: P | I27: P | J27: P | K27: P | L27: P | M27: P | N27: P | O27: P | P27: P | Q27: P | R27: P | S27: P | T27: P | U27: P
A28: 3 | B28: นางสาว | C28: ธนาวดี มาระโภชน์ | D28: นักวิเคราะห์นโยบายและแผนปฏิบัติการ | E28: สำนักงานเกษตรและสหกรณ์จังหวัดฉะเชิงเทรา | H28: P | J28: P | K28: P | M28: P | O28: P | Q28: P | U28: P
A29: 4 | B29: นางสาว | C29: วรรณรัตน์ รู้รักษา | D29: นักวิเคราะห์นโยบายและแผนปฏิบัติการ | E29: สำนักงานเกษตรและสหกรณ์จังหวัดฉะเชิงเทรา | F29: P | G29: P | H29: P | I29: P | J29: P | K29: P | L29: P | M29: P | N29: P | O29: P | P29: P | Q29: P | R29: P | S29: P | T29: P
A30: 5 | B30: นาง | C30: อังคณา จำเนียรทรง | D30: เจ้าพนักงานธุรการชำนาญงาน | E30: สำนักงานเกษตรและสหกรณ์จังหวัดฉะเชิงเทรา | F30: P | H30: P | J30: P | M30: P | N30: P | R30: P | S30: P
A31: 6 | B31: นาย | C31: อนิรุทธ์ สุกกลั่น | D31: เจ้าพนักงานธุรการปฏิบัติงาน | E31: สำนักงานเกษตรและสหกรณ์จังหวัดฉะเชิงเทรา | K31: P | N31: P | T31: P
A32: 7 | B32: นาง | C32: ยุพา สุวรรณเดช | D32: พนังานพิมพ์ ส 3 | E32: สำนักงานเกษตรและสหกรณ์จังหวัดฉะเชิงเทรา | F32: P | L32: P | R32: P
A33: 8 | B33: นางสาว | C33: ณปภัช นิ่มอนงค์ | D33: เจ้าหน้าที่วิเคราะห์นโยบายและแผน | E33: สำนักงานเกษตรและสหกรณ์จังหวัดฉะเชิงเทรา | H33: P | I33: P | M33: P | O33: P | T33: P
A34: 9 | B34: นางสาว | C34: มณีรัตน์ และเล็ก | D34: เจ้าหน้าที่วิเคราะห์นโยบายและแผน | E34: สำนักงานเกษตรและสหกรณ์จังหวัดฉะเชิงเทรา | F34: P | G34: P | H34: P | I34: P | J34: P | K34: P | L34: P | M34: P | N34: P | O34: P | P34: P | Q34: P | R34: P | S34: P | T34: P | U34: P
A35: 10 | B35: นางสาว | C35: ณปภัช นิ่มอนงค์ | D35: เจ้าหน้าที่วิเคราะห์นโยบายและแผน | E35: สำนักงานเกษตรและสหกรณ์จังหวัดฉะเชิงเทรา | G35: P | H35: P | M35: P | N35: P | R35: P | T35: P
A36: 11 | B36: นางสาว | C36: น้ำทิพย์ จิตมาตย์ | D36: เจ้าหน้าที่วิเคราะห์นโยบายและแผน | E36: สำนักงานเกษตรและสหกรณ์จังหวัดฉะเชิงเทรา | F36: P | G36: P | H36: P | I36: P | J36: P | K36: P | L36: P | M36: P | N36: P | O36: P | P36: P | Q36: P | R36: P | S36: P | T36: P | U36: P
A37: 12 | B37: นางสาว | C37: ชนิกานต์ ปัญจพิทยากุล | D37: เจ้าหน้าที่วิเคราะห์นโยบายและแผน | E37: สำนักงานเกษตรและสหกรณ์จังหวัดฉะเชิงเทรา | F37: P | G37: P | H37: P | I37: P | J37: P | K37: P | L37: P | M37: P | N37: P | O37: P | P37: P | Q37: P | R37: P | S37: P | T37: P | U37: P
A38: 13 | B38: นางสาว | C38: สกาวเดือน พันธรักษ์ | D38: เจ้าหน้าที่วิเคราะห์นโยบายและแผน | E38: สำนักงานเกษตรและสหกรณ์จังหวัดฉะเชิงเทรา | F38: P | G38: P | H38: P | I38: P | J38: P | K38: P | L38: P | M38: P | N38: P | O38: P | P38: P | Q38: P | R38: P | S38: P | T38: P | U38: P
A39: 14 | B39: นาย | C39: พชร ผิวสวยคำ | D39: เจ้าหน้าที่วิเคราะห์นโยบายและแผน | E39: สำนักงานเกษตรและสหกรณ์จังหวัดฉะเชิงเทรา | F39: P | G39: P | H39: P | I39: P | J39: P | K39: P | L39: P | M39: P | N39: P | O39: P | P39: P | Q39: P | R39: P | S39: P | T39: P | U39: P
A40: 15 | B40: นางสาว | C40: พรพิมล พฤทธิสาริกร | D40: เจ้าหน้าที่วิเคราะห์นโยบายและแผน | E40: สำนักงานเกษตรและสหกรณ์จังหวัดฉะเชิงเทรา | F40: P | G40: P | H40: P | I40: P | J40: P | K40: P | L40: P | M40: P | N40: P | O40: P | P40: P | Q40: P | R40: P | S40: P | T40: P | U40: P
A41: 16 | B41: นางสาว | C41: สรัลณภัค์ ธีระมิตร | D41: เจ้าหน้าที่บริหารงานทั่วไป | E41: สำนักงานเกษตรและสหกรณ์จังหวัดฉะเชิงเทรา | F41: P | G41: P | H41: P | I41: P | J41: P | K41: P | L41: P | M41: P | N41: P | O41: P | P41: P | Q41: P | R41: P | S41: P | T41: P | U41: P
A42: 17 | B42: นางสาว | C42: นัทธมน บุญเพ็ง | D42: เจ้าหน้าที่บริหารงานทั่วไป | E42: สำนักงานเกษตรและสหกรณ์จังหวัดฉะเชิงเทรา | F42: P | G42: P | H42: P | I42: P | J42: P | K42: P | L42: P | M42: P | N42: P | O42: P | P42: P | Q42: P | R42: P | S42: P | T42: P | U42: P
A43: 18 | B43: นางสาว | C43: บุษยา พัทนา | D43: เจ้าพนักงานการเงินและบัญชี | E43: สำนักงานเกษตรและสหกรณ์จังหวัดฉะเชิงเทรา | G43: P | H43: P | J43: P | M43: P | N43: P | S43: P | T43: P
A44: 19 | B44: นางสาว | C44: ฐิติมา จูเจริญ | D44: เจ้าหน้าที่บันทึกข้อมูล | E44: สำนักงานเกษตรและสหกรณ์จังหวัดฉะเชิงเทรา | F44: P | G44: P | H44: P | I44: P | J44: P | K44: P | L44: P | M44: P | N44: P | O44: P | P44: P | Q44: P | R44: P | S44: P | T44: P | U44: P
A45: 20 | B45: นาง | C45: พรทิพย์ ศิริมมจันทร์ | D45: พนักงานทำความสะอาด | E45: สำนักงานเกษตรและสหกรณ์จังหวัดฉะเชิงเทรา | F45: P | G45: P | H45: P | I45: P | J45: P | K45: P | L45: P | M45: P | N45: P | O45: P | P45: P | Q45: P | R45: P | S45: P | T45: P | U45: P
A46: สำนักงานเกษตรและสหกรณ์ จังหวัดชลบุรี
A47: 1 | B47: นาย | C47: ไพฑูรย์​ โ​กเมนท์​ | D47: เกษตร​และ​สหกรณ์​จังหวัด​ชลบุรี​ | E47: สำนักงานเกษตรและสหกรณ์จังหวัดชลบุรี | F47: P | G47: P | H47: P | I47: P | J47: P | K47: P | L47: P | M47: P | N47: P | O47: P | P47: P | Q47: P | S47: P | U47: P
A48: 2 | B48: นางสาว | C48: กันธิมา แสงจีน | D48: นักวิเคราะห์นโยบายและแผนชำนาญการ | E48: สำนักงานเกษตรและสหกรณ์จังหวัดชลบุรี | F48: P | G48: P | H48: P | L48: P | M48: P | N48: P | O48: P | P48: P | Q48: P | R48: P | S48: P | T48: P | U48: P
A49: 3 | B49: นาง | C49: พิมพ์จันทร์ เขมวริทธิ์ | D49: นักวิเคราะห์นโยบายและแผนชำนาญการ | E49: สำนักงานเกษตรและสหกรณ์จังหวัดชลบุรี | F49: P | G49: P | H49: P | I49: P | J49: P | K49: P | L49: P | M49: P | N49: P | O49: P | P49: P | Q49: P | R49: P | S49: P | T49: P | U49: P
A50: 4 | B50: นางสาว | C50: วีร์ษิตา อรชร | D50: นักวิเคราะห์นโยบายและแผนชำนาญการ | E50: สำนักงานเกษตรและสหกรณ์จังหวัดชลบุรี | F50: P | G50: P | H50: P | I50: P | J50: P | K50: P | L50: P | M50: P | N50: P | O50: P | P50: P | Q50: P | R50: P | S50: P | T50: P | U50: P
A51: 5 | B51: นางสาว | C51: อนงค์นาถ ติ่งแตง | D51: นักวิเคราะห์นโยบายและแผนชำนาญการ | E51: สำนักงานเกษตรและสหกรณ์จังหวัดชลบุรี | F51: P | G51: P | H51: P | I51: P | J51: P | K51: P | L51: P | M51: P | N51: P | O51: P | P51: P | Q51: P | R51: P | S51: P | T51: P | U51: P
A52: 6 | B52: นางสาว | C52: พรรณภา พรหมชิณวงศ์ | D52: นักวิเคราะห์นโยบายและแผนชำนาญการ | E52: สำนักงานเกษตรและสหกรณ์จังหวัดชลบุรี | F52: P | G52: P | H52: P | I52: P | J52: P | K52: P | L52: P | M52: P | N52: P | O52: P | P52: P | Q52: P | R52: P | S52: P | T52: P | U52: P
A53: 7 | B53: นางสาว | C53: ณัฐชากานต์ พิทธยาพิทักษ์ | D53: นักจัดการงานทั่วไปชำนาญการ | E53: สำนักงานเกษตรและสหกรณ์จังหวัดชลบุรี | F53: P | G53: P | H53: P | I53: P | J53: P | K53: P | L53: P | M53: P | N53: P | O53: P | P53: P | Q53: P | R53: P | S53: P | T53: P | U53: P
A54: 8 | B54: นาย | C54: วิระศักดิ์ สีบาง | D54: นักวิเคราะห์นโยบายและแผนปฎิบัติการ | E54: สำนักงานเกษตรและสหกรณ์จังหวัดชลบุรี | G54: P | H54: P | I54: P | J54: P | K54: P | M54: P | N54: P | O54: P | Q54: P | R54: P | S54: P
A55: 9 | B55: นางสาว | C55: ขวัญตา ผึ่งผาย | D55: เจ้าพนักงานการเงินและบัญชีชำนาญงาน | E55: สำนักงานเกษตรและสหกรณ์จังหวัดชลบุรี | F55: P | G55: P | H55: P | I55: P | J55: P | K55: P | L55: P | M55: P | N55: P | O55: P | P55: P | Q55: P | R55: P | S55: P | T55: P | U55: P
A56: 10 | B56: นางสาว | C56: เพ็ญศรี ยศยิ่งยงค์ | D56: พนักงานพิมพ์ ส4 | E56: สำนักงานเกษตรและสหกรณ์จังหวัดชลบุรี | F56: P | H56: P | L56: P | M56: P | S56: P
A57: 11 | B57: นาง | C57: จันทนา โรจน์จำนงค์ | D57: พนักงานพิมพ์ ส 4 | E57: สำนักงานเกษตรและสหกรณ์จังหวัดชลบุรี | F57: P | G57: P | H57: P | I57: P | J57: P | K57: P | L57: P | M57: P | N57: P | O57: P | P57: P | Q57: P | T57: P
A58: 12 | B58: นางสาว | C58: ขวัญใจ ผึ่งผาย | D58: เจ้าหน้าที่วิเคราะห์นโยบายและแผน | E58: สำนักงานเกษตรและสหกรณ์จังหวัดชลบุรี | F58: P | G58: P | H58: P | I58: P | J58: P | K58: P | L58: P | M58: P | N58: P | O58: P | P58: P | Q58: P | R58: P | S58: P | T58: P | U58: P
A59: 13 | B59: นางสาว | C59: แขไข จำเริญพานิช | D59: เจ้าหน้าที่วิเคราะห์นโยบายและแผน | E59: สำนักงานเกษตรและสหกรณ์จังหวัดชลบุรี | F59: P | G59: P | H59: P | L59: P | N59: P | O59: P | P59: P | R59: P
A60: 14 | B60: นาย | C60: ธรรมรงค์ นพรัตน์ | D60: เจ้าหน้าที่วิเคราะห์นโยบายและแผน | E60: สำนักงานเกษตรและสหกรณ์จังหวัดชลบุรี | J60: P | L60: P | T60: P
A61: 15 | B61: นางสาว | C61: นันท์นภัส อารีมิตร | D61: เจ้าหน้าที่วิเคราะห์นโยบายและแผน | E61: สำนักงานเกษตรและสหกรณ์จังหวัดชลบุรี | F61: P | G61: P | H61: P | I61: P | J61: P | K61: P | L61: P | M61: P | N61: P | O61: P | P61: P | Q61: P | R61: P | S61: P | T61: P | U61: P
A62: 16 | B62: นาย | C62: สวราชย์ สำแดงเดช | D62: เจ้าหน้าที่วิเคราะห์นโยบายและแผน | E62: สำนักงานเกษตรและสหกรณ์จังหวัดชลบุรี | F62: P | G62: P | H62: P | I62: P | J62: P | K62: P | L62: P | M62: P | N62: P | O62: P | P62: P | Q62: P | R62: P | S62: P | T62: P | U62: P
A63: 17 | B63: นางสาว | C63: สุวพร ขาวสุทธิ | D63: เจ้าหน้าที่วิเคราะห์นโยบายและแผน | E63: สำนักงานเกษตรและสหกรณ์จังหวัดชลบุรี | F63: P | G63: P | H63: P | I63: P | J63: P | K63: P | L63: P | M63: P | N63: P | O63: P | P63: P | Q63: P | R63: P | S63: P | T63: P | U63: P
A64: 18 | B64: นางสาว | C64: อัญชนก เชื้อทอง | D64: เจ้าหน้าที่วิเคราะห์นโยบายและแผน | E64: สำนักงานเกษตรและสหกรณ์จังหวัดชลบุรี | F64: P | G64: P | H64: P | I64: P | J64: P | K64: P | L64: P | M64: P | N64: P | O64: P | P64: P | Q64: P | R64: P | S64: P | T64: P | U64: P
A65: 19 | B65: นาง | C65: ธนัญกรณ์ สุวรรณชาติพันธุ์ | D65: เจ้าหน้าที่วิเคราะห์นโยบายและแผน | E65: สำนักงานเกษตรและสหกรณ์จังหวัดชลบุรี | F65: P | H65: P | I65: P | J65: P | L65: P | M65: P | N65: P | O65: P | P65: P | Q65: P | R65: P | S65: P | T65: P
A66: 20 | B66: นางสาว | C66: พัชรินทร์ พลาพล | D66: เจ้าหน้าที่วิเคราะห์นโยบายและแผน | E66: สำนักงานเกษตรและสหกรณ์จังหวัดชลบุรี | F66: P | G66: P | H66: P | I66: P | J66: P | K66: P | L66: P | M66: P | N66: P | O66: P | P66: P | Q66: P | R66: P | S66: P | T66: P | U66: P
A67: 21 | B67: นาย | C67: เอกชัย โรจน์จำนงค์ | D67: เจ้าหน้าที่บริหารงานทั่วไป | E67: สำนักงานเกษตรและสหกรณ์จังหวัดชลบุรี | G67: P | H67: P | L67: P | M67: P | O67: P | S67: P | U67: P
A68: 22 | B68: นางสาว | C68: ชัชชญา เอี่ยมสะอาด | D68: เจ้าหน้าที่บันทึกข้อมูล | E68: สำนักงานเกษตรและสหกรณ์จังหวัดชลบุรี | F68: P | L68: P | Q68: P
A69: 23 | B69: นาย | C69: ขวัญ ชัยกลาง | D69: พนักงานขับรถ | E69: สำนักงานเกษตรและสหกรณ์จังหวัดชลบุรี | F69: P | G69: P | H69: P | I69: P | J69: P | K69: P | L69: P | M69: P | N69: P | O69: P | P69: P | Q69: P | R69: P | S69: P | T69: P | U69: P
A70: 24 | B70: นาย | C70: วสุวัฒน์ อิ้งทอง | D70: พนักงานขับรถ | E70: สำนักงานเกษตรและสหกรณ์จังหวัดชลบุรี | F70: P | G70: P | H70: P | I70: P | J70: P | K70: P | L70: P | M70: P | N70: P | O70: P | P70: P | Q70: P | R70: P | S70: P | T70: P | U70: P
A71: 25 | B71: นางสาว | C71: ลัดดาวัลย์ หงษาพงศ์ | D71: แม่บ้าน | E71: สำนักงานเกษตรและสหกรณ์จังหวัดชลบุรี | F71: P | G71: P | H71: P | L71: P | M71: P | N71: P | O71: P | P71: P | Q71: P | R71: P | S71: P | T71: P | U71: P
A72: สำนักงานเกษตรและสหกรณ์ จังหวัดตราด
A73: 1 | B73: นาง | C73: กุลฤดี มานะเปรมปรีย์ | D73: นักวิเคราะห์นโยบายและแผนชำนาญการ | E73: สำนักงานเกษตรและสหกรณ์จังหวัดตราด | F73: P | G73: P | H73: P | I73: P | J73: P | K73: P | L73: P | M73: P | N73: P | O73: P | P73: P | Q73: P | R73: P | S73: P | T73: P | U73: P
A74: 2 | B74: นางสาว | C74: จุฬาภร ศิลาอาศน์ | D74: นักวิเคราะห์นโยบายและแผนชำนาญการ | E74: สำนักงานเกษตรและสหกรณ์จังหวัดตราด | F74: P | G74: P | H74: P | I74: P | J74: P | K74: P | L74: P | M74: P | N74: P | O74: P | P74: P | Q74: P | R74: P | S74: P | T74: P | U74: P
A75: 3 | B75: นาย | C75: ปริญญา กุละพัด | D75: นักวิเคราะห์นโยบายและแผนชำนาญการ | E75: สำนักงานเกษตรและสหกรณ์จังหวัดตราด | F75: P | G75: P | H75: P | J75: P | K75: P | L75: P | M75: P | N75: P | O75: P | P75: P | Q75: P | R75: P | S75: P | T75: P | U75: P
A76: 4 | B76: นางสาว | C76: นฤชา แว่วสอน | D76: นักวิเคราะห์นโยบายและแผนปฎิบัติการ | E76: สำนักงานเกษตรและสหกรณ์จังหวัดตราด | F76: P | G76: P | H76: P | I76: P | J76: P | K76: P | L76: P | N76: P | O76: P | Q76: P | S76: P | T76: P
A77: 5 | B77: นาย | C77: สุทันต์ ศิริสาคร | D77: นักวิเคราะห์นโยบายและแผนปฏิบัติการ | E77: สำนักงานเกษตรและสหกรณ์จังหวัดตราด | F77: P | G77: P | H77: P | I77: P | J77: P | K77: P | L77: P | M77: P | N77: P | O77: P | P77: P | Q77: P | R77: P | S77: P | T77: P | U77: P
A78: 6 | B78: นาย | C78: วรุฒ โยธา | D78: นักวิเคราะห์นโยบายและแผนปฏิบัติการ | E78: สำนักงานเกษตรและสหกรณ์จังหวัดตราด | F78: P | G78: P | H78: P | I78: P | J78: P | K78: P | L78: P | M78: P | N78: P | O78: P | P78: P | Q78: P | R78: P | S78: P | T78: P
A79: 7 | B79: นางสาว | C79: ภริตพร ปัสเสนะ | D79: เจ้าพนักงานธุรการชำนาญงาน | E79: สำนักงานเกษตรและสหกรณ์จังหวัดตราด | F79: P | H79: P | L79: P | N79: P | O79: P | Q79: P | R79: P | S79: P | T79: P | U79: P
A80: 8 | B80: นาง | C80: ญาณกร วรรณรัตน์ | D80: เจ้าพนักงานการเงินและบัญชีชำนาญงาน | E80: สำนักงานเกษตรและสหกรณ์จังหวัดตราด | F80: P | G80: P | H80: P | I80: P | J80: P | K80: P | L80: P | M80: P | N80: P | O80: P | P80: P | Q80: P | R80: P | S80: P | T80: P | U80: P
A81: 9 | B81: นาง | C81: ทิพย์ธดา สุบิน | D81: พนักงานพิมพ์ ส3 | E81: สำนักงานเกษตรและสหกรณ์จังหวัดตราด | F81: P | G81: P | H81: P | I81: P | J81: P | K81: P | L81: P | M81: P | N81: P | O81: P | Q81: P | S81: P | T81: P | U81: P
A82: 10 | B82: นางสาว | C82: บังอร สมนิล | D82: เจ้าหน้าที่วิเคราะห์นโยบายและแผน | E82: สำนักงานเกษตรและสหกรณ์จังหวัดตราด | G82: P | H82: P | N82: P | O82: P | S82: P
A83: 11 | B83: นางสาว | C83: ธิติมา บำรุงวงษ์ | D83: เจ้าหน้าที่วิเคราะห์นโยบายและแผน | E83: สำนักงานเกษตรและสหกรณ์จังหวัดตราด | F83: P | G83: P | H83: P | I83: P | J83: P | K83: P | M83: P | N83: P | O83: P | P83: P | Q83: P | R83: P | S83: P
A84: 12 | B84: นาง | C84: ตฤณดา ศรีสิทธิชัยสกุล | D84: เจ้าหน้าที่วิเคราะห์นโยบายและแผน | E84: สำนักงานเกษตรและสหกรณ์จังหวัดตราด | F84: P | H84: P | O84: P | S84: P | T84: P | U84: P
A85: 13 | B85: นาย | C85: ณรงค์ฤทธิ์ กฤษเกล้า | D85: เจ้าหน้าที่วิเคราะห์นโยบายและแผน | E85: สำนักงานเกษตรและสหกรณ์จังหวัดตราด | F85: P | G85: P | H85: P | I85: P | J85: P | K85: P | L85: P | M85: P | N85: P | O85: P | P85: P | Q85: P | R85: P | S85: P | T85: P | U85: P
A86: 14 | B86: นาย | C86: ชนน ละมุล | D86: เจ้าหน้าที่วิเคราะห์นโยบายและแผน | E86: สำนักงานเกษตรและสหกรณ์จังหวัดตราด | F86: P | G86: P | H86: P | I86: P | J86: P | K86: P | L86: P | M86: P | N86: P | O86: P | P86: P | Q86: P | R86: P | S86: P | T86: P
A87: 15 | B87: นาย | C87: เสกสรร จันทร | D87: เจ้าหน้าที่บริหารงานทั่วไป | E87: สำนักงานเกษตรและสหกรณ์จังหวัดตราด | F87: P | G87: P | H87: P | I87: P | J87: P | K87: P | L87: P | M87: P | N87: P | O87: P | P87: P | Q87: P | R87: P | S87: P | T87: P | U87: P
A88: 16 | B88: นางสาว | C88: กฤษณา สารสินธุ์ | D88: เจ้าหน้าที่บันทึกข้อมูล | E88: สำนักงานเกษตรและสหกรณ์จังหวัดตราด | G88: P | N88: P | Q88: P
A89: 17 | B89: นาย | C89: สุรสิทธิ์ เพชรรัตน์ | D89: พนักงานขับรถ | E89: สำนักงานเกษตรและสหกรณ์จังหวัดตราด | F89: P | G89: P | H89: P | I89: P | J89: P | K89: P | L89: P | M89: P | N89: P | O89: P | P89: P | Q89: P | R89: P | S89: P | T89: P | U89: P
A90: 18 | B90: นาง | C90: วรรณา พรหมมา | D90: แม่บ้าน | E90: สำนักงานเกษตรและสหกรณ์จังหวัดตราด | G90: P | O90: P | S90: P
A91: สำนักงานเกษตรและสหกรณ์ จังหวัดปราจีนบุรี
A92: 1 | B92: นาย | C92: สุรเทพ​ กิจกล้า | D92: เกษตรและสหกรณ์จังหวัด | E92: สำนักงานเกษตรและสหกรณ์จังหวัดปราจีนบุรี | F92: P | G92: P | H92: P | I92: P | J92: P | K92: P | L92: P | M92: P | N92: P | O92: P | P92: P | Q92: P | R92: P | S92: P | T92: P | U92: P
A93: 2 | B93: นาง | C93: พรพรรณนี ใจเอื้อ | D93: นักวิเคราะห์นโยบายและแผนชำนาญการ | E93: สำนักงานเกษตรและสหกรณ์จังหวัดปราจีนบุรี | F93: P | G93: P | H93: P | I93: P | J93: P | K93: P | L93: P | M93: P | N93: P | O93: P | Q93: P | R93: P | S93: P | T93: P | U93: P
A94: 3 | B94: นาง | C94: นันธพร ทิพยาวงษ์ | D94: นักวิเคราะห์นโยบายและแผนชำนาญการ | E94: สำนักงานเกษตรและสหกรณ์จังหวัดปราจีนบุรี | H94: P | L94: P | Q94: P | R94: P | S94: P
A95: 4 | B95: นางสาว | C95: วัชราภรณ์ ศรีนุช | D95: นักวิเคราะห์นโยบายและแผนชำนาญการ | E95: สำนักงานเกษตรและสหกรณ์จังหวัดปราจีนบุรี | G95: P | H95: P | J95: P | M95: P | N95: P | O95: P | P95: P | Q95: P | R95: P | S95: P
A96: 5 | B96: พ.ต.ท. | C96: จีระศักดิ์ สุริยะ | D96: นักวิเคราะห์นโยบายและแผนปฏิบัติการ | E96: สำนักงานเกษตรและสหกรณ์จังหวัดปราจีนบุรี | F96: P | G96: P | H96: P | I96: P | J96: P | K96: P | L96: P | M96: P | N96: P | O96: P | P96: P | Q96: P | R96: P | S96: P | T96: P | U96: P
A97: 6 | B97: นางสาว | C97: กวินธิดา คำแหงผล | D97: นักวิเคราะห์นโยบายและแผนปฏิบัติการ | E97: สำนักงานเกษตรและสหกรณ์จังหวัดปราจีนบุรี | H97: P | J97: P | L97: P | M97: P | P97: P | Q97: P | R97: P | S97: P | T97: P | U97: P
A98: 7 | B98: นาง | C98: สุพัตร คงดี | D98: เจ้าพนักงานธุรการชำนาญงาน | E98: สำนักงานเกษตรและสหกรณ์จังหวัดปราจีนบุรี | H98: P | N98: P | Q98: P | R98: P | S98: P | T98: P | U98: P
A99: 8 | B99: นางสาว | C99: ศิตมน ปราบวงษา | D99: เจ้าพนักงานธุรการปฏิบัติงาน | E99: สำนักงานเกษตรและสหกรณ์จังหวัดปราจีนบุรี | F99: P | L99: P | S99: P
A100: 9 | B100: นาง | C100: จริยา บำรุงกิจ | D100: เจ้าพนักงานธุรการชำนาญงาน | E100: สำนักงานเกษตรและสหกรณ์จังหวัดปราจีนบุรี | G100: P | H100: P | I100: P | J100: P | K100: P | L100: P | M100: P | N100: P | Q100: P | S100: P | T100: P
A101: 10 | B101: นางสาว | C101: มนสิชา มีรส | D101: นักวิเคราะห์นโยบายและแผน | E101: สำนักงานเกษตรและสหกรณ์จังหวัดปราจีนบุรี | H101: P | M101: P | Q101: P
...
